Workbook
Name a: #REF!
Name a: #REF!
Name a: #REF!
Name a: #REF!
Name a: #REF!
Name a: #REF!
Name a: #REF!
Name a: #REF!
Name a: '[1]بيان ث أ'!$A$1:$D$1001
Name aa: #REF!
Name aa: #REF!
Name aa: #REF!
Name aa: #REF!
Name aa: #REF!
Name aa: #REF!
Name aa: #REF!
Name aa: #REF!
Name aa: '[1]بيان ث ع'!$A$1:$D$1001
Name asas: #REF!
Name asas: #REF!
Name asas: #REF!
Name asas: #REF!
Name asas: #REF!
Name asas: #REF!
Name asas: #REF!
Name asas: #REF!
Name asas: #REF!
Name asas: #REF!
Name asas: #REF!
Name asas: #REF!
Name asas: #REF!
Name asas: #REF!
Name asas: #REF!
Name asas: #REF!
Name asas: #REF!
Name asas: #REF!
Name asas: #REF!
Name asd: #REF!
Name asd: #REF!
Name asd: #REF!
Name asd: #REF!
Name asd: #REF!
Name asd: #REF!
Name asd: #REF!
Name asd: #REF!
Name asd: #REF!
Name asd: #REF!
Name asd: #REF!
Name asd: #REF!
Name asd: #REF!
Name asd: #REF!
Name asd: #REF!
Name asd: #REF!
Name asd: #REF!
Name asd: #REF!
Name asd: #REF!
Name asd: #REF!
Name asd: #REF!
Name bb: #REF!
Name bb: #REF!

Sheet الرئيسية
C1: الأزهر الشريف | D1: الأزهر الشريف
J10: 2026 / 2027 م

Sheet بيان ع
A1: م | B1: رقم الجلوس | C1: الاسم | D1: الفصل | H1: رقم الصفحة | O1: 1 | P1: أحمد محمد سلامه قاسم | Q1: 1/1 | S1: ج | T1: اسم | U1: فصل | V1: ="1/1" -> 1/1 | AD1: =AC1+AB1 -> 0
A2: 1 | D2: 1/1 | H2: 1 | J2: منطقة: | O2: 2 | P2: أحمد مصطفى حسين محمد | Q2: 1/1 | R2: مستجد | S2: 1 | T2: أحمد محمد سلامه قاسم | U2: 1/1 | V2: ="2/1" -> 2/1
A3: 2 | J3: إدارة | O3: 3 | P3: أحمد هاشم على محمد | Q3: 1/1 | R3: معيد | S3: 2 | T3: أحمد مصطفى حسين محمد | U3: 1/1 | V3: ="3/1" -> 3/1
A4: 3 | J4: معهد | O4: 4 | P4: إسلام جمال هاشم احمد | Q4: 1/1 | S4: 3 | T4: أحمد هاشم على محمد | U4: 1/1 | V4: ="4/1" -> 4/1
A5: 4 | J5: رئيس الكنترول | O5: 5 | P5: احمد ابراهيم احمد ابراهيم محمد ابوعليو | Q5: 1/1 | S5: 4 | T5: إسلام جمال هاشم احمد | U5: 1/1 | V5: ="5/1" -> 5/1
A6: 5 | J6: شيخ المعهد | O6: 6 | P6: احمد احمد حسن بكير | Q6: 1/1 | S6: 5 | T6: احمد ابراهيم احمد ابراهيم محمد ابوعليو | U6: 1/1 | V6: ="6/1" -> 6/1
A7: 6 | J7: العام الدراسي: | K7: 2026م/ 2027م | O7: 7 | P7: احمد بهجت حسين احمد حسن | Q7: 1/1 | S7: 6 | T7: احمد احمد حسن بكير | U7: 1/1 | V7: ="7/1" -> 7/1
A8: 7 | O8: 8 | P8: احمد جلال الدين عبد المعز عبد الحفيظ | Q8: 1/1 | S8: 7 | T8: احمد بهجت حسين احمد حسن | U8: 1/1 | V8: ="8/1" -> 8/1
A9: 8 | O9: 9 | P9: احمد جمال على عبد الحميد | Q9: 1/1 | S9: 8 | T9: احمد جلال الدين عبد المعز عبد الحفيظ | U9: 1/1 | V9: ="9/1" -> 9/1
A10: 9 | O10: 10 | P10: احمد حسن عمر محمد | Q10: 1/1 | S10: 9 | T10: احمد جمال على عبد الحميد | U10: 1/1 | V10: ="10/1" -> 10/1
A11: 10 | O11: 11 | P11: احمد حسن محمد عبدالله عمر | Q11: 1/1 | S11: 10 | T11: احمد حسن عمر محمد | U11: 1/1 | V11: ="1/2" -> 1/2
A12: 11 | O12: 12 | P12: احمد حمدى محمد ابوالعلا | Q12: 1/1 | S12: 11 | T12: احمد حسن محمد عبدالله عمر | U12: 1/1 | V12: ="2/2" -> 2/2
A13: 12 | J13: تعليمات | O13: 13 | P13: احمد سيد حسن احمد | Q13: 1/1 | S13: 12 | T13: احمد حمدى محمد ابوالعلا | U13: 1/1 | V13: ="3/2" -> 3/2
A14: 13 | J14: اضغط على أول خلية في عمود الفصل سوف يظهر سهم صغير اضغط عليه واختر الفصل | O14: 14 | P14: احمد سيد عبدالرحمن عبدالكريم | Q14: 1/1 | S14: 13 | T14: احمد سيد حسن احمد | U14: 1/1 | V14: ="4/2" -> 4/2
A15: 14 | O15: 15 | P15: احمد صابر احمد حسين محمد | Q15: 1/1 | S15: 14 | T15: احمد سيد عبدالرحمن عبدالكريم | U15: 1/1 | V15: ="5/2" -> 5/2
A16: 15 | O16: 16 | P16: احمد طه محمد محمد | Q16: 1/1 | S16: 15 | T16: احمد صابر احمد حسين محمد | U16: 1/1 | V16: ="6/2" -> 6/2
A17: 16 | O17: 17 | P17: احمد عادل صالح حسن | Q17: 1/1 | S17: 16 | T17: احمد طه محمد محمد | U17: 1/1 | V17: ="7/2" -> 7/2
A18: 17 | O18: 18 | P18: احمد عادل محمد ابراهيم على | Q18: 1/1 | S18: 17 | T18: احمد عادل صالح حسن | U18: 1/1 | V18: ="8/2" -> 8/2
A19: 18 | O19: 19 | P19: احمد عبد اللطيف محمد سيد | Q19: 1/1 | S19: 18 | T19: احمد عادل محمد ابراهيم على | U19: 1/1 | V19: ="9/2" -> 9/2
A20: 19 | O20: 20 | P20: احمد عبد الله احمد عبد الله | Q20: 1/1 | S20: 19 | T20: احمد عبد اللطيف محمد سيد | U20: 1/1 | V20: ="10/2" -> 10/2
A21: 20 | O21: 21 | P21: احمد عبد المنعم عبد الهادى حسين | Q21: 1/1 | S21: 20 | T21: احمد عبد الله احمد عبد الله | U21: 1/1 | V21: ="1/3" -> 1/3
A22: 21 | H22: 2 | O22: 22 | P22: احمد عبد الهادى مصطفى عبد الرحيم | Q22: 1/1 | S22: 21 | T22: احمد عبد المنعم عبد الهادى حسين | U22: 1/1 | V22: ="2/3" -> 2/3
A23: 22 | O23: 23 | P23: احمد عماد عبدالقادر عبدالحميد | Q23: 1/1 | S23: 22 | T23: احمد عبد الهادى مصطفى عبد الرحيم | U23: 1/1 | V23: ="3/3" -> 3/3
A24: 23 | O24: 24 | P24: احمد كمال محمود حسين | Q24: 1/1 | S24: 23 | T24: احمد عماد عبدالقادر عبدالحميد | U24: 1/1 | V24: ="4/3" -> 4/3
A25: 24 | O25: 25 | P25: احمد محمد احمد عبد الرحيم | Q25: 1/1 | S25: 24 | T25: احمد كمال محمود حسين | U25: 1/1 | V25: ="5/3" -> 5/3
A26: 25 | O26: 26 | P26: احمد محمد على محمد على | Q26: 1/1 | S26: 25 | T26: احمد محمد احمد عبد الرحيم | U26: 1/1 | V26: ="6/3" -> 6/3
A27: 26 | O27: 27 | P27: احمد محمود على محمد على | Q27: 1/1 | S27: 26 | T27: احمد محمد على محمد على | U27: 1/1 | V27: ="7/3" -> 7/3
A28: 27 | O28: 28 | P28: احمد هاشم احمد دردير | Q28: 1/1 | S28: 27 | T28: احمد محمود على محمد على | U28: 1/1 | V28: ="8/3" -> 8/3
A29: 28 | O29: 29 | P29: ادهم احمد حسين سلطان حسين | Q29: 1/1 | S29: 28 | T29: احمد هاشم احمد دردير | U29: 1/1 | V29: ="9/3" -> 9/3
A30: 29 | O30: 30 | P30: ادهم احمد محمود محمد | Q30: 1/1 | S30: 29 | T30: ادهم احمد حسين سلطان حسين | U30: 1/1 | V30: ="10/3" -> 10/3
A31: 30 | O31: 31 | P31: اسامه محمود محمد احمد | Q31: 1/1 | S31: 30 | T31: ادهم احمد محمود محمد | U31: 1/1 | V31: ="1/4" -> 1/4
A32: 31 | O32: 32 | P32: اسلام بدر حسين عبدالرحيم | Q32: 1/1 | S32: 31 | T32: اسامه محمود محمد احمد | U32: 1/1 | V32: ="2/4" -> 2/4
A33: 32 | O33: 33 | P33: اسلام جمال حسن محمد | Q33: 1/1 | S33: 32 | T33: اسلام بدر حسين عبدالرحيم | U33: 1/1 | V33: ="3/4" -> 3/4
A34: 33 | O34: 34 | P34: اسلام جمال عبد المنعم عبد الحميد | Q34: 1/1 | S34: 33 | T34: اسلام جمال حسن محمد | U34: 1/1 | V34: ="4/4" -> 4/4
A35: 34 | O35: 35 | P35: اسلام خالد احمد سيد | Q35: 1/1 | S35: 34 | T35: اسلام جمال عبد المنعم عبد الحميد | U35: 1/1 | V35: ="5/4" -> 5/4
A36: 35 | O36: 36 | P36: اسلام سلامه سيد قوشتى احمد | Q36: 1/1 | S36: 35 | T36: اسلام خالد احمد سيد | U36: 1/1 | V36: ="6/4" -> 6/4
A37: 36 | O37: 37 | P37: اسلام صلاح احمد عبد الحافظ محمد | Q37: 1/1 | S37: 36 | T37: اسلام سلامه سيد قوشتى احمد | U37: 1/1 | V37: ="7/4" -> 7/4
A38: 37 | O38: 38 | P38: اسلام على مصطفى على | Q38: 1/1 | S38: 37 | T38: اسلام صلاح احمد عبد الحافظ محمد | U38: 1/1 | V38: ="8/4" -> 8/4
A39: 38 | O39: 39 | P39: اسلام محمد على عبدالرحيم | Q39: 1/1 | S39: 38 | T39: اسلام على مصطفى على | U39: 1/1 | V39: ="9/4" -> 9/4
A40: 39 | O40: 40 | P40: اسلام مصطفى محمد عبد الرحيم | Q40: 1/1 | S40: 39 | T40: اسلام محمد على عبدالرحيم | U40: 1/1 | V40: ="10/4" -> 10/4
...

Sheet طباعة

Sheet 1

Sheet 2

Sheet 3

Sheet 4

Sheet 5

Sheet 6

Sheet الثالث
C1: الأزهر الشريف | Z1: الثالث الابتدائي | AA1: غ | AB1: 1 | AC1: =SUM(AA1:AB1)+SUM(Y1:Z1) -> 1 | AD1: =AC1/2 -> 0.5 | AE1: مستجد | AF1: معيد | AI1: الثالث الابتدائي | AJ1: التربية الإسلامية | AQ1: فصل
C2: منطقة: | D2: ='بيان ع'!K2 -> 0 | I2: كشف تقييم الصف | L2: الثالث الابتدائي | AE2: =COUNTIF(#REF!,AG2) -> #REF! | AF2: =COUNTIF(#REF!,AG3) -> #REF! | AG2: مستجد | AI2: الرابع الابتدائي | AJ2: اللغة العربية
C3: إدارة: | D3: ='بيان ع'!K3 -> 0 | I3: مـــــــــادة: | L3: =Z3 -> التربية الإسلامية | P3: =Z5 -> 1/1 | Y3: اختر المادة | Z3: التربية الإسلامية | AE3: =COUNTIF(#REF!,AG2) -> #REF! | AF3: =COUNTIF(#REF!,AG3) -> #REF! | AG3: معيد | AI3: الخامس الابتدائي | AJ3: الرياضيات
C4: معهد: | D4: ='بيان ع'!K4 -> 0 | I4: عام: | J4: ='بيان ع'!K7 -> 2026م/ 2027م | AI4: السادس الابتدائي | AJ4: العلوم
C5: جلوس | D5: الاســــم | E5: الشهر الأول | I5: الشهر الثاني | M5: الشهر الثالث | P5: متوسط التقييمات | Q5: متوسط المواظبة والسلوك | R5: اختبار الشهور | U5: مجموع التقييمات والشهور | V5: فصل دراسي | W5: المجموع | Y5: اختر الفصل | Z5: 1/1 | AJ5: الإنجليزي
E6: تقييم( 1 ) | F6: تقييم( 2 ) | G6: مواظبة وسلوك | H6: المجموع | I6: تقييم( 1 ) | J6: تقييم( 2 ) | K6: مواظبة وسلوك | L6: المجموع | M6: تقييم( 1 ) | N6: مواظبة وسلوك | O6: المجموع | R6: الشهر الأول | S6: الشهر الثاني | T6: المجموع
A7: م | B7: م | E7: 7.5 | F7: 7.5 | G7: 15 | H7: 30 | I7: 7.5 | J7: 7.5 | K7: 15 | L7: 30 | M7: 15 | N7: 15 | O7: 30 | P7: 15 | Q7: 15 | R7: 5 | S7: 5 | T7: 10 | U7: 30 | V7: 60 | W7: 100
A8: =(IF($Z$5='بيان ع'!D2,ROW('بيان ع'!2:2)-1,yyyyy)) -> 1 | B8: =IFERROR(_xlfn.AGGREGATE(15,6,$A$8:$A$1010,ROW(A1)),"") -> 1 | C8: =IFERROR(VLOOKUP(B8,m,2,0),"") -> 0 | D8: =IFERROR(VLOOKUP(B8,m,3,0),"") -> 0 | AJ8: 0
A9: =(IF($Z$5='بيان ع'!D3,ROW('بيان ع'!3:3)-1,yyyyy)) -> #NAME? | B9: =IFERROR(_xlfn.AGGREGATE(15,6,$A$8:$A$1010,ROW(A2)),"") | C9: =IFERROR(VLOOKUP(B9,m,2,0),"") | D9: =IFERROR(VLOOKUP(B9,m,3,0),"")
A10: =(IF($Z$5='بيان ع'!D4,ROW('بيان ع'!4:4)-1,yyyyy)) -> #NAME? | B10: =IFERROR(_xlfn.AGGREGATE(15,6,$A$8:$A$1010,ROW(A3)),"") | C10: =IFERROR(VLOOKUP(B10,m,2,0),"") | D10: =IFERROR(VLOOKUP(B10,m,3,0),"")
A11: =(IF($Z$5='بيان ع'!D5,ROW('بيان ع'!5:5)-1,yyyyy)) -> #NAME? | B11: =IFERROR(_xlfn.AGGREGATE(15,6,$A$8:$A$1010,ROW(A4)),"") | C11: =IFERROR(VLOOKUP(B11,m,2,0),"") | D11: =IFERROR(VLOOKUP(B11,m,3,0),"")
A12: =(IF($Z$5='بيان ع'!D6,ROW('بيان ع'!6:6)-1,yyyyy)) -> #NAME? | B12: =IFERROR(_xlfn.AGGREGATE(15,6,$A$8:$A$1010,ROW(A5)),"") | C12: =IFERROR(VLOOKUP(B12,m,2,0),"") | D12: =IFERROR(VLOOKUP(B12,m,3,0),"")
A13: =(IF($Z$5='بيان ع'!D7,ROW('بيان ع'!7:7)-1,yyyyy)) -> #NAME? | B13: =IFERROR(_xlfn.AGGREGATE(15,6,$A$8:$A$1010,ROW(A6)),"") | C13: =IFERROR(VLOOKUP(B13,m,2,0),"") | D13: =IFERROR(VLOOKUP(B13,m,3,0),"")
A14: =(IF($Z$5='بيان ع'!D8,ROW('بيان ع'!8:8)-1,yyyyy)) -> #NAME? | B14: =IFERROR(_xlfn.AGGREGATE(15,6,$A$8:$A$1010,ROW(A7)),"") | C14: =IFERROR(VLOOKUP(B14,m,2,0),"") | D14: =IFERROR(VLOOKUP(B14,m,3,0),"")
A15: =(IF($Z$5='بيان ع'!D9,ROW('بيان ع'!9:9)-1,yyyyy)) -> #NAME? | B15: =IFERROR(_xlfn.AGGREGATE(15,6,$A$8:$A$1010,ROW(A8)),"") | C15: =IFERROR(VLOOKUP(B15,m,2,0),"") | D15: =IFERROR(VLOOKUP(B15,m,3,0),"")
A16: =(IF($Z$5='بيان ع'!D10,ROW('بيان ع'!10:10)-1,yyyyy)) -> #NAME? | B16: =IFERROR(_xlfn.AGGREGATE(15,6,$A$8:$A$1010,ROW(A9)),"") | C16: =IFERROR(VLOOKUP(B16,m,2,0),"") | D16: =IFERROR(VLOOKUP(B16,m,3,0),"")
A17: =(IF($Z$5='بيان ع'!D11,ROW('بيان ع'!11:11)-1,yyyyy)) -> #NAME? | B17: =IFERROR(_xlfn.AGGREGATE(15,6,$A$8:$A$1010,ROW(A10)),"") | C17: =IFERROR(VLOOKUP(B17,m,2,0),"") | D17: =IFERROR(VLOOKUP(B17,m,3,0),"")
A18: =(IF($Z$5='بيان ع'!D12,ROW('بيان ع'!12:12)-1,yyyyy)) -> #NAME? | B18: =IFERROR(_xlfn.AGGREGATE(15,6,$A$8:$A$1010,ROW(A11)),"") | C18: =IFERROR(VLOOKUP(B18,m,2,0),"") | D18: =IFERROR(VLOOKUP(B18,m,3,0),"")
A19: =(IF($Z$5='بيان ع'!D13,ROW('بيان ع'!13:13)-1,yyyyy)) -> #NAME? | B19: =IFERROR(_xlfn.AGGREGATE(15,6,$A$8:$A$1010,ROW(A12)),"") | C19: =IFERROR(VLOOKUP(B19,m,2,0),"") | D19: =IFERROR(VLOOKUP(B19,m,3,0),"")
A20: =(IF($Z$5='بيان ع'!D14,ROW('بيان ع'!14:14)-1,yyyyy)) -> #NAME? | B20: =IFERROR(_xlfn.AGGREGATE(15,6,$A$8:$A$1010,ROW(A13)),"") | C20: =IFERROR(VLOOKUP(B20,m,2,0),"") | D20: =IFERROR(VLOOKUP(B20,m,3,0),"")
A21: =(IF($Z$5='بيان ع'!D15,ROW('بيان ع'!15:15)-1,yyyyy)) -> #NAME? | B21: =IFERROR(_xlfn.AGGREGATE(15,6,$A$8:$A$1010,ROW(A14)),"") | C21: =IFERROR(VLOOKUP(B21,m,2,0),"") | D21: =IFERROR(VLOOKUP(B21,m,3,0),"")
A22: =(IF($Z$5='بيان ع'!D16,ROW('بيان ع'!16:16)-1,yyyyy)) -> #NAME? | B22: =IFERROR(_xlfn.AGGREGATE(15,6,$A$8:$A$1010,ROW(A15)),"") | C22: =IFERROR(VLOOKUP(B22,m,2,0),"") | D22: =IFERROR(VLOOKUP(B22,m,3,0),"")
A23: =(IF($Z$5='بيان ع'!D17,ROW('بيان ع'!17:17)-1,yyyyy)) -> #NAME? | B23: =IFERROR(_xlfn.AGGREGATE(15,6,$A$8:$A$1010,ROW(A16)),"") | C23: =IFERROR(VLOOKUP(B23,m,2,0),"") | D23: =IFERROR(VLOOKUP(B23,m,3,0),"")
A24: =(IF($Z$5='بيان ع'!D18,ROW('بيان ع'!18:18)-1,yyyyy)) -> #NAME? | B24: =IFERROR(_xlfn.AGGREGATE(15,6,$A$8:$A$1010,ROW(A17)),"") | C24: =IFERROR(VLOOKUP(B24,m,2,0),"") | D24: =IFERROR(VLOOKUP(B24,m,3,0),"")
A25: =(IF($Z$5='بيان ع'!D19,ROW('بيان ع'!19:19)-1,yyyyy)) -> #NAME? | B25: =IFERROR(_xlfn.AGGREGATE(15,6,$A$8:$A$1010,ROW(A18)),"") | C25: =IFERROR(VLOOKUP(B25,m,2,0),"") | D25: =IFERROR(VLOOKUP(B25,m,3,0),"")
A26: =(IF($Z$5='بيان ع'!D20,ROW('بيان ع'!20:20)-1,yyyyy)) -> #NAME? | B26: =IFERROR(_xlfn.AGGREGATE(15,6,$A$8:$A$1010,ROW(A19)),"") | C26: =IFERROR(VLOOKUP(B26,m,2,0),"") | D26: =IFERROR(VLOOKUP(B26,m,3,0),"")
A27: =(IF($Z$5='بيان ع'!D21,ROW('بيان ع'!21:21)-1,yyyyy)) -> #NAME? | B27: =IFERROR(_xlfn.AGGREGATE(15,6,$A$8:$A$1010,ROW(A20)),"") | C27: =IFERROR(VLOOKUP(B27,m,2,0),"") | D27: =IFERROR(VLOOKUP(B27,m,3,0),"")
A28: =(IF($Z$5='بيان ع'!D22,ROW('بيان ع'!22:22)-1,yyyyy)) -> #NAME? | B28: =IFERROR(_xlfn.AGGREGATE(15,6,$A$8:$A$1010,ROW(A21)),"") | C28: =IFERROR(VLOOKUP(B28,m,2,0),"") | D28: =IFERROR(VLOOKUP(B28,m,3,0),"")
A29: =(IF($Z$5='بيان ع'!D23,ROW('بيان ع'!23:23)-1,yyyyy)) -> #NAME? | B29: =IFERROR(_xlfn.AGGREGATE(15,6,$A$8:$A$1010,ROW(A22)),"") | C29: =IFERROR(VLOOKUP(B29,m,2,0),"") | D29: =IFERROR(VLOOKUP(B29,m,3,0),"")
A30: =(IF($Z$5='بيان ع'!D24,ROW('بيان ع'!24:24)-1,yyyyy)) -> #NAME? | B30: =IFERROR(_xlfn.AGGREGATE(15,6,$A$8:$A$1010,ROW(A23)),"") | C30: =IFERROR(VLOOKUP(B30,m,2,0),"") | D30: =IFERROR(VLOOKUP(B30,m,3,0),"")
A31: =(IF($Z$5='بيان ع'!D25,ROW('بيان ع'!25:25)-1,yyyyy)) -> #NAME? | B31: =IFERROR(_xlfn.AGGREGATE(15,6,$A$8:$A$1010,ROW(A24)),"") | C31: =IFERROR(VLOOKUP(B31,m,2,0),"") | D31: =IFERROR(VLOOKUP(B31,m,3,0),"")
A32: =(IF($Z$5='بيان ع'!D26,ROW('بيان ع'!26:26)-1,yyyyy)) -> #NAME? | B32: =IFERROR(_xlfn.AGGREGATE(15,6,$A$8:$A$1010,ROW(A25)),"") | C32: =IFERROR(VLOOKUP(B32,m,2,0),"") | D32: =IFERROR(VLOOKUP(B32,m,3,0),"")
A33: =(IF($Z$5='بيان ع'!D27,ROW('بيان ع'!27:27)-1,yyyyy)) -> #NAME? | B33: =IFERROR(_xlfn.AGGREGATE(15,6,$A$8:$A$1010,ROW(A26)),"") | C33: =IFERROR(VLOOKUP(B33,m,2,0),"") | D33: =IFERROR(VLOOKUP(B33,m,3,0),"")
A34: =(IF($Z$5='بيان ع'!D28,ROW('بيان ع'!28:28)-1,yyyyy)) -> #NAME? | B34: =IFERROR(_xlfn.AGGREGATE(15,6,$A$8:$A$1010,ROW(A27)),"") | C34: =IFERROR(VLOOKUP(B34,m,2,0),"") | D34: =IFERROR(VLOOKUP(B34,m,3,0),"")
A35: =(IF($Z$5='بيان ع'!D29,ROW('بيان ع'!29:29)-1,yyyyy)) -> #NAME? | B35: =IFERROR(_xlfn.AGGREGATE(15,6,$A$8:$A$1010,ROW(A28)),"") | C35: =IFERROR(VLOOKUP(B35,m,2,0),"") | D35: =IFERROR(VLOOKUP(B35,m,3,0),"")
A36: =(IF($Z$5='بيان ع'!D30,ROW('بيان ع'!30:30)-1,yyyyy)) -> #NAME? | B36: =IFERROR(_xlfn.AGGREGATE(15,6,$A$8:$A$1010,ROW(A29)),"") | C36: =IFERROR(VLOOKUP(B36,m,2,0),"") | D36: =IFERROR(VLOOKUP(B36,m,3,0),"")
A37: =(IF($Z$5='بيان ع'!D31,ROW('بيان ع'!31:31)-1,yyyyy)) -> #NAME? | B37: =IFERROR(_xlfn.AGGREGATE(15,6,$A$8:$A$1010,ROW(A30)),"") | C37: =IFERROR(VLOOKUP(B37,m,2,0),"") | D37: =IFERROR(VLOOKUP(B37,m,3,0),"")
A38: =(IF($Z$5='بيان ع'!D32,ROW('بيان ع'!32:32)-1,yyyyy)) -> #NAME? | B38: =IFERROR(_xlfn.AGGREGATE(15,6,$A$8:$A$1010,ROW(A31)),"") | C38: =IFERROR(VLOOKUP(B38,m,2,0),"") | D38: =IFERROR(VLOOKUP(B38,m,3,0),"")
A39: =(IF($Z$5='بيان ع'!D33,ROW('بيان ع'!33:33)-1,yyyyy)) -> #NAME? | B39: =IFERROR(_xlfn.AGGREGATE(15,6,$A$8:$A$1010,ROW(A32)),"") | C39: =IFERROR(VLOOKUP(B39,m,2,0),"") | D39: =IFERROR(VLOOKUP(B39,m,3,0),"")
A40: =(IF($Z$5='بيان ع'!D34,ROW('بيان ع'!34:34)-1,yyyyy)) -> #NAME? | B40: =IFERROR(_xlfn.AGGREGATE(15,6,$A$8:$A$1010,ROW(A33)),"") | C40: =IFERROR(VLOOKUP(B40,m,2,0),"") | D40: =IFERROR(VLOOKUP(B40,m,3,0),"")
...

Sheet الرابع
C1: الأزهر الشريف | AA1: غ | AB1: 1 | AC1: =SUM(AA1:AB1)+SUM(Y1:Z1) -> 1 | AD1: =AC1/2 -> 0.5 | AE1: مستجد | AF1: معيد | AI1: الثالث الابتدائي | AQ1: فصل
C2: منطقة: | D2: ='بيان ع'!K2 -> 0 | I2: كشف تقييم الصف | L2: الرابع الابتدائي | AE2: =COUNTIF(#REF!,AG2) -> #REF! | AF2: =COUNTIF(#REF!,AG3) -> #REF! | AG2: مستجد | AI2: الرابع الابتدائي
C3: إدارة: | D3: ='بيان ع'!K3 -> 0 | I3: مـــــــــادة: | L3: =Z3 -> التربية الإسلامية | P3: =Z5 -> 1/1 | Y3: اختر المادة | Z3: التربية الإسلامية | AE3: =COUNTIF(#REF!,AG2) -> #REF! | AF3: =COUNTIF(#REF!,AG3) -> #REF! | AG3: معيد | AI3: الخامس الابتدائي | AJ3: التربية الإسلامية
C4: معهد: | D4: ='بيان ع'!K4 -> 0 | I4: عام: | J4: ='بيان ع'!K7 -> 2026م/ 2027م | AI4: السادس الابتدائي | AJ4: اللغة العربية والخط
C5: جلوس | D5: الاســــم | E5: الشهر الأول | I5: الشهر الثاني | M5: الشهر الثالث | P5: متوسط التقييمات | Q5: متوسط المواظبة والسلوك | R5: اختبار الشهور | U5: مجموع التقييمات والشهور | V5: فصل دراسي | W5: المجموع | Y5: اختر الفصل | Z5: 1/1 | AJ5: الرياضيات
E6: تقييم( 1 ) | F6: تقييم( 2 ) | G6: مواظبة وسلوك | H6: المجموع | I6: تقييم( 1 ) | J6: تقييم( 2 ) | K6: مواظبة وسلوك | L6: المجموع | M6: تقييم( 1 ) | N6: مواظبة وسلوك | O6: المجموع | R6: الشهر الأول | S6: الشهر الثاني | T6: المجموع | AJ6: العلوم
A7: م | B7: م | E7: 7.5 | F7: 7.5 | G7: 15 | H7: 30 | I7: 7.5 | J7: 7.5 | K7: 15 | L7: 30 | M7: 15 | N7: 15 | O7: 30 | P7: 15 | Q7: 15 | R7: 5 | S7: 5 | T7: 10 | U7: 30 | V7: 60 | W7: 100 | AJ7: الدراسات الاجتماعية
A8: =(IF($Z$5='بيان ع'!D2,ROW('بيان ع'!2:2)-1,yyyyy)) -> 1 | B8: =IFERROR(_xlfn.AGGREGATE(15,6,$A$8:$A$1010,ROW(A1)),"") -> 1 | C8: =IFERROR(VLOOKUP(B8,m,2,0),"") -> 0 | D8: =IFERROR(VLOOKUP(B8,m,3,0),"") -> 0 | AJ8: الإنجليزي
A9: =(IF($Z$5='بيان ع'!D3,ROW('بيان ع'!3:3)-1,yyyyy)) -> #NAME? | B9: =IFERROR(_xlfn.AGGREGATE(15,6,$A$8:$A$1010,ROW(A2)),"") | C9: =IFERROR(VLOOKUP(B9,m,2,0),"") | D9: =IFERROR(VLOOKUP(B9,m,3,0),"")
A10: =(IF($Z$5='بيان ع'!D4,ROW('بيان ع'!4:4)-1,yyyyy)) -> #NAME? | B10: =IFERROR(_xlfn.AGGREGATE(15,6,$A$8:$A$1010,ROW(A3)),"") | C10: =IFERROR(VLOOKUP(B10,m,2,0),"") | D10: =IFERROR(VLOOKUP(B10,m,3,0),"")
A11: =(IF($Z$5='بيان ع'!D5,ROW('بيان ع'!5:5)-1,yyyyy)) -> #NAME? | B11: =IFERROR(_xlfn.AGGREGATE(15,6,$A$8:$A$1010,ROW(A4)),"") | C11: =IFERROR(VLOOKUP(B11,m,2,0),"") | D11: =IFERROR(VLOOKUP(B11,m,3,0),"")
A12: =(IF($Z$5='بيان ع'!D6,ROW('بيان ع'!6:6)-1,yyyyy)) -> #NAME? | B12: =IFERROR(_xlfn.AGGREGATE(15,6,$A$8:$A$1010,ROW(A5)),"") | C12: =IFERROR(VLOOKUP(B12,m,2,0),"") | D12: =IFERROR(VLOOKUP(B12,m,3,0),"")
A13: =(IF($Z$5='بيان ع'!D7,ROW('بيان ع'!7:7)-1,yyyyy)) -> #NAME? | B13: =IFERROR(_xlfn.AGGREGATE(15,6,$A$8:$A$1010,ROW(A6)),"") | C13: =IFERROR(VLOOKUP(B13,m,2,0),"") | D13: =IFERROR(VLOOKUP(B13,m,3,0),"")
A14: =(IF($Z$5='بيان ع'!D8,ROW('بيان ع'!8:8)-1,yyyyy)) -> #NAME? | B14: =IFERROR(_xlfn.AGGREGATE(15,6,$A$8:$A$1010,ROW(A7)),"") | C14: =IFERROR(VLOOKUP(B14,m,2,0),"") | D14: =IFERROR(VLOOKUP(B14,m,3,0),"")
A15: =(IF($Z$5='بيان ع'!D9,ROW('بيان ع'!9:9)-1,yyyyy)) -> #NAME? | B15: =IFERROR(_xlfn.AGGREGATE(15,6,$A$8:$A$1010,ROW(A8)),"") | C15: =IFERROR(VLOOKUP(B15,m,2,0),"") | D15: =IFERROR(VLOOKUP(B15,m,3,0),"")
A16: =(IF($Z$5='بيان ع'!D10,ROW('بيان ع'!10:10)-1,yyyyy)) -> #NAME? | B16: =IFERROR(_xlfn.AGGREGATE(15,6,$A$8:$A$1010,ROW(A9)),"") | C16: =IFERROR(VLOOKUP(B16,m,2,0),"") | D16: =IFERROR(VLOOKUP(B16,m,3,0),"")
A17: =(IF($Z$5='بيان ع'!D11,ROW('بيان ع'!11:11)-1,yyyyy)) -> #NAME? | B17: =IFERROR(_xlfn.AGGREGATE(15,6,$A$8:$A$1010,ROW(A10)),"") | C17: =IFERROR(VLOOKUP(B17,m,2,0),"") | D17: =IFERROR(VLOOKUP(B17,m,3,0),"")
A18: =(IF($Z$5='بيان ع'!D12,ROW('بيان ع'!12:12)-1,yyyyy)) -> #NAME? | B18: =IFERROR(_xlfn.AGGREGATE(15,6,$A$8:$A$1010,ROW(A11)),"") | C18: =IFERROR(VLOOKUP(B18,m,2,0),"") | D18: =IFERROR(VLOOKUP(B18,m,3,0),"")
A19: =(IF($Z$5='بيان ع'!D13,ROW('بيان ع'!13:13)-1,yyyyy)) -> #NAME? | B19: =IFERROR(_xlfn.AGGREGATE(15,6,$A$8:$A$1010,ROW(A12)),"") | C19: =IFERROR(VLOOKUP(B19,m,2,0),"") | D19: =IFERROR(VLOOKUP(B19,m,3,0),"")
A20: =(IF($Z$5='بيان ع'!D14,ROW('بيان ع'!14:14)-1,yyyyy)) -> #NAME? | B20: =IFERROR(_xlfn.AGGREGATE(15,6,$A$8:$A$1010,ROW(A13)),"") | C20: =IFERROR(VLOOKUP(B20,m,2,0),"") | D20: =IFERROR(VLOOKUP(B20,m,3,0),"")
A21: =(IF($Z$5='بيان ع'!D15,ROW('بيان ع'!15:15)-1,yyyyy)) -> #NAME? | B21: =IFERROR(_xlfn.AGGREGATE(15,6,$A$8:$A$1010,ROW(A14)),"") | C21: =IFERROR(VLOOKUP(B21,m,2,0),"") | D21: =IFERROR(VLOOKUP(B21,m,3,0),"")
A22: =(IF($Z$5='بيان ع'!D16,ROW('بيان ع'!16:16)-1,yyyyy)) -> #NAME? | B22: =IFERROR(_xlfn.AGGREGATE(15,6,$A$8:$A$1010,ROW(A15)),"") | C22: =IFERROR(VLOOKUP(B22,m,2,0),"") | D22: =IFERROR(VLOOKUP(B22,m,3,0),"")
A23: =(IF($Z$5='بيان ع'!D17,ROW('بيان ع'!17:17)-1,yyyyy)) -> #NAME? | B23: =IFERROR(_xlfn.AGGREGATE(15,6,$A$8:$A$1010,ROW(A16)),"") | C23: =IFERROR(VLOOKUP(B23,m,2,0),"") | D23: =IFERROR(VLOOKUP(B23,m,3,0),"")
A24: =(IF($Z$5='بيان ع'!D18,ROW('بيان ع'!18:18)-1,yyyyy)) -> #NAME? | B24: =IFERROR(_xlfn.AGGREGATE(15,6,$A$8:$A$1010,ROW(A17)),"") | C24: =IFERROR(VLOOKUP(B24,m,2,0),"") | D24: =IFERROR(VLOOKUP(B24,m,3,0),"")
A25: =(IF($Z$5='بيان ع'!D19,ROW('بيان ع'!19:19)-1,yyyyy)) -> #NAME? | B25: =IFERROR(_xlfn.AGGREGATE(15,6,$A$8:$A$1010,ROW(A18)),"") | C25: =IFERROR(VLOOKUP(B25,m,2,0),"") | D25: =IFERROR(VLOOKUP(B25,m,3,0),"")
A26: =(IF($Z$5='بيان ع'!D20,ROW('بيان ع'!20:20)-1,yyyyy)) -> #NAME? | B26: =IFERROR(_xlfn.AGGREGATE(15,6,$A$8:$A$1010,ROW(A19)),"") | C26: =IFERROR(VLOOKUP(B26,m,2,0),"") | D26: =IFERROR(VLOOKUP(B26,m,3,0),"")
A27: =(IF($Z$5='بيان ع'!D21,ROW('بيان ع'!21:21)-1,yyyyy)) -> #NAME? | B27: =IFERROR(_xlfn.AGGREGATE(15,6,$A$8:$A$1010,ROW(A20)),"") | C27: =IFERROR(VLOOKUP(B27,m,2,0),"") | D27: =IFERROR(VLOOKUP(B27,m,3,0),"")
A28: =(IF($Z$5='بيان ع'!D22,ROW('بيان ع'!22:22)-1,yyyyy)) -> #NAME? | B28: =IFERROR(_xlfn.AGGREGATE(15,6,$A$8:$A$1010,ROW(A21)),"") | C28: =IFERROR(VLOOKUP(B28,m,2,0),"") | D28: =IFERROR(VLOOKUP(B28,m,3,0),"")
A29: =(IF($Z$5='بيان ع'!D23,ROW('بيان ع'!23:23)-1,yyyyy)) -> #NAME? | B29: =IFERROR(_xlfn.AGGREGATE(15,6,$A$8:$A$1010,ROW(A22)),"") | C29: =IFERROR(VLOOKUP(B29,m,2,0),"") | D29: =IFERROR(VLOOKUP(B29,m,3,0),"")
A30: =(IF($Z$5='بيان ع'!D24,ROW('بيان ع'!24:24)-1,yyyyy)) -> #NAME? | B30: =IFERROR(_xlfn.AGGREGATE(15,6,$A$8:$A$1010,ROW(A23)),"") | C30: =IFERROR(VLOOKUP(B30,m,2,0),"") | D30: =IFERROR(VLOOKUP(B30,m,3,0),"")
A31: =(IF($Z$5='بيان ع'!D25,ROW('بيان ع'!25:25)-1,yyyyy)) -> #NAME? | B31: =IFERROR(_xlfn.AGGREGATE(15,6,$A$8:$A$1010,ROW(A24)),"") | C31: =IFERROR(VLOOKUP(B31,m,2,0),"") | D31: =IFERROR(VLOOKUP(B31,m,3,0),"")
A32: =(IF($Z$5='بيان ع'!D26,ROW('بيان ع'!26:26)-1,yyyyy)) -> #NAME? | B32: =IFERROR(_xlfn.AGGREGATE(15,6,$A$8:$A$1010,ROW(A25)),"") | C32: =IFERROR(VLOOKUP(B32,m,2,0),"") | D32: =IFERROR(VLOOKUP(B32,m,3,0),"")
A33: =(IF($Z$5='بيان ع'!D27,ROW('بيان ع'!27:27)-1,yyyyy)) -> #NAME? | B33: =IFERROR(_xlfn.AGGREGATE(15,6,$A$8:$A$1010,ROW(A26)),"") | C33: =IFERROR(VLOOKUP(B33,m,2,0),"") | D33: =IFERROR(VLOOKUP(B33,m,3,0),"")
A34: =(IF($Z$5='بيان ع'!D28,ROW('بيان ع'!28:28)-1,yyyyy)) -> #NAME? | B34: =IFERROR(_xlfn.AGGREGATE(15,6,$A$8:$A$1010,ROW(A27)),"") | C34: =IFERROR(VLOOKUP(B34,m,2,0),"") | D34: =IFERROR(VLOOKUP(B34,m,3,0),"")
A35: =(IF($Z$5='بيان ع'!D29,ROW('بيان ع'!29:29)-1,yyyyy)) -> #NAME? | B35: =IFERROR(_xlfn.AGGREGATE(15,6,$A$8:$A$1010,ROW(A28)),"") | C35: =IFERROR(VLOOKUP(B35,m,2,0),"") | D35: =IFERROR(VLOOKUP(B35,m,3,0),"")
A36: =(IF($Z$5='بيان ع'!D30,ROW('بيان ع'!30:30)-1,yyyyy)) -> #NAME? | B36: =IFERROR(_xlfn.AGGREGATE(15,6,$A$8:$A$1010,ROW(A29)),"") | C36: =IFERROR(VLOOKUP(B36,m,2,0),"") | D36: =IFERROR(VLOOKUP(B36,m,3,0),"")
A37: =(IF($Z$5='بيان ع'!D31,ROW('بيان ع'!31:31)-1,yyyyy)) -> #NAME? | B37: =IFERROR(_xlfn.AGGREGATE(15,6,$A$8:$A$1010,ROW(A30)),"") | C37: =IFERROR(VLOOKUP(B37,m,2,0),"") | D37: =IFERROR(VLOOKUP(B37,m,3,0),"")
A38: =(IF($Z$5='بيان ع'!D32,ROW('بيان ع'!32:32)-1,yyyyy)) -> #NAME? | B38: =IFERROR(_xlfn.AGGREGATE(15,6,$A$8:$A$1010,ROW(A31)),"") | C38: =IFERROR(VLOOKUP(B38,m,2,0),"") | D38: =IFERROR(VLOOKUP(B38,m,3,0),"")
A39: =(IF($Z$5='بيان ع'!D33,ROW('بيان ع'!33:33)-1,yyyyy)) -> #NAME? | B39: =IFERROR(_xlfn.AGGREGATE(15,6,$A$8:$A$1010,ROW(A32)),"") | C39: =IFERROR(VLOOKUP(B39,m,2,0),"") | D39: =IFERROR(VLOOKUP(B39,m,3,0),"")
A40: =(IF($Z$5='بيان ع'!D34,ROW('بيان ع'!34:34)-1,yyyyy)) -> #NAME? | B40: =IFERROR(_xlfn.AGGREGATE(15,6,$A$8:$A$1010,ROW(A33)),"") | C40: =IFERROR(VLOOKUP(B40,m,2,0),"") | D40: =IFERROR(VLOOKUP(B40,m,3,0),"")
...

Sheet الخامس
C1: الأزهر الشريف | AA1: غ | AB1: 1 | AC1: =SUM(AA1:AB1)+SUM(Y1:Z1) -> 1 | AD1: =AC1/2 -> 0.5 | AE1: مستجد | AF1: معيد | AI1: الثالث الابتدائي | AQ1: فصل
C2: منطقة: | D2: ='بيان ع'!K2 -> 0 | I2: كشف تقييم الصف | L2: الخامس الابتدائي | AE2: =COUNTIF(#REF!,AG2) -> #REF! | AF2: =COUNTIF(#REF!,AG3) -> #REF! | AG2: مستجد | AI2: الرابع الابتدائي
C3: إدارة: | D3: ='بيان ع'!K3 -> 0 | I3: مـــــــــادة: | L3: =Z3 -> التربية الإسلامية | P3: =Z5 -> 1/1 | Y3: اختر المادة | Z3: التربية الإسلامية | AE3: =COUNTIF(#REF!,AG2) -> #REF! | AF3: =COUNTIF(#REF!,AG3) -> #REF! | AG3: معيد | AI3: الخامس الابتدائي | AJ3: التربية الإسلامية
C4: معهد: | D4: ='بيان ع'!K4 -> 0 | I4: عام: | J4: ='بيان ع'!K7 -> 2026م/ 2027م | AI4: السادس الابتدائي | AJ4: اللغة العربية والخط
C5: جلوس | D5: الاســــم | E5: الشهر الأول | I5: الشهر الثاني | M5: الشهر الثالث | P5: متوسط التقييمات | Q5: متوسط المواظبة والسلوك | R5: اختبار الشهور | U5: مجموع التقييمات والشهور | V5: فصل دراسي | W5: المجموع | Y5: اختر الفصل | Z5: 1/1 | AJ5: الرياضيات
E6: تقييم( 1 ) | F6: تقييم( 2 ) | G6: مواظبة وسلوك | H6: المجموع | I6: تقييم( 1 ) | J6: تقييم( 2 ) | K6: مواظبة وسلوك | L6: المجموع | M6: تقييم( 1 ) | N6: مواظبة وسلوك | O6: المجموع | R6: الشهر الأول | S6: الشهر الثاني | T6: المجموع | AJ6: العلوم
A7: م | B7: م | E7: 7.5 | F7: 7.5 | G7: 15 | H7: 30 | I7: 7.5 | J7: 7.5 | K7: 15 | L7: 30 | M7: 15 | N7: 15 | O7: 30 | P7: 15 | Q7: 15 | R7: 5 | S7: 5 | T7: 10 | U7: 30 | V7: 60 | W7: 100 | AJ7: الدراسات الاجتماعية
A8: =(IF($Z$5='بيان ع'!D2,ROW('بيان ع'!2:2)-1,yyyyy)) -> 1 | B8: =IFERROR(_xlfn.AGGREGATE(15,6,$A$8:$A$1010,ROW(A1)),"") -> 1 | C8: =IFERROR(VLOOKUP(B8,m,2,0),"") -> 0 | D8: =IFERROR(VLOOKUP(B8,m,3,0),"") -> 0 | AJ8: الإنجليزي
A9: =(IF($Z$5='بيان ع'!D3,ROW('بيان ع'!3:3)-1,yyyyy)) -> #NAME? | B9: =IFERROR(_xlfn.AGGREGATE(15,6,$A$8:$A$1010,ROW(A2)),"") | C9: =IFERROR(VLOOKUP(B9,m,2,0),"") | D9: =IFERROR(VLOOKUP(B9,m,3,0),"")
A10: =(IF($Z$5='بيان ع'!D4,ROW('بيان ع'!4:4)-1,yyyyy)) -> #NAME? | B10: =IFERROR(_xlfn.AGGREGATE(15,6,$A$8:$A$1010,ROW(A3)),"") | C10: =IFERROR(VLOOKUP(B10,m,2,0),"") | D10: =IFERROR(VLOOKUP(B10,m,3,0),"")
A11: =(IF($Z$5='بيان ع'!D5,ROW('بيان ع'!5:5)-1,yyyyy)) -> #NAME? | B11: =IFERROR(_xlfn.AGGREGATE(15,6,$A$8:$A$1010,ROW(A4)),"") | C11: =IFERROR(VLOOKUP(B11,m,2,0),"") | D11: =IFERROR(VLOOKUP(B11,m,3,0),"")
A12: =(IF($Z$5='بيان ع'!D6,ROW('بيان ع'!6:6)-1,yyyyy)) -> #NAME? | B12: =IFERROR(_xlfn.AGGREGATE(15,6,$A$8:$A$1010,ROW(A5)),"") | C12: =IFERROR(VLOOKUP(B12,m,2,0),"") | D12: =IFERROR(VLOOKUP(B12,m,3,0),"")
A13: =(IF($Z$5='بيان ع'!D7,ROW('بيان ع'!7:7)-1,yyyyy)) -> #NAME? | B13: =IFERROR(_xlfn.AGGREGATE(15,6,$A$8:$A$1010,ROW(A6)),"") | C13: =IFERROR(VLOOKUP(B13,m,2,0),"") | D13: =IFERROR(VLOOKUP(B13,m,3,0),"")
A14: =(IF($Z$5='بيان ع'!D8,ROW('بيان ع'!8:8)-1,yyyyy)) -> #NAME? | B14: =IFERROR(_xlfn.AGGREGATE(15,6,$A$8:$A$1010,ROW(A7)),"") | C14: =IFERROR(VLOOKUP(B14,m,2,0),"") | D14: =IFERROR(VLOOKUP(B14,m,3,0),"")
A15: =(IF($Z$5='بيان ع'!D9,ROW('بيان ع'!9:9)-1,yyyyy)) -> #NAME? | B15: =IFERROR(_xlfn.AGGREGATE(15,6,$A$8:$A$1010,ROW(A8)),"") | C15: =IFERROR(VLOOKUP(B15,m,2,0),"") | D15: =IFERROR(VLOOKUP(B15,m,3,0),"")
A16: =(IF($Z$5='بيان ع'!D10,ROW('بيان ع'!10:10)-1,yyyyy)) -> #NAME? | B16: =IFERROR(_xlfn.AGGREGATE(15,6,$A$8:$A$1010,ROW(A9)),"") | C16: =IFERROR(VLOOKUP(B16,m,2,0),"") | D16: =IFERROR(VLOOKUP(B16,m,3,0),"")
A17: =(IF($Z$5='بيان ع'!D11,ROW('بيان ع'!11:11)-1,yyyyy)) -> #NAME? | B17: =IFERROR(_xlfn.AGGREGATE(15,6,$A$8:$A$1010,ROW(A10)),"") | C17: =IFERROR(VLOOKUP(B17,m,2,0),"") | D17: =IFERROR(VLOOKUP(B17,m,3,0),"")
A18: =(IF($Z$5='بيان ع'!D12,ROW('بيان ع'!12:12)-1,yyyyy)) -> #NAME? | B18: =IFERROR(_xlfn.AGGREGATE(15,6,$A$8:$A$1010,ROW(A11)),"") | C18: =IFERROR(VLOOKUP(B18,m,2,0),"") | D18: =IFERROR(VLOOKUP(B18,m,3,0),"")
A19: =(IF($Z$5='بيان ع'!D13,ROW('بيان ع'!13:13)-1,yyyyy)) -> #NAME? | B19: =IFERROR(_xlfn.AGGREGATE(15,6,$A$8:$A$1010,ROW(A12)),"") | C19: =IFERROR(VLOOKUP(B19,m,2,0),"") | D19: =IFERROR(VLOOKUP(B19,m,3,0),"")
A20: =(IF($Z$5='بيان ع'!D14,ROW('بيان ع'!14:14)-1,yyyyy)) -> #NAME? | B20: =IFERROR(_xlfn.AGGREGATE(15,6,$A$8:$A$1010,ROW(A13)),"") | C20: =IFERROR(VLOOKUP(B20,m,2,0),"") | D20: =IFERROR(VLOOKUP(B20,m,3,0),"")
A21: =(IF($Z$5='بيان ع'!D15,ROW('بيان ع'!15:15)-1,yyyyy)) -> #NAME? | B21: =IFERROR(_xlfn.AGGREGATE(15,6,$A$8:$A$1010,ROW(A14)),"") | C21: =IFERROR(VLOOKUP(B21,m,2,0),"") | D21: =IFERROR(VLOOKUP(B21,m,3,0),"")
A22: =(IF($Z$5='بيان ع'!D16,ROW('بيان ع'!16:16)-1,yyyyy)) -> #NAME? | B22: =IFERROR(_xlfn.AGGREGATE(15,6,$A$8:$A$1010,ROW(A15)),"") | C22: =IFERROR(VLOOKUP(B22,m,2,0),"") | D22: =IFERROR(VLOOKUP(B22,m,3,0),"")
A23: =(IF($Z$5='بيان ع'!D17,ROW('بيان ع'!17:17)-1,yyyyy)) -> #NAME? | B23: =IFERROR(_xlfn.AGGREGATE(15,6,$A$8:$A$1010,ROW(A16)),"") | C23: =IFERROR(VLOOKUP(B23,m,2,0),"") | D23: =IFERROR(VLOOKUP(B23,m,3,0),"")
A24: =(IF($Z$5='بيان ع'!D18,ROW('بيان ع'!18:18)-1,yyyyy)) -> #NAME? | B24: =IFERROR(_xlfn.AGGREGATE(15,6,$A$8:$A$1010,ROW(A17)),"") | C24: =IFERROR(VLOOKUP(B24,m,2,0),"") | D24: =IFERROR(VLOOKUP(B24,m,3,0),"")
A25: =(IF($Z$5='بيان ع'!D19,ROW('بيان ع'!19:19)-1,yyyyy)) -> #NAME? | B25: =IFERROR(_xlfn.AGGREGATE(15,6,$A$8:$A$1010,ROW(A18)),"") | C25: =IFERROR(VLOOKUP(B25,m,2,0),"") | D25: =IFERROR(VLOOKUP(B25,m,3,0),"")
A26: =(IF($Z$5='بيان ع'!D20,ROW('بيان ع'!20:20)-1,yyyyy)) -> #NAME? | B26: =IFERROR(_xlfn.AGGREGATE(15,6,$A$8:$A$1010,ROW(A19)),"") | C26: =IFERROR(VLOOKUP(B26,m,2,0),"") | D26: =IFERROR(VLOOKUP(B26,m,3,0),"")
A27: =(IF($Z$5='بيان ع'!D21,ROW('بيان ع'!21:21)-1,yyyyy)) -> #NAME? | B27: =IFERROR(_xlfn.AGGREGATE(15,6,$A$8:$A$1010,ROW(A20)),"") | C27: =IFERROR(VLOOKUP(B27,m,2,0),"") | D27: =IFERROR(VLOOKUP(B27,m,3,0),"")
A28: =(IF($Z$5='بيان ع'!D22,ROW('بيان ع'!22:22)-1,yyyyy)) -> #NAME? | B28: =IFERROR(_xlfn.AGGREGATE(15,6,$A$8:$A$1010,ROW(A21)),"") | C28: =IFERROR(VLOOKUP(B28,m,2,0),"") | D28: =IFERROR(VLOOKUP(B28,m,3,0),"")
A29: =(IF($Z$5='بيان ع'!D23,ROW('بيان ع'!23:23)-1,yyyyy)) -> #NAME? | B29: =IFERROR(_xlfn.AGGREGATE(15,6,$A$8:$A$1010,ROW(A22)),"") | C29: =IFERROR(VLOOKUP(B29,m,2,0),"") | D29: =IFERROR(VLOOKUP(B29,m,3,0),"")
A30: =(IF($Z$5='بيان ع'!D24,ROW('بيان ع'!24:24)-1,yyyyy)) -> #NAME? | B30: =IFERROR(_xlfn.AGGREGATE(15,6,$A$8:$A$1010,ROW(A23)),"") | C30: =IFERROR(VLOOKUP(B30,m,2,0),"") | D30: =IFERROR(VLOOKUP(B30,m,3,0),"")
A31: =(IF($Z$5='بيان ع'!D25,ROW('بيان ع'!25:25)-1,yyyyy)) -> #NAME? | B31: =IFERROR(_xlfn.AGGREGATE(15,6,$A$8:$A$1010,ROW(A24)),"") | C31: =IFERROR(VLOOKUP(B31,m,2,0),"") | D31: =IFERROR(VLOOKUP(B31,m,3,0),"")
A32: =(IF($Z$5='بيان ع'!D26,ROW('بيان ع'!26:26)-1,yyyyy)) -> #NAME? | B32: =IFERROR(_xlfn.AGGREGATE(15,6,$A$8:$A$1010,ROW(A25)),"") | C32: =IFERROR(VLOOKUP(B32,m,2,0),"") | D32: =IFERROR(VLOOKUP(B32,m,3,0),"")
A33: =(IF($Z$5='بيان ع'!D27,ROW('بيان ع'!27:27)-1,yyyyy)) -> #NAME? | B33: =IFERROR(_xlfn.AGGREGATE(15,6,$A$8:$A$1010,ROW(A26)),"") | C33: =IFERROR(VLOOKUP(B33,m,2,0),"") | D33: =IFERROR(VLOOKUP(B33,m,3,0),"")
A34: =(IF($Z$5='بيان ع'!D28,ROW('بيان ع'!28:28)-1,yyyyy)) -> #NAME? | B34: =IFERROR(_xlfn.AGGREGATE(15,6,$A$8:$A$1010,ROW(A27)),"") | C34: =IFERROR(VLOOKUP(B34,m,2,0),"") | D34: =IFERROR(VLOOKUP(B34,m,3,0),"")
A35: =(IF($Z$5='بيان ع'!D29,ROW('بيان ع'!29:29)-1,yyyyy)) -> #NAME? | B35: =IFERROR(_xlfn.AGGREGATE(15,6,$A$8:$A$1010,ROW(A28)),"") | C35: =IFERROR(VLOOKUP(B35,m,2,0),"") | D35: =IFERROR(VLOOKUP(B35,m,3,0),"")
A36: =(IF($Z$5='بيان ع'!D30,ROW('بيان ع'!30:30)-1,yyyyy)) -> #NAME? | B36: =IFERROR(_xlfn.AGGREGATE(15,6,$A$8:$A$1010,ROW(A29)),"") | C36: =IFERROR(VLOOKUP(B36,m,2,0),"") | D36: =IFERROR(VLOOKUP(B36,m,3,0),"")
A37: =(IF($Z$5='بيان ع'!D31,ROW('بيان ع'!31:31)-1,yyyyy)) -> #NAME? | B37: =IFERROR(_xlfn.AGGREGATE(15,6,$A$8:$A$1010,ROW(A30)),"") | C37: =IFERROR(VLOOKUP(B37,m,2,0),"") | D37: =IFERROR(VLOOKUP(B37,m,3,0),"")
A38: =(IF($Z$5='بيان ع'!D32,ROW('بيان ع'!32:32)-1,yyyyy)) -> #NAME? | B38: =IFERROR(_xlfn.AGGREGATE(15,6,$A$8:$A$1010,ROW(A31)),"") | C38: =IFERROR(VLOOKUP(B38,m,2,0),"") | D38: =IFERROR(VLOOKUP(B38,m,3,0),"")
A39: =(IF($Z$5='بيان ع'!D33,ROW('بيان ع'!33:33)-1,yyyyy)) -> #NAME? | B39: =IFERROR(_xlfn.AGGREGATE(15,6,$A$8:$A$1010,ROW(A32)),"") | C39: =IFERROR(VLOOKUP(B39,m,2,0),"") | D39: =IFERROR(VLOOKUP(B39,m,3,0),"")
A40: =(IF($Z$5='بيان ع'!D34,ROW('بيان ع'!34:34)-1,yyyyy)) -> #NAME? | B40: =IFERROR(_xlfn.AGGREGATE(15,6,$A$8:$A$1010,ROW(A33)),"") | C40: =IFERROR(VLOOKUP(B40,m,2,0),"") | D40: =IFERROR(VLOOKUP(B40,m,3,0),"")
...

Sheet السادس
C1: الأزهر الشريف | AA1: غ | AB1: 1 | AC1: =SUM(AA1:AB1)+SUM(Y1:Z1) -> 1 | AD1: =AC1/2 -> 0.5 | AE1: مستجد | AF1: معيد | AI1: الثالث الابتدائي | AQ1: فصل
C2: منطقة: | D2: ='بيان ع'!K2 -> 0 | I2: كشف تقييم الصف | L2: السادس الابتدائي | AE2: =COUNTIF(#REF!,AG2) -> #REF! | AF2: =COUNTIF(#REF!,AG3) -> #REF! | AG2: مستجد | AI2: الرابع الابتدائي
C3: إدارة: | D3: ='بيان ع'!K3 -> 0 | I3: مـــــــــادة: | L3: =Z3 -> التربية الإسلامية | P3: =Z5 -> 1/1 | Y3: اختر المادة | Z3: التربية الإسلامية | AE3: =COUNTIF(#REF!,AG2) -> #REF! | AF3: =COUNTIF(#REF!,AG3) -> #REF! | AG3: معيد | AI3: الخامس الابتدائي | AJ3: التربية الإسلامية
C4: معهد: | D4: ='بيان ع'!K4 -> 0 | I4: عام: | J4: ='بيان ع'!K7 -> 2026م/ 2027م | AI4: السادس الابتدائي | AJ4: اللغة العربية والخط
C5: جلوس | D5: الاســــم | E5: الشهر الأول | I5: الشهر الثاني | M5: الشهر الثالث | P5: متوسط التقييمات | Q5: متوسط المواظبة والسلوك | R5: اختبار الشهور | U5: مجموع التقييمات والشهور | V5: فصل دراسي | W5: المجموع | Y5: اختر الفصل | Z5: 1/1 | AJ5: الرياضيات
E6: تقييم( 1 ) | F6: تقييم( 2 ) | G6: مواظبة وسلوك | H6: المجموع | I6: تقييم( 1 ) | J6: تقييم( 2 ) | K6: مواظبة وسلوك | L6: المجموع | M6: تقييم( 1 ) | N6: مواظبة وسلوك | O6: المجموع | R6: الشهر الأول | S6: الشهر الثاني | T6: المجموع | AJ6: العلوم
A7: م | B7: م | E7: 7.5 | F7: 7.5 | G7: 15 | H7: 30 | I7: 7.5 | J7: 7.5 | K7: 15 | L7: 30 | M7: 15 | N7: 15 | O7: 30 | P7: 15 | Q7: 15 | R7: 5 | S7: 5 | T7: 10 | U7: 30 | V7: 60 | W7: 100 | AJ7: الدراسات الاجتماعية
A8: =(IF($Z$5='بيان ع'!D2,ROW('بيان ع'!2:2)-1,yyyyy)) -> 1 | B8: =IFERROR(_xlfn.AGGREGATE(15,6,$A$8:$A$1010,ROW(A1)),"") -> 1 | C8: =IFERROR(VLOOKUP(B8,m,2,0),"") -> 0 | D8: =IFERROR(VLOOKUP(B8,m,3,0),"") -> 0 | AJ8: الإنجليزي
A9: =(IF($Z$5='بيان ع'!D3,ROW('بيان ع'!3:3)-1,yyyyy)) -> #NAME? | B9: =IFERROR(_xlfn.AGGREGATE(15,6,$A$8:$A$1010,ROW(A2)),"") | C9: =IFERROR(VLOOKUP(B9,m,2,0),"") | D9: =IFERROR(VLOOKUP(B9,m,3,0),"")
A10: =(IF($Z$5='بيان ع'!D4,ROW('بيان ع'!4:4)-1,yyyyy)) -> #NAME? | B10: =IFERROR(_xlfn.AGGREGATE(15,6,$A$8:$A$1010,ROW(A3)),"") | C10: =IFERROR(VLOOKUP(B10,m,2,0),"") | D10: =IFERROR(VLOOKUP(B10,m,3,0),"")
A11: =(IF($Z$5='بيان ع'!D5,ROW('بيان ع'!5:5)-1,yyyyy)) -> #NAME? | B11: =IFERROR(_xlfn.AGGREGATE(15,6,$A$8:$A$1010,ROW(A4)),"") | C11: =IFERROR(VLOOKUP(B11,m,2,0),"") | D11: =IFERROR(VLOOKUP(B11,m,3,0),"")
A12: =(IF($Z$5='بيان ع'!D6,ROW('بيان ع'!6:6)-1,yyyyy)) -> #NAME? | B12: =IFERROR(_xlfn.AGGREGATE(15,6,$A$8:$A$1010,ROW(A5)),"") | C12: =IFERROR(VLOOKUP(B12,m,2,0),"") | D12: =IFERROR(VLOOKUP(B12,m,3,0),"")
A13: =(IF($Z$5='بيان ع'!D7,ROW('بيان ع'!7:7)-1,yyyyy)) -> #NAME? | B13: =IFERROR(_xlfn.AGGREGATE(15,6,$A$8:$A$1010,ROW(A6)),"") | C13: =IFERROR(VLOOKUP(B13,m,2,0),"") | D13: =IFERROR(VLOOKUP(B13,m,3,0),"")
A14: =(IF($Z$5='بيان ع'!D8,ROW('بيان ع'!8:8)-1,yyyyy)) -> #NAME? | B14: =IFERROR(_xlfn.AGGREGATE(15,6,$A$8:$A$1010,ROW(A7)),"") | C14: =IFERROR(VLOOKUP(B14,m,2,0),"") | D14: =IFERROR(VLOOKUP(B14,m,3,0),"")
A15: =(IF($Z$5='بيان ع'!D9,ROW('بيان ع'!9:9)-1,yyyyy)) -> #NAME? | B15: =IFERROR(_xlfn.AGGREGATE(15,6,$A$8:$A$1010,ROW(A8)),"") | C15: =IFERROR(VLOOKUP(B15,m,2,0),"") | D15: =IFERROR(VLOOKUP(B15,m,3,0),"")
A16: =(IF($Z$5='بيان ع'!D10,ROW('بيان ع'!10:10)-1,yyyyy)) -> #NAME? | B16: =IFERROR(_xlfn.AGGREGATE(15,6,$A$8:$A$1010,ROW(A9)),"") | C16: =IFERROR(VLOOKUP(B16,m,2,0),"") | D16: =IFERROR(VLOOKUP(B16,m,3,0),"")
A17: =(IF($Z$5='بيان ع'!D11,ROW('بيان ع'!11:11)-1,yyyyy)) -> #NAME? | B17: =IFERROR(_xlfn.AGGREGATE(15,6,$A$8:$A$1010,ROW(A10)),"") | C17: =IFERROR(VLOOKUP(B17,m,2,0),"") | D17: =IFERROR(VLOOKUP(B17,m,3,0),"")
A18: =(IF($Z$5='بيان ع'!D12,ROW('بيان ع'!12:12)-1,yyyyy)) -> #NAME? | B18: =IFERROR(_xlfn.AGGREGATE(15,6,$A$8:$A$1010,ROW(A11)),"") | C18: =IFERROR(VLOOKUP(B18,m,2,0),"") | D18: =IFERROR(VLOOKUP(B18,m,3,0),"")
A19: =(IF($Z$5='بيان ع'!D13,ROW('بيان ع'!13:13)-1,yyyyy)) -> #NAME? | B19: =IFERROR(_xlfn.AGGREGATE(15,6,$A$8:$A$1010,ROW(A12)),"") | C19: =IFERROR(VLOOKUP(B19,m,2,0),"") | D19: =IFERROR(VLOOKUP(B19,m,3,0),"")
A20: =(IF($Z$5='بيان ع'!D14,ROW('بيان ع'!14:14)-1,yyyyy)) -> #NAME? | B20: =IFERROR(_xlfn.AGGREGATE(15,6,$A$8:$A$1010,ROW(A13)),"") | C20: =IFERROR(VLOOKUP(B20,m,2,0),"") | D20: =IFERROR(VLOOKUP(B20,m,3,0),"")
A21: =(IF($Z$5='بيان ع'!D15,ROW('بيان ع'!15:15)-1,yyyyy)) -> #NAME? | B21: =IFERROR(_xlfn.AGGREGATE(15,6,$A$8:$A$1010,ROW(A14)),"") | C21: =IFERROR(VLOOKUP(B21,m,2,0),"") | D21: =IFERROR(VLOOKUP(B21,m,3,0),"")
A22: =(IF($Z$5='بيان ع'!D16,ROW('بيان ع'!16:16)-1,yyyyy)) -> #NAME? | B22: =IFERROR(_xlfn.AGGREGATE(15,6,$A$8:$A$1010,ROW(A15)),"") | C22: =IFERROR(VLOOKUP(B22,m,2,0),"") | D22: =IFERROR(VLOOKUP(B22,m,3,0),"")
A23: =(IF($Z$5='بيان ع'!D17,ROW('بيان ع'!17:17)-1,yyyyy)) -> #NAME? | B23: =IFERROR(_xlfn.AGGREGATE(15,6,$A$8:$A$1010,ROW(A16)),"") | C23: =IFERROR(VLOOKUP(B23,m,2,0),"") | D23: =IFERROR(VLOOKUP(B23,m,3,0),"")
A24: =(IF($Z$5='بيان ع'!D18,ROW('بيان ع'!18:18)-1,yyyyy)) -> #NAME? | B24: =IFERROR(_xlfn.AGGREGATE(15,6,$A$8:$A$1010,ROW(A17)),"") | C24: =IFERROR(VLOOKUP(B24,m,2,0),"") | D24: =IFERROR(VLOOKUP(B24,m,3,0),"")
A25: =(IF($Z$5='بيان ع'!D19,ROW('بيان ع'!19:19)-1,yyyyy)) -> #NAME? | B25: =IFERROR(_xlfn.AGGREGATE(15,6,$A$8:$A$1010,ROW(A18)),"") | C25: =IFERROR(VLOOKUP(B25,m,2,0),"") | D25: =IFERROR(VLOOKUP(B25,m,3,0),"")
A26: =(IF($Z$5='بيان ع'!D20,ROW('بيان ع'!20:20)-1,yyyyy)) -> #NAME? | B26: =IFERROR(_xlfn.AGGREGATE(15,6,$A$8:$A$1010,ROW(A19)),"") | C26: =IFERROR(VLOOKUP(B26,m,2,0),"") | D26: =IFERROR(VLOOKUP(B26,m,3,0),"")
A27: =(IF($Z$5='بيان ع'!D21,ROW('بيان ع'!21:21)-1,yyyyy)) -> #NAME? | B27: =IFERROR(_xlfn.AGGREGATE(15,6,$A$8:$A$1010,ROW(A20)),"") | C27: =IFERROR(VLOOKUP(B27,m,2,0),"") | D27: =IFERROR(VLOOKUP(B27,m,3,0),"")
A28: =(IF($Z$5='بيان ع'!D22,ROW('بيان ع'!22:22)-1,yyyyy)) -> #NAME? | B28: =IFERROR(_xlfn.AGGREGATE(15,6,$A$8:$A$1010,ROW(A21)),"") | C28: =IFERROR(VLOOKUP(B28,m,2,0),"") | D28: =IFERROR(VLOOKUP(B28,m,3,0),"")
A29: =(IF($Z$5='بيان ع'!D23,ROW('بيان ع'!23:23)-1,yyyyy)) -> #NAME? | B29: =IFERROR(_xlfn.AGGREGATE(15,6,$A$8:$A$1010,ROW(A22)),"") | C29: =IFERROR(VLOOKUP(B29,m,2,0),"") | D29: =IFERROR(VLOOKUP(B29,m,3,0),"")
A30: =(IF($Z$5='بيان ع'!D24,ROW('بيان ع'!24:24)-1,yyyyy)) -> #NAME? | B30: =IFERROR(_xlfn.AGGREGATE(15,6,$A$8:$A$1010,ROW(A23)),"") | C30: =IFERROR(VLOOKUP(B30,m,2,0),"") | D30: =IFERROR(VLOOKUP(B30,m,3,0),"")
A31: =(IF($Z$5='بيان ع'!D25,ROW('بيان ع'!25:25)-1,yyyyy)) -> #NAME? | B31: =IFERROR(_xlfn.AGGREGATE(15,6,$A$8:$A$1010,ROW(A24)),"") | C31: =IFERROR(VLOOKUP(B31,m,2,0),"") | D31: =IFERROR(VLOOKUP(B31,m,3,0),"")
A32: =(IF($Z$5='بيان ع'!D26,ROW('بيان ع'!26:26)-1,yyyyy)) -> #NAME? | B32: =IFERROR(_xlfn.AGGREGATE(15,6,$A$8:$A$1010,ROW(A25)),"") | C32: =IFERROR(VLOOKUP(B32,m,2,0),"") | D32: =IFERROR(VLOOKUP(B32,m,3,0),"")
A33: =(IF($Z$5='بيان ع'!D27,ROW('بيان ع'!27:27)-1,yyyyy)) -> #NAME? | B33: =IFERROR(_xlfn.AGGREGATE(15,6,$A$8:$A$1010,ROW(A26)),"") | C33: =IFERROR(VLOOKUP(B33,m,2,0),"") | D33: =IFERROR(VLOOKUP(B33,m,3,0),"")
A34: =(IF($Z$5='بيان ع'!D28,ROW('بيان ع'!28:28)-1,yyyyy)) -> #NAME? | B34: =IFERROR(_xlfn.AGGREGATE(15,6,$A$8:$A$1010,ROW(A27)),"") | C34: =IFERROR(VLOOKUP(B34,m,2,0),"") | D34: =IFERROR(VLOOKUP(B34,m,3,0),"")
A35: =(IF($Z$5='بيان ع'!D29,ROW('بيان ع'!29:29)-1,yyyyy)) -> #NAME? | B35: =IFERROR(_xlfn.AGGREGATE(15,6,$A$8:$A$1010,ROW(A28)),"") | C35: =IFERROR(VLOOKUP(B35,m,2,0),"") | D35: =IFERROR(VLOOKUP(B35,m,3,0),"")
A36: =(IF($Z$5='بيان ع'!D30,ROW('بيان ع'!30:30)-1,yyyyy)) -> #NAME? | B36: =IFERROR(_xlfn.AGGREGATE(15,6,$A$8:$A$1010,ROW(A29)),"") | C36: =IFERROR(VLOOKUP(B36,m,2,0),"") | D36: =IFERROR(VLOOKUP(B36,m,3,0),"")
A37: =(IF($Z$5='بيان ع'!D31,ROW('بيان ع'!31:31)-1,yyyyy)) -> #NAME? | B37: =IFERROR(_xlfn.AGGREGATE(15,6,$A$8:$A$1010,ROW(A30)),"") | C37: =IFERROR(VLOOKUP(B37,m,2,0),"") | D37: =IFERROR(VLOOKUP(B37,m,3,0),"")
A38: =(IF($Z$5='بيان ع'!D32,ROW('بيان ع'!32:32)-1,yyyyy)) -> #NAME? | B38: =IFERROR(_xlfn.AGGREGATE(15,6,$A$8:$A$1010,ROW(A31)),"") | C38: =IFERROR(VLOOKUP(B38,m,2,0),"") | D38: =IFERROR(VLOOKUP(B38,m,3,0),"")
A39: =(IF($Z$5='بيان ع'!D33,ROW('بيان ع'!33:33)-1,yyyyy)) -> #NAME? | B39: =IFERROR(_xlfn.AGGREGATE(15,6,$A$8:$A$1010,ROW(A32)),"") | C39: =IFERROR(VLOOKUP(B39,m,2,0),"") | D39: =IFERROR(VLOOKUP(B39,m,3,0),"")
A40: =(IF($Z$5='بيان ع'!D34,ROW('بيان ع'!34:34)-1,yyyyy)) -> #NAME? | B40: =IFERROR(_xlfn.AGGREGATE(15,6,$A$8:$A$1010,ROW(A33)),"") | C40: =IFERROR(VLOOKUP(B40,m,2,0),"") | D40: =IFERROR(VLOOKUP(B40,m,3,0),"")
...

Sheet ق3
A1: ذ | C1: الأزهر الشريف | K1: عام: | O1: غ | Q1: غ | R1: 1 | S1: =SUM(Q1:R1)+SUM(O1:P1) -> 1 | T1: =S1/2 -> 0.5 | U1: مستجد | V1: معيد | AG1: فصل
C2: منطقة: | D2: ='بيان ع'!K2 -> 0 | I2: =P3 -> 1/1 | K2: ='بيان ع'!K7 -> 2026م/ 2027م | U2: =COUNTIF($E$8:$E$41,W2) -> 0 | V2: =COUNTIF($E$8:$E$41,W3) -> 0 | W2: مستجد
C3: معهد: | D3: ='بيان ع'!K4 -> 0 | O3: اختر الفصل: | P3: 1/1 | U3: =COUNTIF(#REF!,W2) -> #REF! | V3: =COUNTIF(#REF!,W3) -> #REF! | W3: معيد
C4: جلوس | D4: الاســــم | E4: الاختبارات الشهرية | K4: مجموع الشهرين | L4: الفصل الدراسي
E5: الشهر الأول | H5: الشهر الثاني
E6: شفوي | F6: تحريري | G6: مجموع | H6: شفوي | I6: تحريري | J6: مجموع | K6: 30 | L6: شفوي | M6: تحريري
A7: م | B7: م | E7: 5 | F7: 10 | G7: 15 | H7: 5 | I7: 10 | J7: 15 | L7: 20 | M7: 50
A8: {=(IF($P$3='بيان ع'!D2,ROW('بيان ع'!2:2)-1,yyyyy))} -> 1 | B8: =IFERROR(_xlfn.AGGREGATE(15,6,$A$8:$A$1010,ROW(A1)),"") -> 1 | C8: =IFERROR(VLOOKUP(B8,m,2,0),"") -> 0 | D8: =IFERROR(VLOOKUP(B8,m,3,0),"") -> 0
A9: {=(IF($P$3='بيان ع'!D3,ROW('بيان ع'!3:3)-1,yyyyy))} -> #NAME? | B9: =IFERROR(_xlfn.AGGREGATE(15,6,$A$8:$A$1010,ROW(A2)),"") | C9: =IFERROR(VLOOKUP(B9,m,2,0),"") | D9: =IFERROR(VLOOKUP(B9,m,3,0),"")
A10: {=(IF($P$3='بيان ع'!D4,ROW('بيان ع'!4:4)-1,yyyyy))} -> #NAME? | B10: =IFERROR(_xlfn.AGGREGATE(15,6,$A$8:$A$1010,ROW(A3)),"") | C10: =IFERROR(VLOOKUP(B10,m,2,0),"") | D10: =IFERROR(VLOOKUP(B10,m,3,0),"")
A11: {=(IF($P$3='بيان ع'!D5,ROW('بيان ع'!5:5)-1,yyyyy))} -> #NAME? | B11: =IFERROR(_xlfn.AGGREGATE(15,6,$A$8:$A$1010,ROW(A4)),"") | C11: =IFERROR(VLOOKUP(B11,m,2,0),"") | D11: =IFERROR(VLOOKUP(B11,m,3,0),"")
A12: {=(IF($P$3='بيان ع'!D6,ROW('بيان ع'!6:6)-1,yyyyy))} -> #NAME? | B12: =IFERROR(_xlfn.AGGREGATE(15,6,$A$8:$A$1010,ROW(A5)),"") | C12: =IFERROR(VLOOKUP(B12,m,2,0),"") | D12: =IFERROR(VLOOKUP(B12,m,3,0),"")
A13: {=(IF($P$3='بيان ع'!D7,ROW('بيان ع'!7:7)-1,yyyyy))} -> #NAME? | B13: =IFERROR(_xlfn.AGGREGATE(15,6,$A$8:$A$1010,ROW(A6)),"") | C13: =IFERROR(VLOOKUP(B13,m,2,0),"") | D13: =IFERROR(VLOOKUP(B13,m,3,0),"")
A14: {=(IF($P$3='بيان ع'!D8,ROW('بيان ع'!8:8)-1,yyyyy))} -> #NAME? | B14: =IFERROR(_xlfn.AGGREGATE(15,6,$A$8:$A$1010,ROW(A7)),"") | C14: =IFERROR(VLOOKUP(B14,m,2,0),"") | D14: =IFERROR(VLOOKUP(B14,m,3,0),"")
A15: {=(IF($P$3='بيان ع'!D9,ROW('بيان ع'!9:9)-1,yyyyy))} -> #NAME? | B15: =IFERROR(_xlfn.AGGREGATE(15,6,$A$8:$A$1010,ROW(A8)),"") | C15: =IFERROR(VLOOKUP(B15,m,2,0),"") | D15: =IFERROR(VLOOKUP(B15,m,3,0),"")
A16: {=(IF($P$3='بيان ع'!D10,ROW('بيان ع'!10:10)-1,yyyyy))} -> #NAME? | B16: =IFERROR(_xlfn.AGGREGATE(15,6,$A$8:$A$1010,ROW(A9)),"") | C16: =IFERROR(VLOOKUP(B16,m,2,0),"") | D16: =IFERROR(VLOOKUP(B16,m,3,0),"")
A17: {=(IF($P$3='بيان ع'!D11,ROW('بيان ع'!11:11)-1,yyyyy))} -> #NAME? | B17: =IFERROR(_xlfn.AGGREGATE(15,6,$A$8:$A$1010,ROW(A10)),"") | C17: =IFERROR(VLOOKUP(B17,m,2,0),"") | D17: =IFERROR(VLOOKUP(B17,m,3,0),"")
A18: {=(IF($P$3='بيان ع'!D12,ROW('بيان ع'!12:12)-1,yyyyy))} -> #NAME? | B18: =IFERROR(_xlfn.AGGREGATE(15,6,$A$8:$A$1010,ROW(A11)),"") | C18: =IFERROR(VLOOKUP(B18,m,2,0),"") | D18: =IFERROR(VLOOKUP(B18,m,3,0),"")
A19: {=(IF($P$3='بيان ع'!D13,ROW('بيان ع'!13:13)-1,yyyyy))} -> #NAME? | B19: =IFERROR(_xlfn.AGGREGATE(15,6,$A$8:$A$1010,ROW(A12)),"") | C19: =IFERROR(VLOOKUP(B19,m,2,0),"") | D19: =IFERROR(VLOOKUP(B19,m,3,0),"")
A20: {=(IF($P$3='بيان ع'!D14,ROW('بيان ع'!14:14)-1,yyyyy))} -> #NAME? | B20: =IFERROR(_xlfn.AGGREGATE(15,6,$A$8:$A$1010,ROW(A13)),"") | C20: =IFERROR(VLOOKUP(B20,m,2,0),"") | D20: =IFERROR(VLOOKUP(B20,m,3,0),"")
A21: {=(IF($P$3='بيان ع'!D15,ROW('بيان ع'!15:15)-1,yyyyy))} -> #NAME? | B21: =IFERROR(_xlfn.AGGREGATE(15,6,$A$8:$A$1010,ROW(A14)),"") | C21: =IFERROR(VLOOKUP(B21,m,2,0),"") | D21: =IFERROR(VLOOKUP(B21,m,3,0),"")
A22: {=(IF($P$3='بيان ع'!D16,ROW('بيان ع'!16:16)-1,yyyyy))} -> #NAME? | B22: =IFERROR(_xlfn.AGGREGATE(15,6,$A$8:$A$1010,ROW(A15)),"") | C22: =IFERROR(VLOOKUP(B22,m,2,0),"") | D22: =IFERROR(VLOOKUP(B22,m,3,0),"")
A23: {=(IF($P$3='بيان ع'!D17,ROW('بيان ع'!17:17)-1,yyyyy))} -> #NAME? | B23: =IFERROR(_xlfn.AGGREGATE(15,6,$A$8:$A$1010,ROW(A16)),"") | C23: =IFERROR(VLOOKUP(B23,m,2,0),"") | D23: =IFERROR(VLOOKUP(B23,m,3,0),"")
A24: {=(IF($P$3='بيان ع'!D18,ROW('بيان ع'!18:18)-1,yyyyy))} -> #NAME? | B24: =IFERROR(_xlfn.AGGREGATE(15,6,$A$8:$A$1010,ROW(A17)),"") | C24: =IFERROR(VLOOKUP(B24,m,2,0),"") | D24: =IFERROR(VLOOKUP(B24,m,3,0),"")
A25: {=(IF($P$3='بيان ع'!D19,ROW('بيان ع'!19:19)-1,yyyyy))} -> #NAME? | B25: =IFERROR(_xlfn.AGGREGATE(15,6,$A$8:$A$1010,ROW(A18)),"") | C25: =IFERROR(VLOOKUP(B25,m,2,0),"") | D25: =IFERROR(VLOOKUP(B25,m,3,0),"")
A26: {=(IF($P$3='بيان ع'!D20,ROW('بيان ع'!20:20)-1,yyyyy))} -> #NAME? | B26: =IFERROR(_xlfn.AGGREGATE(15,6,$A$8:$A$1010,ROW(A19)),"") | C26: =IFERROR(VLOOKUP(B26,m,2,0),"") | D26: =IFERROR(VLOOKUP(B26,m,3,0),"")
A27: {=(IF($P$3='بيان ع'!D21,ROW('بيان ع'!21:21)-1,yyyyy))} -> #NAME? | B27: =IFERROR(_xlfn.AGGREGATE(15,6,$A$8:$A$1010,ROW(A20)),"") | C27: =IFERROR(VLOOKUP(B27,m,2,0),"") | D27: =IFERROR(VLOOKUP(B27,m,3,0),"")
A28: {=(IF($P$3='بيان ع'!D22,ROW('بيان ع'!22:22)-1,yyyyy))} -> #NAME? | B28: =IFERROR(_xlfn.AGGREGATE(15,6,$A$8:$A$1010,ROW(A21)),"") | C28: =IFERROR(VLOOKUP(B28,m,2,0),"") | D28: =IFERROR(VLOOKUP(B28,m,3,0),"")
A29: {=(IF($P$3='بيان ع'!D23,ROW('بيان ع'!23:23)-1,yyyyy))} -> #NAME? | B29: =IFERROR(_xlfn.AGGREGATE(15,6,$A$8:$A$1010,ROW(A22)),"") | C29: =IFERROR(VLOOKUP(B29,m,2,0),"") | D29: =IFERROR(VLOOKUP(B29,m,3,0),"")
A30: {=(IF($P$3='بيان ع'!D24,ROW('بيان ع'!24:24)-1,yyyyy))} -> #NAME? | B30: =IFERROR(_xlfn.AGGREGATE(15,6,$A$8:$A$1010,ROW(A23)),"") | C30: =IFERROR(VLOOKUP(B30,m,2,0),"") | D30: =IFERROR(VLOOKUP(B30,m,3,0),"")
A31: {=(IF($P$3='بيان ع'!D25,ROW('بيان ع'!25:25)-1,yyyyy))} -> #NAME? | B31: =IFERROR(_xlfn.AGGREGATE(15,6,$A$8:$A$1010,ROW(A24)),"") | C31: =IFERROR(VLOOKUP(B31,m,2,0),"") | D31: =IFERROR(VLOOKUP(B31,m,3,0),"")
A32: {=(IF($P$3='بيان ع'!D26,ROW('بيان ع'!26:26)-1,yyyyy))} -> #NAME? | B32: =IFERROR(_xlfn.AGGREGATE(15,6,$A$8:$A$1010,ROW(A25)),"") | C32: =IFERROR(VLOOKUP(B32,m,2,0),"") | D32: =IFERROR(VLOOKUP(B32,m,3,0),"")
A33: {=(IF($P$3='بيان ع'!D27,ROW('بيان ع'!27:27)-1,yyyyy))} -> #NAME? | B33: =IFERROR(_xlfn.AGGREGATE(15,6,$A$8:$A$1010,ROW(A26)),"") | C33: =IFERROR(VLOOKUP(B33,m,2,0),"") | D33: =IFERROR(VLOOKUP(B33,m,3,0),"")
A34: {=(IF($P$3='بيان ع'!D28,ROW('بيان ع'!28:28)-1,yyyyy))} -> #NAME? | B34: =IFERROR(_xlfn.AGGREGATE(15,6,$A$8:$A$1010,ROW(A27)),"") | C34: =IFERROR(VLOOKUP(B34,m,2,0),"") | D34: =IFERROR(VLOOKUP(B34,m,3,0),"")
A35: {=(IF($P$3='بيان ع'!D29,ROW('بيان ع'!29:29)-1,yyyyy))} -> #NAME? | B35: =IFERROR(_xlfn.AGGREGATE(15,6,$A$8:$A$1010,ROW(A28)),"") | C35: =IFERROR(VLOOKUP(B35,m,2,0),"") | D35: =IFERROR(VLOOKUP(B35,m,3,0),"")
A36: {=(IF($P$3='بيان ع'!D30,ROW('بيان ع'!30:30)-1,yyyyy))} -> #NAME? | B36: =IFERROR(_xlfn.AGGREGATE(15,6,$A$8:$A$1010,ROW(A29)),"") | C36: =IFERROR(VLOOKUP(B36,m,2,0),"") | D36: =IFERROR(VLOOKUP(B36,m,3,0),"")
A37: {=(IF($P$3='بيان ع'!D31,ROW('بيان ع'!31:31)-1,yyyyy))} -> #NAME? | B37: =IFERROR(_xlfn.AGGREGATE(15,6,$A$8:$A$1010,ROW(A30)),"") | C37: =IFERROR(VLOOKUP(B37,m,2,0),"") | D37: =IFERROR(VLOOKUP(B37,m,3,0),"")
A38: {=(IF($P$3='بيان ع'!D32,ROW('بيان ع'!32:32)-1,yyyyy))} -> #NAME? | B38: =IFERROR(_xlfn.AGGREGATE(15,6,$A$8:$A$1010,ROW(A31)),"") | C38: =IFERROR(VLOOKUP(B38,m,2,0),"") | D38: =IFERROR(VLOOKUP(B38,m,3,0),"")
A39: {=(IF($P$3='بيان ع'!D33,ROW('بيان ع'!33:33)-1,yyyyy))} -> #NAME? | B39: =IFERROR(_xlfn.AGGREGATE(15,6,$A$8:$A$1010,ROW(A32)),"") | C39: =IFERROR(VLOOKUP(B39,m,2,0),"") | D39: =IFERROR(VLOOKUP(B39,m,3,0),"")
A40: {=(IF($P$3='بيان ع'!D34,ROW('بيان ع'!34:34)-1,yyyyy))} -> #NAME? | B40: =IFERROR(_xlfn.AGGREGATE(15,6,$A$8:$A$1010,ROW(A33)),"") | C40: =IFERROR(VLOOKUP(B40,m,2,0),"") | D40: =IFERROR(VLOOKUP(B40,m,3,0),"")
...

Sheet ق4
C1: الأزهر الشريف | K1: عام: | O1: غ | Q1: غ | R1: 1 | S1: =SUM(Q1:R1)+SUM(O1:P1) -> 1 | T1: =S1/2 -> 0.5 | U1: مستجد | V1: معيد | AG1: فصل
C2: منطقة: | D2: ='بيان ع'!K2 -> 0 | I2: =P3 -> 1/1 | K2: ='بيان ع'!K7 -> 2026م/ 2027م | U2: =COUNTIF($E$8:$E$41,W2) -> 0 | V2: =COUNTIF($E$8:$E$41,W3) -> 0 | W2: مستجد
C3: معهد: | D3: ='بيان ع'!K4 -> 0 | O3: اختر الفصل: | P3: 1/1 | U3: =COUNTIF(#REF!,W2) -> #REF! | V3: =COUNTIF(#REF!,W3) -> #REF! | W3: معيد
C4: جلوس | D4: الاســــم | E4: الاختبارات الشهرية | K4: مجموع الشهرين | L4: الفصل الدراسي
E5: الشهر الأول | H5: الشهر الثاني
E6: شفوي | F6: تحريري | G6: مجموع | H6: شفوي | I6: تحريري | J6: مجموع | K6: 30 | L6: شفوي | M6: تحريري
A7: م | B7: م | E7: 5 | F7: 10 | G7: 15 | H7: 5 | I7: 10 | J7: 15 | L7: 20 | M7: 50
A8: {=(IF($P$3='بيان ع'!D2,ROW('بيان ع'!2:2)-1,yyyyy))} -> 1 | B8: =IFERROR(_xlfn.AGGREGATE(15,6,$A$8:$A$1010,ROW(A1)),"") -> 1 | C8: =IFERROR(VLOOKUP(B8,m,2,0),"") -> 0 | D8: =IFERROR(VLOOKUP(B8,m,3,0),"") -> 0
A9: {=(IF($P$3='بيان ع'!D3,ROW('بيان ع'!3:3)-1,yyyyy))} -> #NAME? | B9: =IFERROR(_xlfn.AGGREGATE(15,6,$A$8:$A$1010,ROW(A2)),"") | C9: =IFERROR(VLOOKUP(B9,m,2,0),"") | D9: =IFERROR(VLOOKUP(B9,m,3,0),"")
A10: {=(IF($P$3='بيان ع'!D4,ROW('بيان ع'!4:4)-1,yyyyy))} -> #NAME? | B10: =IFERROR(_xlfn.AGGREGATE(15,6,$A$8:$A$1010,ROW(A3)),"") | C10: =IFERROR(VLOOKUP(B10,m,2,0),"") | D10: =IFERROR(VLOOKUP(B10,m,3,0),"")
A11: {=(IF($P$3='بيان ع'!D5,ROW('بيان ع'!5:5)-1,yyyyy))} -> #NAME? | B11: =IFERROR(_xlfn.AGGREGATE(15,6,$A$8:$A$1010,ROW(A4)),"") | C11: =IFERROR(VLOOKUP(B11,m,2,0),"") | D11: =IFERROR(VLOOKUP(B11,m,3,0),"")
A12: {=(IF($P$3='بيان ع'!D6,ROW('بيان ع'!6:6)-1,yyyyy))} -> #NAME? | B12: =IFERROR(_xlfn.AGGREGATE(15,6,$A$8:$A$1010,ROW(A5)),"") | C12: =IFERROR(VLOOKUP(B12,m,2,0),"") | D12: =IFERROR(VLOOKUP(B12,m,3,0),"")
A13: {=(IF($P$3='بيان ع'!D7,ROW('بيان ع'!7:7)-1,yyyyy))} -> #NAME? | B13: =IFERROR(_xlfn.AGGREGATE(15,6,$A$8:$A$1010,ROW(A6)),"") | C13: =IFERROR(VLOOKUP(B13,m,2,0),"") | D13: =IFERROR(VLOOKUP(B13,m,3,0),"")
A14: {=(IF($P$3='بيان ع'!D8,ROW('بيان ع'!8:8)-1,yyyyy))} -> #NAME? | B14: =IFERROR(_xlfn.AGGREGATE(15,6,$A$8:$A$1010,ROW(A7)),"") | C14: =IFERROR(VLOOKUP(B14,m,2,0),"") | D14: =IFERROR(VLOOKUP(B14,m,3,0),"")
A15: {=(IF($P$3='بيان ع'!D9,ROW('بيان ع'!9:9)-1,yyyyy))} -> #NAME? | B15: =IFERROR(_xlfn.AGGREGATE(15,6,$A$8:$A$1010,ROW(A8)),"") | C15: =IFERROR(VLOOKUP(B15,m,2,0),"") | D15: =IFERROR(VLOOKUP(B15,m,3,0),"")
A16: {=(IF($P$3='بيان ع'!D10,ROW('بيان ع'!10:10)-1,yyyyy))} -> #NAME? | B16: =IFERROR(_xlfn.AGGREGATE(15,6,$A$8:$A$1010,ROW(A9)),"") | C16: =IFERROR(VLOOKUP(B16,m,2,0),"") | D16: =IFERROR(VLOOKUP(B16,m,3,0),"")
A17: {=(IF($P$3='بيان ع'!D11,ROW('بيان ع'!11:11)-1,yyyyy))} -> #NAME? | B17: =IFERROR(_xlfn.AGGREGATE(15,6,$A$8:$A$1010,ROW(A10)),"") | C17: =IFERROR(VLOOKUP(B17,m,2,0),"") | D17: =IFERROR(VLOOKUP(B17,m,3,0),"")
A18: {=(IF($P$3='بيان ع'!D12,ROW('بيان ع'!12:12)-1,yyyyy))} -> #NAME? | B18: =IFERROR(_xlfn.AGGREGATE(15,6,$A$8:$A$1010,ROW(A11)),"") | C18: =IFERROR(VLOOKUP(B18,m,2,0),"") | D18: =IFERROR(VLOOKUP(B18,m,3,0),"")
A19: {=(IF($P$3='بيان ع'!D13,ROW('بيان ع'!13:13)-1,yyyyy))} -> #NAME? | B19: =IFERROR(_xlfn.AGGREGATE(15,6,$A$8:$A$1010,ROW(A12)),"") | C19: =IFERROR(VLOOKUP(B19,m,2,0),"") | D19: =IFERROR(VLOOKUP(B19,m,3,0),"")
A20: {=(IF($P$3='بيان ع'!D14,ROW('بيان ع'!14:14)-1,yyyyy))} -> #NAME? | B20: =IFERROR(_xlfn.AGGREGATE(15,6,$A$8:$A$1010,ROW(A13)),"") | C20: =IFERROR(VLOOKUP(B20,m,2,0),"") | D20: =IFERROR(VLOOKUP(B20,m,3,0),"")
A21: {=(IF($P$3='بيان ع'!D15,ROW('بيان ع'!15:15)-1,yyyyy))} -> #NAME? | B21: =IFERROR(_xlfn.AGGREGATE(15,6,$A$8:$A$1010,ROW(A14)),"") | C21: =IFERROR(VLOOKUP(B21,m,2,0),"") | D21: =IFERROR(VLOOKUP(B21,m,3,0),"")
A22: {=(IF($P$3='بيان ع'!D16,ROW('بيان ع'!16:16)-1,yyyyy))} -> #NAME? | B22: =IFERROR(_xlfn.AGGREGATE(15,6,$A$8:$A$1010,ROW(A15)),"") | C22: =IFERROR(VLOOKUP(B22,m,2,0),"") | D22: =IFERROR(VLOOKUP(B22,m,3,0),"")
A23: {=(IF($P$3='بيان ع'!D17,ROW('بيان ع'!17:17)-1,yyyyy))} -> #NAME? | B23: =IFERROR(_xlfn.AGGREGATE(15,6,$A$8:$A$1010,ROW(A16)),"") | C23: =IFERROR(VLOOKUP(B23,m,2,0),"") | D23: =IFERROR(VLOOKUP(B23,m,3,0),"")
A24: {=(IF($P$3='بيان ع'!D18,ROW('بيان ع'!18:18)-1,yyyyy))} -> #NAME? | B24: =IFERROR(_xlfn.AGGREGATE(15,6,$A$8:$A$1010,ROW(A17)),"") | C24: =IFERROR(VLOOKUP(B24,m,2,0),"") | D24: =IFERROR(VLOOKUP(B24,m,3,0),"")
A25: {=(IF($P$3='بيان ع'!D19,ROW('بيان ع'!19:19)-1,yyyyy))} -> #NAME? | B25: =IFERROR(_xlfn.AGGREGATE(15,6,$A$8:$A$1010,ROW(A18)),"") | C25: =IFERROR(VLOOKUP(B25,m,2,0),"") | D25: =IFERROR(VLOOKUP(B25,m,3,0),"")
A26: {=(IF($P$3='بيان ع'!D20,ROW('بيان ع'!20:20)-1,yyyyy))} -> #NAME? | B26: =IFERROR(_xlfn.AGGREGATE(15,6,$A$8:$A$1010,ROW(A19)),"") | C26: =IFERROR(VLOOKUP(B26,m,2,0),"") | D26: =IFERROR(VLOOKUP(B26,m,3,0),"")
A27: {=(IF($P$3='بيان ع'!D21,ROW('بيان ع'!21:21)-1,yyyyy))} -> #NAME? | B27: =IFERROR(_xlfn.AGGREGATE(15,6,$A$8:$A$1010,ROW(A20)),"") | C27: =IFERROR(VLOOKUP(B27,m,2,0),"") | D27: =IFERROR(VLOOKUP(B27,m,3,0),"")
A28: {=(IF($P$3='بيان ع'!D22,ROW('بيان ع'!22:22)-1,yyyyy))} -> #NAME? | B28: =IFERROR(_xlfn.AGGREGATE(15,6,$A$8:$A$1010,ROW(A21)),"") | C28: =IFERROR(VLOOKUP(B28,m,2,0),"") | D28: =IFERROR(VLOOKUP(B28,m,3,0),"")
A29: {=(IF($P$3='بيان ع'!D23,ROW('بيان ع'!23:23)-1,yyyyy))} -> #NAME? | B29: =IFERROR(_xlfn.AGGREGATE(15,6,$A$8:$A$1010,ROW(A22)),"") | C29: =IFERROR(VLOOKUP(B29,m,2,0),"") | D29: =IFERROR(VLOOKUP(B29,m,3,0),"")
A30: {=(IF($P$3='بيان ع'!D24,ROW('بيان ع'!24:24)-1,yyyyy))} -> #NAME? | B30: =IFERROR(_xlfn.AGGREGATE(15,6,$A$8:$A$1010,ROW(A23)),"") | C30: =IFERROR(VLOOKUP(B30,m,2,0),"") | D30: =IFERROR(VLOOKUP(B30,m,3,0),"")
A31: {=(IF($P$3='بيان ع'!D25,ROW('بيان ع'!25:25)-1,yyyyy))} -> #NAME? | B31: =IFERROR(_xlfn.AGGREGATE(15,6,$A$8:$A$1010,ROW(A24)),"") | C31: =IFERROR(VLOOKUP(B31,m,2,0),"") | D31: =IFERROR(VLOOKUP(B31,m,3,0),"")
A32: {=(IF($P$3='بيان ع'!D26,ROW('بيان ع'!26:26)-1,yyyyy))} -> #NAME? | B32: =IFERROR(_xlfn.AGGREGATE(15,6,$A$8:$A$1010,ROW(A25)),"") | C32: =IFERROR(VLOOKUP(B32,m,2,0),"") | D32: =IFERROR(VLOOKUP(B32,m,3,0),"")
A33: {=(IF($P$3='بيان ع'!D27,ROW('بيان ع'!27:27)-1,yyyyy))} -> #NAME? | B33: =IFERROR(_xlfn.AGGREGATE(15,6,$A$8:$A$1010,ROW(A26)),"") | C33: =IFERROR(VLOOKUP(B33,m,2,0),"") | D33: =IFERROR(VLOOKUP(B33,m,3,0),"")
A34: {=(IF($P$3='بيان ع'!D28,ROW('بيان ع'!28:28)-1,yyyyy))} -> #NAME? | B34: =IFERROR(_xlfn.AGGREGATE(15,6,$A$8:$A$1010,ROW(A27)),"") | C34: =IFERROR(VLOOKUP(B34,m,2,0),"") | D34: =IFERROR(VLOOKUP(B34,m,3,0),"")
A35: {=(IF($P$3='بيان ع'!D29,ROW('بيان ع'!29:29)-1,yyyyy))} -> #NAME? | B35: =IFERROR(_xlfn.AGGREGATE(15,6,$A$8:$A$1010,ROW(A28)),"") | C35: =IFERROR(VLOOKUP(B35,m,2,0),"") | D35: =IFERROR(VLOOKUP(B35,m,3,0),"")
A36: {=(IF($P$3='بيان ع'!D30,ROW('بيان ع'!30:30)-1,yyyyy))} -> #NAME? | B36: =IFERROR(_xlfn.AGGREGATE(15,6,$A$8:$A$1010,ROW(A29)),"") | C36: =IFERROR(VLOOKUP(B36,m,2,0),"") | D36: =IFERROR(VLOOKUP(B36,m,3,0),"")
A37: {=(IF($P$3='بيان ع'!D31,ROW('بيان ع'!31:31)-1,yyyyy))} -> #NAME? | B37: =IFERROR(_xlfn.AGGREGATE(15,6,$A$8:$A$1010,ROW(A30)),"") | C37: =IFERROR(VLOOKUP(B37,m,2,0),"") | D37: =IFERROR(VLOOKUP(B37,m,3,0),"")
A38: {=(IF($P$3='بيان ع'!D32,ROW('بيان ع'!32:32)-1,yyyyy))} -> #NAME? | B38: =IFERROR(_xlfn.AGGREGATE(15,6,$A$8:$A$1010,ROW(A31)),"") | C38: =IFERROR(VLOOKUP(B38,m,2,0),"") | D38: =IFERROR(VLOOKUP(B38,m,3,0),"")
A39: {=(IF($P$3='بيان ع'!D33,ROW('بيان ع'!33:33)-1,yyyyy))} -> #NAME? | B39: =IFERROR(_xlfn.AGGREGATE(15,6,$A$8:$A$1010,ROW(A32)),"") | C39: =IFERROR(VLOOKUP(B39,m,2,0),"") | D39: =IFERROR(VLOOKUP(B39,m,3,0),"")
A40: {=(IF($P$3='بيان ع'!D34,ROW('بيان ع'!34:34)-1,yyyyy))} -> #NAME? | B40: =IFERROR(_xlfn.AGGREGATE(15,6,$A$8:$A$1010,ROW(A33)),"") | C40: =IFERROR(VLOOKUP(B40,m,2,0),"") | D40: =IFERROR(VLOOKUP(B40,m,3,0),"")
...

Sheet ق 5
C1: الأزهر الشريف | K1: عام: | O1: غ | Q1: غ | R1: 1 | S1: =SUM(Q1:R1)+SUM(O1:P1) -> 1 | T1: =S1/2 -> 0.5 | U1: مستجد | V1: معيد | AG1: فصل
C2: منطقة: | D2: ='بيان ع'!K2 -> 0 | I2: =P3 -> 1/1 | K2: ='بيان ع'!K7 -> 2026م/ 2027م | U2: =COUNTIF($E$8:$E$41,W2) -> 0 | V2: =COUNTIF($E$8:$E$41,W3) -> 0 | W2: مستجد
C3: معهد: | D3: ='بيان ع'!K4 -> 0 | O3: اختر الفصل: | P3: 1/1 | U3: =COUNTIF(#REF!,W2) -> #REF! | V3: =COUNTIF(#REF!,W3) -> #REF! | W3: معيد
C4: جلوس | D4: الاســــم | E4: الاختبارات الشهرية | K4: مجموع الشهرين | L4: الفصل الدراسي
E5: الشهر الأول | H5: الشهر الثاني
E6: شفوي | F6: تحريري | G6: مجموع | H6: شفوي | I6: تحريري | J6: مجموع | K6: 30 | L6: شفوي | M6: تحريري
A7: م | B7: م | E7: 5 | F7: 10 | G7: 15 | H7: 5 | I7: 10 | J7: 15 | L7: 20 | M7: 50
A8: {=(IF($P$3='بيان ع'!D2,ROW('بيان ع'!2:2)-1,yyyyy))} -> 1 | B8: =IFERROR(_xlfn.AGGREGATE(15,6,$A$8:$A$1010,ROW(A1)),"") -> 1 | C8: =IFERROR(VLOOKUP(B8,m,2,0),"") -> 0 | D8: =IFERROR(VLOOKUP(B8,m,3,0),"") -> 0
A9: {=(IF($P$3='بيان ع'!D3,ROW('بيان ع'!3:3)-1,yyyyy))} -> #NAME? | B9: =IFERROR(_xlfn.AGGREGATE(15,6,$A$8:$A$1010,ROW(A2)),"") | C9: =IFERROR(VLOOKUP(B9,m,2,0),"") | D9: =IFERROR(VLOOKUP(B9,m,3,0),"")
A10: {=(IF($P$3='بيان ع'!D4,ROW('بيان ع'!4:4)-1,yyyyy))} -> #NAME? | B10: =IFERROR(_xlfn.AGGREGATE(15,6,$A$8:$A$1010,ROW(A3)),"") | C10: =IFERROR(VLOOKUP(B10,m,2,0),"") | D10: =IFERROR(VLOOKUP(B10,m,3,0),"")
A11: {=(IF($P$3='بيان ع'!D5,ROW('بيان ع'!5:5)-1,yyyyy))} -> #NAME? | B11: =IFERROR(_xlfn.AGGREGATE(15,6,$A$8:$A$1010,ROW(A4)),"") | C11: =IFERROR(VLOOKUP(B11,m,2,0),"") | D11: =IFERROR(VLOOKUP(B11,m,3,0),"")
A12: {=(IF($P$3='بيان ع'!D6,ROW('بيان ع'!6:6)-1,yyyyy))} -> #NAME? | B12: =IFERROR(_xlfn.AGGREGATE(15,6,$A$8:$A$1010,ROW(A5)),"") | C12: =IFERROR(VLOOKUP(B12,m,2,0),"") | D12: =IFERROR(VLOOKUP(B12,m,3,0),"")
A13: {=(IF($P$3='بيان ع'!D7,ROW('بيان ع'!7:7)-1,yyyyy))} -> #NAME? | B13: =IFERROR(_xlfn.AGGREGATE(15,6,$A$8:$A$1010,ROW(A6)),"") | C13: =IFERROR(VLOOKUP(B13,m,2,0),"") | D13: =IFERROR(VLOOKUP(B13,m,3,0),"")
A14: {=(IF($P$3='بيان ع'!D8,ROW('بيان ع'!8:8)-1,yyyyy))} -> #NAME? | B14: =IFERROR(_xlfn.AGGREGATE(15,6,$A$8:$A$1010,ROW(A7)),"") | C14: =IFERROR(VLOOKUP(B14,m,2,0),"") | D14: =IFERROR(VLOOKUP(B14,m,3,0),"")
A15: {=(IF($P$3='بيان ع'!D9,ROW('بيان ع'!9:9)-1,yyyyy))} -> #NAME? | B15: =IFERROR(_xlfn.AGGREGATE(15,6,$A$8:$A$1010,ROW(A8)),"") | C15: =IFERROR(VLOOKUP(B15,m,2,0),"") | D15: =IFERROR(VLOOKUP(B15,m,3,0),"")
A16: {=(IF($P$3='بيان ع'!D10,ROW('بيان ع'!10:10)-1,yyyyy))} -> #NAME? | B16: =IFERROR(_xlfn.AGGREGATE(15,6,$A$8:$A$1010,ROW(A9)),"") | C16: =IFERROR(VLOOKUP(B16,m,2,0),"") | D16: =IFERROR(VLOOKUP(B16,m,3,0),"")
A17: {=(IF($P$3='بيان ع'!D11,ROW('بيان ع'!11:11)-1,yyyyy))} -> #NAME? | B17: =IFERROR(_xlfn.AGGREGATE(15,6,$A$8:$A$1010,ROW(A10)),"") | C17: =IFERROR(VLOOKUP(B17,m,2,0),"") | D17: =IFERROR(VLOOKUP(B17,m,3,0),"")
A18: {=(IF($P$3='بيان ع'!D12,ROW('بيان ع'!12:12)-1,yyyyy))} -> #NAME? | B18: =IFERROR(_xlfn.AGGREGATE(15,6,$A$8:$A$1010,ROW(A11)),"") | C18: =IFERROR(VLOOKUP(B18,m,2,0),"") | D18: =IFERROR(VLOOKUP(B18,m,3,0),"")
A19: {=(IF($P$3='بيان ع'!D13,ROW('بيان ع'!13:13)-1,yyyyy))} -> #NAME? | B19: =IFERROR(_xlfn.AGGREGATE(15,6,$A$8:$A$1010,ROW(A12)),"") | C19: =IFERROR(VLOOKUP(B19,m,2,0),"") | D19: =IFERROR(VLOOKUP(B19,m,3,0),"")
A20: {=(IF($P$3='بيان ع'!D14,ROW('بيان ع'!14:14)-1,yyyyy))} -> #NAME? | B20: =IFERROR(_xlfn.AGGREGATE(15,6,$A$8:$A$1010,ROW(A13)),"") | C20: =IFERROR(VLOOKUP(B20,m,2,0),"") | D20: =IFERROR(VLOOKUP(B20,m,3,0),"")
A21: {=(IF($P$3='بيان ع'!D15,ROW('بيان ع'!15:15)-1,yyyyy))} -> #NAME? | B21: =IFERROR(_xlfn.AGGREGATE(15,6,$A$8:$A$1010,ROW(A14)),"") | C21: =IFERROR(VLOOKUP(B21,m,2,0),"") | D21: =IFERROR(VLOOKUP(B21,m,3,0),"")
A22: {=(IF($P$3='بيان ع'!D16,ROW('بيان ع'!16:16)-1,yyyyy))} -> #NAME? | B22: =IFERROR(_xlfn.AGGREGATE(15,6,$A$8:$A$1010,ROW(A15)),"") | C22: =IFERROR(VLOOKUP(B22,m,2,0),"") | D22: =IFERROR(VLOOKUP(B22,m,3,0),"")
A23: {=(IF($P$3='بيان ع'!D17,ROW('بيان ع'!17:17)-1,yyyyy))} -> #NAME? | B23: =IFERROR(_xlfn.AGGREGATE(15,6,$A$8:$A$1010,ROW(A16)),"") | C23: =IFERROR(VLOOKUP(B23,m,2,0),"") | D23: =IFERROR(VLOOKUP(B23,m,3,0),"")
