Workbook
Name a: #REF!
Name a: #REF!
Name a: #REF!
Name a: #REF!
Name a: #REF!
Name a: #REF!
Name a: #REF!
Name a: #REF!
Name a: '[1]بيان ث أ'!$A$1:$D$1001
Name aa: #REF!
Name aa: #REF!
Name aa: #REF!
Name aa: #REF!
Name aa: #REF!
Name aa: #REF!
Name aa: #REF!
Name aa: #REF!
Name aa: '[1]بيان ث ع'!$A$1:$D$1001
Name asas: #REF!
Name asas: #REF!
Name asas: #REF!
Name asas: #REF!
Name asas: #REF!
Name asas: #REF!
Name asas: #REF!
Name asas: #REF!
Name asas: #REF!
Name asas: #REF!
Name asas: #REF!
Name asas: #REF!
Name asas: #REF!
Name asas: #REF!
Name asas: #REF!
Name asas: #REF!
Name asas: #REF!
Name asas: #REF!
Name asas: #REF!
Name asd: #REF!
Name asd: #REF!
Name asd: #REF!
Name asd: #REF!
Name asd: #REF!
Name asd: #REF!
Name asd: #REF!
Name asd: #REF!
Name asd: #REF!
Name asd: #REF!
Name asd: #REF!
Name asd: #REF!
Name asd: #REF!
Name asd: #REF!
Name asd: #REF!
Name asd: #REF!
Name asd: #REF!
Name asd: #REF!
Name asd: #REF!
Name asd: #REF!
Name asd: #REF!
Name bb: #REF!
Name bb: #REF!

Sheet الرئيسية
C1: الأزهر الشريف | D1: الأزهر الشريف
J10: 2026 / 2027 م

Sheet بيان ع
A1: م | B1: رقم الجلوس | C1: الاسم | D1: الفصل | H1: رقم الصفحة | O1: 1 | P1: أحمد محمد سلامه قاسم | Q1: 1/1 | S1: ج | T1: اسم | U1: فصل | V1: ="1/1" -> 1/1 | AD1: =AC1+AB1 -> 0
A2: 1 | D2: 1/1 | H2: 1 | J2: منطقة: | O2: 2 | P2: أحمد مصطفى حسين محمد | Q2: 1/1 | R2: مستجد | S2: 1 | T2: أحمد محمد سلامه قاسم | U2: 1/1 | V2: ="2/1" -> 2/1
A3: 2 | J3: إدارة | O3: 3 | P3: أحمد هاشم على محمد | Q3: 1/1 | R3: معيد | S3: 2 | T3: أحمد مصطفى حسين محمد | U3: 1/1 | V3: ="3/1" -> 3/1
A4: 3 | J4: معهد | O4: 4 | P4: إسلام جمال هاشم احمد | Q4: 1/1 | S4: 3 | T4: أحمد هاشم على محمد | U4: 1/1 | V4: ="4/1" -> 4/1
A5: 4 | J5: رئيس الكنترول | O5: 5 | P5: احمد ابراهيم احمد ابراهيم محمد ابوعليو | Q5: 1/1 | S5: 4 | T5: إسلام جمال هاشم احمد | U5: 1/1 | V5: ="5/1" -> 5/1
A6: 5 | J6: شيخ المعهد | O6: 6 | P6: احمد احمد حسن بكير | Q6: 1/1 | S6: 5 | T6: احمد ابراهيم احمد ابراهيم محمد ابوعليو | U6: 1/1 | V6: ="6/1" -> 6/1
A7: 6 | J7: العام الدراسي: | K7: 2026م/ 2027م | O7: 7 | P7: احمد بهجت حسين احمد حسن | Q7: 1/1 | S7: 6 | T7: احمد احمد حسن بكير | U7: 1/1 | V7: ="7/1" -> 7/1
A8: 7 | O8: 8 | P8: احمد جلال الدين عبد المعز عبد الحفيظ | Q8: 1/1 | S8: 7 | T8: احمد بهجت حسين احمد حسن | U8: 1/1 | V8: ="8/1" -> 8/1
A9: 8 | O9: 9 | P9: احمد جمال على عبد الحميد | Q9: 1/1 | S9: 8 | T9: احمد جلال الدين عبد المعز عبد الحفيظ | U9: 1/1 | V9: ="9/1" -> 9/1
A10: 9 | O10: 10 | P10: احمد حسن عمر محمد | Q10: 1/1 | S10: 9 | T10: احمد جمال على عبد الحميد | U10: 1/1 | V10: ="10/1" -> 10/1
A11: 10 | O11: 11 | P11: احمد حسن محمد عبدالله عمر | Q11: 1/1 | S11: 10 | T11: احمد حسن عمر محمد | U11: 1/1 | V11: ="1/2" -> 1/2
A12: 11 | O12: 12 | P12: احمد حمدى محمد ابوالعلا | Q12: 1/1 | S12: 11 | T12: احمد حسن محمد عبدالله عمر | U12: 1/1 | V12: ="2/2" -> 2/2
A13: 12 | J13: تعليمات | O13: 13 | P13: احمد سيد حسن احمد | Q13: 1/1 | S13: 12 | T13: احمد حمدى محمد ابوالعلا | U13: 1/1 | V13: ="3/2" -> 3/2
A14: 13 | J14: اضغط على أول خلية في عمود الفصل سوف يظهر سهم صغير اضغط عليه واختر الفصل | O14: 14 | P14: احمد سيد عبدالرحمن عبدالكريم | Q14: 1/1 | S14: 13 | T14: احمد سيد حسن احمد | U14: 1/1 | V14: ="4/2" -> 4/2
A15: 14 | O15: 15 | P15: احمد صابر احمد حسين محمد | Q15: 1/1 | S15: 14 | T15: احمد سيد عبدالرحمن عبدالكريم | U15: 1/1 | V15: ="5/2" -> 5/2
A16: 15 | O16: 16 | P16: احمد طه محمد محمد | Q16: 1/1 | S16: 15 | T16: احمد صابر احمد حسين محمد | U16: 1/1 | V16: ="6/2" -> 6/2
A17: 16 | O17: 17 | P17: احمد عادل صالح حسن | Q17: 1/1 | S17: 16 | T17: احمد طه محمد محمد | U17: 1/1 | V17: ="7/2" -> 7/2
A18: 17 | O18: 18 | P18: احمد عادل محمد ابراهيم على | Q18: 1/1 | S18: 17 | T18: احمد عادل صالح حسن | U18: 1/1 | V18: ="8/2" -> 8/2
A19: 18 | O19: 19 | P19: احمد عبد اللطيف محمد سيد | Q19: 1/1 | S19: 18 | T19: احمد عادل محمد ابراهيم على | U19: 1/1 | V19: ="9/2" -> 9/2
A20: 19 | O20: 20 | P20: احمد عبد الله احمد عبد الله | Q20: 1/1 | S20: 19 | T20: احمد عبد اللطيف محمد سيد | U20: 1/1 | V20: ="10/2" -> 10/2
A21: 20 | O21: 21 | P21: احمد عبد المنعم عبد الهادى حسين | Q21: 1/1 | S21: 20 | T21: احمد عبد الله احمد عبد الله | U21: 1/1 | V21: ="1/3" -> 1/3
A22: 21 | H22: 2 | O22: 22 | P22: احمد عبد الهادى مصطفى عبد الرحيم | Q22: 1/1 | S22: 21 | T22: احمد عبد المنعم عبد الهادى حسين | U22: 1/1 | V22: ="2/3" -> 2/3
A23: 22 | O23: 23 | P23: احمد عماد عبدالقادر عبدالحميد | Q23: 1/1 | S23: 22 | T23: احمد عبد الهادى مصطفى عبد الرحيم | U23: 1/1 | V23: ="3/3" -> 3/3
A24: 23 | O24: 24 | P24: احمد كمال محمود حسين | Q24: 1/1 | S24: 23 | T24: احمد عماد عبدالقادر عبدالحميد | U24: 1/1 | V24: ="4/3" -> 4/3
A25: 24 | O25: 25 | P25: احمد محمد احمد عبد الرحيم | Q25: 1/1 | S25: 24 | T25: احمد كمال محمود حسين | U25: 1/1 | V25: ="5/3" -> 5/3
A26: 25 | O26: 26 | P26: احمد محمد على محمد على | Q26: 1/1 | S26: 25 | T26: احمد محمد احمد عبد الرحيم | U26: 1/1 | V26: ="6/3" -> 6/3
A27: 26 | O27: 27 | P27: احمد محمود على محمد على | Q27: 1/1 | S27: 26 | T27: احمد محمد على محمد على | U27: 1/1 | V27: ="7/3" -> 7/3
A28: 27 | O28: 28 | P28: احمد هاشم احمد دردير | Q28: 1/1 | S28: 27 | T28: احمد محمود على محمد على | U28: 1/1 | V28: ="8/3" -> 8/3
A29: 28 | O29: 29 | P29: ادهم احمد حسين سلطان حسين | Q29: 1/1 | S29: 28 | T29: احمد هاشم احمد دردير | U29: 1/1 | V29: ="9/3" -> 9/3
A30: 29 | O30: 30 | P30: ادهم احمد محمود محمد | Q30: 1/1 | S30: 29 | T30: ادهم احمد حسين سلطان حسين | U30: 1/1 | V30: ="10/3" -> 10/3
A31: 30 | O31: 31 | P31: اسامه محمود محمد احمد | Q31: 1/1 | S31: 30 | T31: ادهم احمد محمود محمد | U31: 1/1 | V31: ="1/4" -> 1/4
A32: 31 | O32: 32 | P32: اسلام بدر حسين عبدالرحيم | Q32: 1/1 | S32: 31 | T32: اسامه محمود محمد احمد | U32: 1/1 | V32: ="2/4" -> 2/4
A33: 32 | O33: 33 | P33: اسلام جمال حسن محمد | Q33: 1/1 | S33: 32 | T33: اسلام بدر حسين عبدالرحيم | U33: 1/1 | V33: ="3/4" -> 3/4
A34: 33 | O34: 34 | P34: اسلام جمال عبد المنعم عبد الحميد | Q34: 1/1 | S34: 33 | T34: اسلام جمال حسن محمد | U34: 1/1 | V34: ="4/4" -> 4/4
A35: 34 | O35: 35 | P35: اسلام خالد احمد سيد | Q35: 1/1 | S35: 34 | T35: اسلام جمال عبد المنعم عبد الحميد | U35: 1/1 | V35: ="5/4" -> 5/4
A36: 35 | O36: 36 | P36: اسلام سلامه سيد قوشتى احمد | Q36: 1/1 | S36: 35 | T36: اسلام خالد احمد سيد | U36: 1/1 | V36: ="6/4" -> 6/4
A37: 36 | O37: 37 | P37: اسلام صلاح احمد عبد الحافظ محمد | Q37: 1/1 | S37: 36 | T37: اسلام سلامه سيد قوشتى احمد | U37: 1/1 | V37: ="7/4" -> 7/4
A38: 37 | O38: 38 | P38: اسلام على مصطفى على | Q38: 1/1 | S38: 37 | T38: اسلام صلاح احمد عبد الحافظ محمد | U38: 1/1 | V38: ="8/4" -> 8/4
A39: 38 | O39: 39 | P39: اسلام محمد على عبدالرحيم | Q39: 1/1 | S39: 38 | T39: اسلام على مصطفى على | U39: 1/1 | V39: ="9/4" -> 9/4
A40: 39 | O40: 40 | P40: اسلام مصطفى محمد عبد الرحيم | Q40: 1/1 | S40: 39 | T40: اسلام محمد على عبدالرحيم | U40: 1/1 | V40: ="10/4" -> 10/4
A41: 40 | O41: 41 | P41: اسلام هاشم طه على | Q41: 1/1 | S41: 40 | T41: اسلام مصطفى محمد عبد الرحيم | U41: 1/1 | V41: ="1/5" -> 1/5
A42: 41 | H42: 3 | O42: 42 | P42: اسلام ياسين حسن قوشتى | Q42: 1/1 | S42: 41 | T42: اسلام هاشم طه على | U42: 1/1 | V42: ="2/5" -> 2/5
A43: 42 | O43: 43 | P43: الحسين عاطف عبد المجيد محمد احمد | Q43: 1/1 | S43: 42 | T43: اسلام ياسين حسن قوشتى | U43: 1/1 | V43: ="3/5" -> 3/5
A44: 43 | O44: 272 | P44: يوسف مصطفى عبد السلام محمد على | Q44: 1/1 | S44: 43 | T44: الحسين عاطف عبد المجيد محمد احمد | U44: 1/1 | V44: ="4/5" -> 4/5
A45: 44 | O45: 241 | P45: معاذ مصطفى حسن عبد الرحمن حسن | Q45: 1/1 | S45: 44 | T45: ايمن حامد حسين على احمد | U45: 1/1 | V45: ="5/5" -> 5/5
A46: 45 | O46: 44 | P46: ايمن حامد حسين على احمد | Q46: 1/1 | S46: 45 | T46: ايهاب عبدالرحيم عواض حسن | U46: 1/1 | V46: ="6/5" -> 6/5
A47: 46 | O47: 45 | P47: ايهاب عبدالرحيم عواض حسن | Q47: 1/1 | S47: 46 | T47: باسم احمد فتحى رمضان عبدالمجيد | U47: 1/1 | V47: ="7/5" -> 7/5
A48: 47 | O48: 46 | P48: باسم احمد فتحى رمضان عبدالمجيد | Q48: 1/1 | S48: 47 | T48: بكر عبد الهادى احمد عبد الحافظ | U48: 1/1 | V48: ="8/5" -> 8/5
A49: 48 | O49: 47 | P49: بكر عبد الهادى احمد عبد الحافظ | Q49: 1/1 | S49: 48 | T49: جمال حسين سيد محمد | U49: 1/1 | V49: ="9/5" -> 9/5
A50: 49 | O50: 48 | P50: جمال حسين سيد محمد | Q50: 1/1 | S50: 49 | T50: جمال مصطفى عرفه ابو شهبه | U50: 1/1 | V50: ="10/5" -> 10/5
A51: 50 | O51: 49 | P51: جمال مصطفى عرفه ابو شهبه | Q51: 1/1 | S51: 50 | T51: حامد ابراهيم عبدالرحيم ابراهيم | U51: 1/1 | V51: ="1/6" -> 1/6
A52: 51 | O52: 50 | P52: حامد ابراهيم عبدالرحيم ابراهيم | Q52: 1/1 | S52: 51 | T52: حامد محمود حسانين محمد محمد | U52: 1/1 | V52: ="2/6" -> 2/6
A53: 52 | O53: 51 | P53: حامد محمود حسانين محمد محمد | Q53: 1/1 | S53: 52 | T53: حسام حسن عبدالرحيم حسن | U53: 1/1 | V53: ="3/6" -> 3/6
A54: 53 | O54: 52 | P54: حسام حسن عبدالرحيم حسن | Q54: 1/1 | S54: 53 | T54: حسام عمرو ربيع محمد | U54: 1/1 | V54: ="4/6" -> 4/6
A55: 54 | O55: 53 | P55: حسام عمرو ربيع محمد | Q55: 1/1 | S55: 54 | T55: حسام محمود عيد سويفى | U55: 2/1 | V55: ="5/6" -> 5/6
A56: 55 | O56: 54 | P56: حسام محمود عيد سويفى | Q56: 2/1 | S56: 55 | T56: حسن سيد عبدالجواد محمد | U56: 2/1 | V56: ="6/6" -> 6/6
A57: 56 | O57: 55 | P57: حسن سيد عبدالجواد محمد | Q57: 2/1 | S57: 56 | T57: حسن عباس حسن محمد عبدالحافظ | U57: 2/1 | V57: ="7/6" -> 7/6
A58: 57 | O58: 56 | P58: حسن عباس حسن محمد عبدالحافظ | Q58: 2/1 | S58: 57 | T58: حسن عبد المنعم حسن سلطان | U58: 2/1 | V58: ="8/6" -> 8/6
A59: 58 | O59: 57 | P59: حسن عبد المنعم حسن سلطان | Q59: 2/1 | S59: 58 | T59: حسن عبدالرحمن حامد حسن | U59: 2/1 | V59: ="9/6" -> 9/6
A60: 59 | O60: 58 | P60: حسن عبدالرحمن حامد حسن | Q60: 2/1 | S60: 59 | T60: حسن عبدالمنعم عرفه حسن فراج | U60: 2/1 | V60: ="10/6" -> 10/6
A61: 60 | O61: 59 | P61: حسن عبدالمنعم عرفه حسن فراج | Q61: 2/1 | S61: 60 | T61: حسن قوشتى حسن على | U61: 2/1
A62: 61 | H62: 4 | O62: 60 | P62: حسن قوشتى حسن على | Q62: 2/1 | S62: 61 | T62: حسن محمد ابو زيد عبد الرحمن | U62: 2/1
A63: 62 | O63: 61 | P63: حسن محمد ابو زيد عبد الرحمن | Q63: 2/1 | S63: 62 | T63: حسن محمد محمد محمد الصادق | U63: 2/1
A64: 63 | O64: 62 | P64: حسن محمد محمد محمد الصادق | Q64: 2/1 | S64: 63 | T64: حسن مصطفى عبد الرحيم على | U64: 2/1
A65: 64 | O65: 63 | P65: حسن مصطفى عبد الرحيم على | Q65: 2/1 | S65: 64 | T65: حسن مصطفى محمد احمد هريدى | U65: 2/1
A66: 65 | O66: 64 | P66: حسن مصطفى محمد احمد هريدى | Q66: 2/1 | S66: 65 | T66: حسين احمد عبد العال سلطان محمد | U66: 2/1
A67: 66 | O67: 65 | P67: حسين احمد عبد العال سلطان محمد | Q67: 2/1 | S67: 66 | T67: حسين على احمد قوشتى حماده | U67: 2/1
A68: 67 | O68: 66 | P68: حسين على احمد قوشتى حماده | Q68: 2/1 | S68: 67 | T68: حسين محمد حسين محمد | U68: 2/1
A69: 68 | O69: 67 | P69: حسين محمد حسين محمد | Q69: 2/1 | S69: 68 | T69: حسين نصر حسين فرحات | U69: 2/1
A70: 69 | O70: 68 | P70: حسين نصر حسين فرحات | Q70: 2/1 | S70: 69 | T70: حسين يسرى ابراهيم احمد | U70: 2/1
A71: 70 | O71: 69 | P71: حسين يسرى ابراهيم احمد | Q71: 2/1 | S71: 70 | T71: حمدى احمد على احمد | U71: 2/1
A72: 71 | O72: 70 | P72: حمدى احمد على احمد | Q72: 2/1 | S72: 71 | T72: حمزه احمد عبدالرحمن محمد | U72: 2/1
A73: 72 | O73: 71 | P73: حمزه احمد عبدالرحمن محمد | Q73: 2/1 | S73: 72 | T73: حمزه عبدالرحيم على عبدالرحيم | U73: 2/1
A74: 73 | O74: 72 | P74: حمزه عبدالرحيم على عبدالرحيم | Q74: 2/1 | S74: 73 | T74: رجب علاء رجب محمد | U74: 2/1
... A81: 80 | O81: 79 | P81: زياد سيد فرغلى سيد | Q81: 2/1 | S81: 80 | T81: زياد محمد حجازى شيمى | U81: 2/1
A82: 81 | H82: 5 | O82: 80 | P82: زياد محمد حجازى شيمى | Q82: 2/1 | S82: 81 | T82: زياد محمد مصطفى سويفى | U82: 2/1
A83: 82 | O83: 81 | P83: زياد محمد مصطفى سويفى | Q83: 2/1 | S83: 82 | T83: زياد ياسر علي عبد الحميد علي | U83: 2/1
A84: 83 | O84: 82 | P84: زياد ياسر علي عبد الحميد علي | Q84: 2/1 | S84: 83 | T84: سعيد محمد رجب محمد | U84: 2/1
A85: 84 | O85: 83 | P85: سعيد محمد رجب محمد | Q85: 2/1 | S85: 84 | T85: سيد احمد ربيع احمد ابراهيم | U85: 2/1
A86: 85 | O86: 84 | P86: سيد احمد ربيع احمد ابراهيم | Q86: 2/1 | S86: 85 | T86: سيد حمدى محمد سيد | U86: 2/1
A87: 86 | O87: 85 | P87: سيد حمدى محمد سيد | Q87: 2/1 | S87: 86 | T87: سيد شعبان دردير محمد | U87: 2/1
A88: 87 | O88: 86 | P88: سيد شعبان دردير محمد | Q88: 2/1 | S88: 87 | T88: سيد طه سيد سيد | U88: 2/1
A89: 88 | O89: 87 | P89: سيد طه سيد سيد | Q89: 2/1 | S89: 88 | T89: سيد قاسم عبد الرازق محمد | U89: 2/1
A90: 89 | O90: 88 | P90: سيد قاسم عبد الرازق محمد | Q90: 2/1 | S90: 89 | T90: سيد محمد سيد صالح | U90: 2/1
A91: 90 | O91: 89 | P91: سيد محمد سيد صالح | Q91: 2/1 | S91: 90 | T91: سيد محمد سيد محمد | U91: 2/1
A92: 91 | O92: 90 | P92: سيد محمد سيد محمد | Q92: 2/1 | S92: 91 | T92: سيد محمد عبدالله محمد سلطان | U92: 2/1
A93: 92 | O93: 91 | P93: سيد محمد عبدالله محمد سلطان | Q93: 2/1 | S93: 92 | T93: سيد محمد كمال سيد | U93: 2/1
A94: 93 | O94: 92 | P94: سيد محمد كمال سيد | Q94: 2/1 | S94: 93 | T94: سيد مصطفى دردير محمد | U94: 2/1
... A101: 100 | O101: 99 | P101: صلاح محمود علي محمد | Q101: 2/1 | S101: 100 | T101: طه صلاح محمد محمد | U101: 2/1
A102: 101 | H102: 6 | O102: 100 | P102: طه صلاح محمد محمد | Q102: 2/1 | S102: 101 | T102: طه محمد طه محمد | U102: 2/1
A103: 102 | O103: 101 | P103: طه محمد طه محمد | Q103: 2/1 | S103: 102 | T103: عبد الباقى خضر عبد الباقى حسانين | U103: 2/1
A104: 103 | O104: 102 | P104: عبد الباقى خضر عبد الباقى حسانين | Q104: 2/1 | S104: 103 | T104: عبد الحميد جمال عبد الحميد يوسف | U104: 2/1
A105: 104 | O105: 103 | P105: عبد الحميد جمال عبد الحميد يوسف | Q105: 2/1 | S105: 104 | T105: عبد الرحمن جمال احمد عبد الحميد | U105: 2/1
A106: 105 | O106: 104 | P106: عبد الرحمن جمال احمد عبد الحميد | Q106: 2/1 | S106: 105 | T106: عبد الرحمن جميل احمد حسانين | U106: 2/1
A107: 106 | O107: 105 | P107: عبد الرحمن جميل احمد حسانين | Q107: 2/1 | S107: 106 | T107: عبد الرحمن حسان حجازى عبد الموجود | U107: 2/1
A108: 107 | O108: 106 | P108: عبد الرحمن حسان حجازى عبد الموجود | Q108: 2/1 | S108: 107 | T108: عبد الرحمن صلاح عبد الرحمن على | U108: 2/1
A109: 108 | O109: 107 | P109: عبد الرحمن صلاح عبد الرحمن على | Q109: 2/1 | S109: 108 | T109: عبد الرحمن محمد فتحى عبد الرحمن | U109: 2/1
A110: 109 | O110: 108 | P110: عبد الرحمن محمد فتحى عبد الرحمن | Q110: 2/1 | S110: 109 | T110: عبد الرحمن محمود عبد الحميد على | U110: 3/1
A111: 110 | O111: 109 | P111: عبد الرحمن محمود عبد الحميد على | Q111: 3/1 | S111: 110 | T111: عبد الرحمن نصر عبد الحميد عطيه | U111: 3/1
A112: 111 | O112: 110 | P112: عبد الرحمن نصر عبد الحميد عطيه | Q112: 3/1 | S112: 111 | T112: عبد الرحيم رجب عبد الرحيم حسن | U112: 3/1
...

Sheet طباعة

Sheet 1

Sheet 2

Sheet 3

Sheet 4

Sheet 5

Sheet 6

Sheet الثالث
C1: الأزهر الشريف | Z1: الثالث الابتدائي | AA1: غ | AB1: 1 | AC1: =SUM(AA1:AB1)+SUM(Y1:Z1) -> 1 | AD1: =AC1/2 -> 0.5 | AE1: مستجد | AF1: معيد | AI1: الثالث الابتدائي | AJ1: التربية الإسلامية | AQ1: فصل
C2: منطقة: | D2: ='بيان ع'!K2 -> 0 | I2: كشف تقييم الصف | L2: الثالث الابتدائي | AE2: =COUNTIF(#REF!,AG2) -> #REF! | AF2: =COUNTIF(#REF!,AG3) -> #REF! | AG2: مستجد | AI2: الرابع الابتدائي | AJ2: اللغة العربية
C3: إدارة: | D3: ='بيان ع'!K3 -> 0 | I3: مـــــــــادة: | L3: =Z3 -> التربية الإسلامية | P3: =Z5 -> 1/1 | Y3: اختر المادة | Z3: التربية الإسلامية | AE3: =COUNTIF(#REF!,AG2) -> #REF! | AF3: =COUNTIF(#REF!,AG3) -> #REF! | AG3: معيد | AI3: الخامس الابتدائي | AJ3: الرياضيات
C4: معهد: | D4: ='بيان ع'!K4 -> 0 | I4: عام: | J4: ='بيان ع'!K7 -> 2026م/ 2027م | AI4: السادس الابتدائي | AJ4: العلوم
C5: جلوس | D5: الاســــم | E5: الشهر الأول | I5: الشهر الثاني | M5: الشهر الثالث | P5: متوسط التقييمات | Q5: متوسط المواظبة والسلوك | R5: اختبار الشهور | U5: مجموع التقييمات والشهور | V5: فصل دراسي | W5: المجموع | Y5: اختر الفصل | Z5: 1/1 | AJ5: الإنجليزي
E6: تقييم( 1 ) | F6: تقييم( 2 ) | G6: مواظبة وسلوك | H6: المجموع | I6: تقييم( 1 ) | J6: تقييم( 2 ) | K6: مواظبة وسلوك | L6: المجموع | M6: تقييم( 1 ) | N6: مواظبة وسلوك | O6: المجموع | R6: الشهر الأول | S6: الشهر الثاني | T6: المجموع
A7: م | B7: م | E7: 7.5 | F7: 7.5 | G7: 15 | H7: 30 | I7: 7.5 | J7: 7.5 | K7: 15 | L7: 30 | M7: 15 | N7: 15 | O7: 30 | P7: 15 | Q7: 15 | R7: 5 | S7: 5 | T7: 10 | U7: 30 | V7: 60 | W7: 100
A8: =(IF($Z$5='بيان ع'!D2,ROW('بيان ع'!2:2)-1,yyyyy)) -> 1 | B8: =IFERROR(_xlfn.AGGREGATE(15,6,$A$8:$A$1010,ROW(A1)),"") -> 1 | C8: =IFERROR(VLOOKUP(B8,m,2,0),"") -> 0 | D8: =IFERROR(VLOOKUP(B8,m,3,0),"") -> 0 | AJ8: 0
A9: =(IF($Z$5='بيان ع'!D3,ROW('بيان ع'!3:3)-1,yyyyy)) -> #NAME? | B9: =IFERROR(_xlfn.AGGREGATE(15,6,$A$8:$A$1010,ROW(A2)),"") | C9: =IFERROR(VLOOKUP(B9,m,2,0),"") | D9: =IFERROR(VLOOKUP(B9,m,3,0),"")
A10: =(IF($Z$5='بيان ع'!D4,ROW('بيان ع'!4:4)-1,yyyyy)) -> #NAME? | B10: =IFERROR(_xlfn.AGGREGATE(15,6,$A$8:$A$1010,ROW(A3)),"") | C10: =IFERROR(VLOOKUP(B10,m,2,0),"") | D10: =IFERROR(VLOOKUP(B10,m,3,0),"")
A11: =(IF($Z$5='بيان ع'!D5,ROW('بيان ع'!5:5)-1,yyyyy)) -> #NAME? | B11: =IFERROR(_xlfn.AGGREGATE(15,6,$A$8:$A$1010,ROW(A4)),"") | C11: =IFERROR(VLOOKUP(B11,m,2,0),"") | D11: =IFERROR(VLOOKUP(B11,m,3,0),"")
A12: =(IF($Z$5='بيان ع'!D6,ROW('بيان ع'!6:6)-1,yyyyy)) -> #NAME? | B12: =IFERROR(_xlfn.AGGREGATE(15,6,$A$8:$A$1010,ROW(A5)),"") | C12: =IFERROR(VLOOKUP(B12,m,2,0),"") | D12: =IFERROR(VLOOKUP(B12,m,3,0),"")
A13: =(IF($Z$5='بيان ع'!D7,ROW('بيان ع'!7:7)-1,yyyyy)) -> #NAME? | B13: =IFERROR(_xlfn.AGGREGATE(15,6,$A$8:$A$1010,ROW(A6)),"") | C13: =IFERROR(VLOOKUP(B13,m,2,0),"") | D13: =IFERROR(VLOOKUP(B13,m,3,0),"")
A14: =(IF($Z$5='بيان ع'!D8,ROW('بيان ع'!8:8)-1,yyyyy)) -> #NAME? | B14: =IFERROR(_xlfn.AGGREGATE(15,6,$A$8:$A$1010,ROW(A7)),"") | C14: =IFERROR(VLOOKUP(B14,m,2,0),"") | D14: =IFERROR(VLOOKUP(B14,m,3,0),"")
A15: =(IF($Z$5='بيان ع'!D9,ROW('بيان ع'!9:9)-1,yyyyy)) -> #NAME? | B15: =IFERROR(_xlfn.AGGREGATE(15,6,$A$8:$A$1010,ROW(A8)),"") | C15: =IFERROR(VLOOKUP(B15,m,2,0),"") | D15: =IFERROR(VLOOKUP(B15,m,3,0),"")
A16: =(IF($Z$5='بيان ع'!D10,ROW('بيان ع'!10:10)-1,yyyyy)) -> #NAME? | B16: =IFERROR(_xlfn.AGGREGATE(15,6,$A$8:$A$1010,ROW(A9)),"") | C16: =IFERROR(VLOOKUP(B16,m,2,0),"") | D16: =IFERROR(VLOOKUP(B16,m,3,0),"")
A17: =(IF($Z$5='بيان ع'!D11,ROW('بيان ع'!11:11)-1,yyyyy)) -> #NAME? | B17: =IFERROR(_xlfn.AGGREGATE(15,6,$A$8:$A$1010,ROW(A10)),"") | C17: =IFERROR(VLOOKUP(B17,m,2,0),"") | D17: =IFERROR(VLOOKUP(B17,m,3,0),"")
A18: =(IF($Z$5='بيان ع'!D12,ROW('بيان ع'!12:12)-1,yyyyy)) -> #NAME? | B18: =IFERROR(_xlfn.AGGREGATE(15,6,$A$8:$A$1010,ROW(A11)),"") | C18: =IFERROR(VLOOKUP(B18,m,2,0),"") | D18: =IFERROR(VLOOKUP(B18,m,3,0),"")
A19: =(IF($Z$5='بيان ع'!D13,ROW('بيان ع'!13:13)-1,yyyyy)) -> #NAME? | B19: =IFERROR(_xlfn.AGGREGATE(15,6,$A$8:$A$1010,ROW(A12)),"") | C19: =IFERROR(VLOOKUP(B19,m,2,0),"") | D19: =IFERROR(VLOOKUP(B19,m,3,0),"")
A20: =(IF($Z$5='بيان ع'!D14,ROW('بيان ع'!14:14)-1,yyyyy)) -> #NAME? | B20: =IFERROR(_xlfn.AGGREGATE(15,6,$A$8:$A$1010,ROW(A13)),"") | C20: =IFERROR(VLOOKUP(B20,m,2,0),"") | D20: =IFERROR(VLOOKUP(B20,m,3,0),"")
A21: =(IF($Z$5='بيان ع'!D15,ROW('بيان ع'!15:15)-1,yyyyy)) -> #NAME? | B21: =IFERROR(_xlfn.AGGREGATE(15,6,$A$8:$A$1010,ROW(A14)),"") | C21: =IFERROR(VLOOKUP(B21,m,2,0),"") | D21: =IFERROR(VLOOKUP(B21,m,3,0),"")
A22: =(IF($Z$5='بيان ع'!D16,ROW('بيان ع'!16:16)-1,yyyyy)) -> #NAME? | B22: =IFERROR(_xlfn.AGGREGATE(15,6,$A$8:$A$1010,ROW(A15)),"") | C22: =IFERROR(VLOOKUP(B22,m,2,0),"") | D22: =IFERROR(VLOOKUP(B22,m,3,0),"")
A23: =(IF($Z$5='بيان ع'!D17,ROW('بيان ع'!17:17)-1,yyyyy)) -> #NAME? | B23: =IFERROR(_xlfn.AGGREGATE(15,6,$A$8:$A$1010,ROW(A16)),"") | C23: =IFERROR(VLOOKUP(B23,m,2,0),"") | D23: =IFERROR(VLOOKUP(B23,m,3,0),"")
A24: =(IF($Z$5='بيان ع'!D18,ROW('بيان ع'!18:18)-1,yyyyy)) -> #NAME? | B24: =IFERROR(_xlfn.AGGREGATE(15,6,$A$8:$A$1010,ROW(A17)),"") | C24: =IFERROR(VLOOKUP(B24,m,2,0),"") | D24: =IFERROR(VLOOKUP(B24,m,3,0),"")
A25: =(IF($Z$5='بيان ع'!D19,ROW('بيان ع'!19:19)-1,yyyyy)) -> #NAME? | B25: =IFERROR(_xlfn.AGGREGATE(15,6,$A$8:$A$1010,ROW(A18)),"") | C25: =IFERROR(VLOOKUP(B25,m,2,0),"") | D25: =IFERROR(VLOOKUP(B25,m,3,0),"")
A26: =(IF($Z$5='بيان ع'!D20,ROW('بيان ع'!20:20)-1,yyyyy)) -> #NAME? | B26: =IFERROR(_xlfn.AGGREGATE(15,6,$A$8:$A$1010,ROW(A19)),"") | C26: =IFERROR(VLOOKUP(B26,m,2,0),"") | D26: =IFERROR(VLOOKUP(B26,m,3,0),"")
A27: =(IF($Z$5='بيان ع'!D21,ROW('بيان ع'!21:21)-1,yyyyy)) -> #NAME? | B27: =IFERROR(_xlfn.AGGREGATE(15,6,$A$8:$A$1010,ROW(A20)),"") | C27: =IFERROR(VLOOKUP(B27,m,2,0),"") | D27: =IFERROR(VLOOKUP(B27,m,3,0),"")
A28: =(IF($Z$5='بيان ع'!D22,ROW('بيان ع'!22:22)-1,yyyyy)) -> #NAME? | B28: =IFERROR(_xlfn.AGGREGATE(15,6,$A$8:$A$1010,ROW(A21)),"") | C28: =IFERROR(VLOOKUP(B28,m,2,0),"") | D28: =IFERROR(VLOOKUP(B28,m,3,0),"")
A29: =(IF($Z$5='بيان ع'!D23,ROW('بيان ع'!23:23)-1,yyyyy)) -> #NAME? | B29: =IFERROR(_xlfn.AGGREGATE(15,6,$A$8:$A$1010,ROW(A22)),"") | C29: =IFERROR(VLOOKUP(B29,m,2,0),"") | D29: =IFERROR(VLOOKUP(B29,m,3,0),"")
A30: =(IF($Z$5='بيان ع'!D24,ROW('بيان ع'!24:24)-1,yyyyy)) -> #NAME? | B30: =IFERROR(_xlfn.AGGREGATE(15,6,$A$8:$A$1010,ROW(A23)),"") | C30: =IFERROR(VLOOKUP(B30,m,2,0),"") | D30: =IFERROR(VLOOKUP(B30,m,3,0),"")
A31: =(IF($Z$5='بيان ع'!D25,ROW('بيان ع'!25:25)-1,yyyyy)) -> #NAME? | B31: =IFERROR(_xlfn.AGGREGATE(15,6,$A$8:$A$1010,ROW(A24)),"") | C31: =IFERROR(VLOOKUP(B31,m,2,0),"") | D31: =IFERROR(VLOOKUP(B31,m,3,0),"")
A32: =(IF($Z$5='بيان ع'!D26,ROW('بيان ع'!26:26)-1,yyyyy)) -> #NAME? | B32: =IFERROR(_xlfn.AGGREGATE(15,6,$A$8:$A$1010,ROW(A25)),"") | C32: =IFERROR(VLOOKUP(B32,m,2,0),"") | D32: =IFERROR(VLOOKUP(B32,m,3,0),"")
A33: =(IF($Z$5='بيان ع'!D27,ROW('بيان ع'!27:27)-1,yyyyy)) -> #NAME? | B33: =IFERROR(_xlfn.AGGREGATE(15,6,$A$8:$A$1010,ROW(A26)),"") | C33: =IFERROR(VLOOKUP(B33,m,2,0),"") | D33: =IFERROR(VLOOKUP(B33,m,3,0),"")
A34: =(IF($Z$5='بيان ع'!D28,ROW('بيان ع'!28:28)-1,yyyyy)) -> #NAME? | B34: =IFERROR(_xlfn.AGGREGATE(15,6,$A$8:$A$1010,ROW(A27)),"") | C34: =IFERROR(VLOOKUP(B34,m,2,0),"") | D34: =IFERROR(VLOOKUP(B34,m,3,0),"")
A35: =(IF($Z$5='بيان ع'!D29,ROW('بيان ع'!29:29)-1,yyyyy)) -> #NAME? | B35: =IFERROR(_xlfn.AGGREGATE(15,6,$A$8:$A$1010,ROW(A28)),"") | C35: =IFERROR(VLOOKUP(B35,m,2,0),"") | D35: =IFERROR(VLOOKUP(B35,m,3,0),"")
A36: =(IF($Z$5='بيان ع'!D30,ROW('بيان ع'!30:30)-1,yyyyy)) -> #NAME? | B36: =IFERROR(_xlfn.AGGREGATE(15,6,$A$8:$A$1010,ROW(A29)),"") | C36: =IFERROR(VLOOKUP(B36,m,2,0),"") | D36: =IFERROR(VLOOKUP(B36,m,3,0),"")
A37: =(IF($Z$5='بيان ع'!D31,ROW('بيان ع'!31:31)-1,yyyyy)) -> #NAME? | B37: =IFERROR(_xlfn.AGGREGATE(15,6,$A$8:$A$1010,ROW(A30)),"") | C37: =IFERROR(VLOOKUP(B37,m,2,0),"") | D37: =IFERROR(VLOOKUP(B37,m,3,0),"")
A38: =(IF($Z$5='بيان ع'!D32,ROW('بيان ع'!32:32)-1,yyyyy)) -> #NAME? | B38: =IFERROR(_xlfn.AGGREGATE(15,6,$A$8:$A$1010,ROW(A31)),"") | C38: =IFERROR(VLOOKUP(B38,m,2,0),"") | D38: =IFERROR(VLOOKUP(B38,m,3,0),"")
A39: =(IF($Z$5='بيان ع'!D33,ROW('بيان ع'!33:33)-1,yyyyy)) -> #NAME? | B39: =IFERROR(_xlfn.AGGREGATE(15,6,$A$8:$A$1010,ROW(A32)),"") | C39: =IFERROR(VLOOKUP(B39,m,2,0),"") | D39: =IFERROR(VLOOKUP(B39,m,3,0),"")
A40: =(IF($Z$5='بيان ع'!D34,ROW('بيان ع'!34:34)-1,yyyyy)) -> #NAME? | B40: =IFERROR(_xlfn.AGGREGATE(15,6,$A$8:$A$1010,ROW(A33)),"") | C40: =IFERROR(VLOOKUP(B40,m,2,0),"") | D40: =IFERROR(VLOOKUP(B40,m,3,0),"")
A41: =(IF($Z$5='بيان ع'!D35,ROW('بيان ع'!35:35)-1,yyyyy)) -> #NAME? | B41: =IFERROR(_xlfn.AGGREGATE(15,6,$A$8:$A$1010,ROW(A34)),"") | C41: =IFERROR(VLOOKUP(B41,m,2,0),"") | D41: =IFERROR(VLOOKUP(B41,m,3,0),"")
A42: =(IF($Z$5='بيان ع'!D36,ROW('بيان ع'!36:36)-1,yyyyy)) -> #NAME? | B42: =IFERROR(_xlfn.AGGREGATE(15,6,$A$8:$A$1010,ROW(A35)),"") | C42: =IFERROR(VLOOKUP(B42,m,2,0),"") | D42: =IFERROR(VLOOKUP(B42,m,3,0),"")
A43: =(IF($Z$5='بيان ع'!D37,ROW('بيان ع'!37:37)-1,yyyyy)) -> #NAME? | B43: =IFERROR(_xlfn.AGGREGATE(15,6,$A$8:$A$1010,ROW(A36)),"") | C43: =IFERROR(VLOOKUP(B43,m,2,0),"") | D43: =IFERROR(VLOOKUP(B43,m,3,0),"")
A44: =(IF($Z$5='بيان ع'!D38,ROW('بيان ع'!38:38)-1,yyyyy)) -> #NAME? | B44: =IFERROR(_xlfn.AGGREGATE(15,6,$A$8:$A$1010,ROW(A37)),"") | C44: =IFERROR(VLOOKUP(B44,m,2,0),"") | D44: =IFERROR(VLOOKUP(B44,m,3,0),"")
A45: =(IF($Z$5='بيان ع'!D39,ROW('بيان ع'!39:39)-1,yyyyy)) -> #NAME? | B45: =IFERROR(_xlfn.AGGREGATE(15,6,$A$8:$A$1010,ROW(A38)),"") | C45: =IFERROR(VLOOKUP(B45,m,2,0),"") | D45: =IFERROR(VLOOKUP(B45,m,3,0),"")
A46: =(IF($Z$5='بيان ع'!D40,ROW('بيان ع'!40:40)-1,yyyyy)) -> #NAME? | B46: =IFERROR(_xlfn.AGGREGATE(15,6,$A$8:$A$1010,ROW(A39)),"") | C46: =IFERROR(VLOOKUP(B46,m,2,0),"") | D46: =IFERROR(VLOOKUP(B46,m,3,0),"")
A47: =(IF($Z$5='بيان ع'!D41,ROW('بيان ع'!41:41)-1,yyyyy)) -> #NAME? | B47: =IFERROR(_xlfn.AGGREGATE(15,6,$A$8:$A$1010,ROW(A40)),"") | C47: =IFERROR(VLOOKUP(B47,m,2,0),"") | D47: =IFERROR(VLOOKUP(B47,m,3,0),"")
A48: =(IF($Z$5='بيان ع'!D42,ROW('بيان ع'!42:42)-1,yyyyy)) -> #NAME? | B48: =IFERROR(_xlfn.AGGREGATE(15,6,$A$8:$A$1010,ROW(A41)),"") | C48: =IFERROR(VLOOKUP(B48,m,2,0),"") | D48: =IFERROR(VLOOKUP(B48,m,3,0),"")
A49: =(IF($Z$5='بيان ع'!D43,ROW('بيان ع'!43:43)-1,yyyyy)) -> #NAME? | B49: =IFERROR(_xlfn.AGGREGATE(15,6,$A$8:$A$1010,ROW(A42)),"") | C49: =IFERROR(VLOOKUP(B49,m,2,0),"") | D49: =IFERROR(VLOOKUP(B49,m,3,0),"")
A50: =(IF($Z$5='بيان ع'!D44,ROW('بيان ع'!44:44)-1,yyyyy)) -> #NAME? | B50: =IFERROR(_xlfn.AGGREGATE(15,6,$A$8:$A$1010,ROW(A43)),"") | C50: =IFERROR(VLOOKUP(B50,m,2,0),"") | D50: =IFERROR(VLOOKUP(B50,m,3,0),"")
A51: =(IF($Z$5='بيان ع'!D45,ROW('بيان ع'!45:45)-1,yyyyy)) -> #NAME? | B51: =IFERROR(_xlfn.AGGREGATE(15,6,$A$8:$A$1010,ROW(A44)),"") | C51: =IFERROR(VLOOKUP(B51,m,2,0),"") | D51: =IFERROR(VLOOKUP(B51,m,3,0),"")
A52: =(IF($Z$5='بيان ع'!D46,ROW('بيان ع'!46:46)-1,yyyyy)) -> #NAME? | B52: =IFERROR(_xlfn.AGGREGATE(15,6,$A$8:$A$1010,ROW(A45)),"") | C52: =IFERROR(VLOOKUP(B52,m,2,0),"") | D52: =IFERROR(VLOOKUP(B52,m,3,0),"")
A53: =(IF($Z$5='بيان ع'!D47,ROW('بيان ع'!47:47)-1,yyyyy)) -> #NAME? | B53: =IFERROR(_xlfn.AGGREGATE(15,6,$A$8:$A$1010,ROW(A46)),"") | C53: =IFERROR(VLOOKUP(B53,m,2,0),"") | D53: =IFERROR(VLOOKUP(B53,m,3,0),"")
A54: =(IF($Z$5='بيان ع'!D48,ROW('بيان ع'!48:48)-1,yyyyy)) -> #NAME? | B54: =IFERROR(_xlfn.AGGREGATE(15,6,$A$8:$A$1010,ROW(A47)),"") | C54: =IFERROR(VLOOKUP(B54,m,2,0),"") | D54: =IFERROR(VLOOKUP(B54,m,3,0),"")
A55: =(IF($Z$5='بيان ع'!D49,ROW('بيان ع'!49:49)-1,yyyyy)) -> #NAME? | B55: =IFERROR(_xlfn.AGGREGATE(15,6,$A$8:$A$1010,ROW(A48)),"") | C55: =IFERROR(VLOOKUP(B55,m,2,0),"") | D55: =IFERROR(VLOOKUP(B55,m,3,0),"")
A56: =(IF($Z$5='بيان ع'!D50,ROW('بيان ع'!50:50)-1,yyyyy)) -> #NAME? | B56: =IFERROR(_xlfn.AGGREGATE(15,6,$A$8:$A$1010,ROW(A49)),"") | C56: =IFERROR(VLOOKUP(B56,m,2,0),"") | D56: =IFERROR(VLOOKUP(B56,m,3,0),"")
A57: =(IF($Z$5='بيان ع'!D51,ROW('بيان ع'!51:51)-1,yyyyy)) -> #NAME? | B57: =IFERROR(_xlfn.AGGREGATE(15,6,$A$8:$A$1010,ROW(A50)),"") | C57: =IFERROR(VLOOKUP(B57,m,2,0),"") | D57: =IFERROR(VLOOKUP(B57,m,3,0),"")
A58: =(IF($Z$5='بيان ع'!D52,ROW('بيان ع'!52:52)-1,yyyyy)) -> #NAME? | B58: =IFERROR(_xlfn.AGGREGATE(15,6,$A$8:$A$1010,ROW(A51)),"") | C58: =IFERROR(VLOOKUP(B58,m,2,0),"") | D58: =IFERROR(VLOOKUP(B58,m,3,0),"")
A59: =(IF($Z$5='بيان ع'!D53,ROW('بيان ع'!53:53)-1,yyyyy)) -> #NAME? | B59: =IFERROR(_xlfn.AGGREGATE(15,6,$A$8:$A$1010,ROW(A52)),"") | C59: =IFERROR(VLOOKUP(B59,m,2,0),"") | D59: =IFERROR(VLOOKUP(B59,m,3,0),"")
A60: =(IF($Z$5='بيان ع'!D54,ROW('بيان ع'!54:54)-1,yyyyy)) -> #NAME? | B60: =IFERROR(_xlfn.AGGREGATE(15,6,$A$8:$A$1010,ROW(A53)),"") | C60: =IFERROR(VLOOKUP(B60,m,2,0),"") | D60: =IFERROR(VLOOKUP(B60,m,3,0),"")
A61: =(IF($Z$5='بيان ع'!D55,ROW('بيان ع'!55:55)-1,yyyyy)) -> #NAME? | B61: =IFERROR(_xlfn.AGGREGATE(15,6,$A$8:$A$1010,ROW(A54)),"") | C61: =IFERROR(VLOOKUP(B61,m,2,0),"") | D61: =IFERROR(VLOOKUP(B61,m,3,0),"")
A62: =(IF($Z$5='بيان ع'!D56,ROW('بيان ع'!56:56)-1,yyyyy)) -> #NAME? | B62: =IFERROR(_xlfn.AGGREGATE(15,6,$A$8:$A$1010,ROW(A55)),"") | C62: =IFERROR(VLOOKUP(B62,m,2,0),"") | D62: =IFERROR(VLOOKUP(B62,m,3,0),"")
A63: =(IF($Z$5='بيان ع'!D57,ROW('بيان ع'!57:57)-1,yyyyy)) -> #NAME? | B63: =IFERROR(_xlfn.AGGREGATE(15,6,$A$8:$A$1010,ROW(A56)),"") | C63: =IFERROR(VLOOKUP(B63,m,2,0),"") | D63: =IFERROR(VLOOKUP(B63,m,3,0),"")
A64: =(IF($Z$5='بيان ع'!D58,ROW('بيان ع'!58:58)-1,yyyyy)) -> #NAME? | B64: =IFERROR(_xlfn.AGGREGATE(15,6,$A$8:$A$1010,ROW(A57)),"") | C64: =IFERROR(VLOOKUP(B64,m,2,0),"") | D64: =IFERROR(VLOOKUP(B64,m,3,0),"")
A65: =(IF($Z$5='بيان ع'!D59,ROW('بيان ع'!59:59)-1,yyyyy)) -> #NAME? | B65: =IFERROR(_xlfn.AGGREGATE(15,6,$A$8:$A$1010,ROW(A58)),"") | C65: =IFERROR(VLOOKUP(B65,m,2,0),"") | D65: =IFERROR(VLOOKUP(B65,m,3,0),"")
A66: =(IF($Z$5='بيان ع'!D60,ROW('بيان ع'!60:60)-1,yyyyy)) -> #NAME? | B66: =IFERROR(_xlfn.AGGREGATE(15,6,$A$8:$A$1010,ROW(A59)),"") | C66: =IFERROR(VLOOKUP(B66,m,2,0),"") | D66: =IFERROR(VLOOKUP(B66,m,3,0),"")
A67: =(IF($Z$5='بيان ع'!D61,ROW('بيان ع'!61:61)-1,yyyyy)) -> #NAME? | B67: =IFERROR(_xlfn.AGGREGATE(15,6,$A$8:$A$1010,ROW(A60)),"") | C67: =IFERROR(VLOOKUP(B67,m,2,0),"") | D67: =IFERROR(VLOOKUP(B67,m,3,0),"")
A68: =(IF($Z$5='بيان ع'!D62,ROW('بيان ع'!62:62)-1,yyyyy)) -> #NAME? | B68: =IFERROR(_xlfn.AGGREGATE(15,6,$A$8:$A$1010,ROW(A61)),"") | C68: =IFERROR(VLOOKUP(B68,m,2,0),"") | D68: =IFERROR(VLOOKUP(B68,m,3,0),"")
A69: =(IF($Z$5='بيان ع'!D63,ROW('بيان ع'!63:63)-1,yyyyy)) -> #NAME? | B69: =IFERROR(_xlfn.AGGREGATE(15,6,$A$8:$A$1010,ROW(A62)),"") | C69: =IFERROR(VLOOKUP(B69,m,2,0),"") | D69: =IFERROR(VLOOKUP(B69,m,3,0),"")
A70: =(IF($Z$5='بيان ع'!D64,ROW('بيان ع'!64:64)-1,yyyyy)) -> #NAME? | B70: =IFERROR(_xlfn.AGGREGATE(15,6,$A$8:$A$1010,ROW(A63)),"") | C70: =IFERROR(VLOOKUP(B70,m,2,0),"") | D70: =IFERROR(VLOOKUP(B70,m,3,0),"")
A71: =(IF($Z$5='بيان ع'!D65,ROW('بيان ع'!65:65)-1,yyyyy)) -> #NAME? | B71: =IFERROR(_xlfn.AGGREGATE(15,6,$A$8:$A$1010,ROW(A64)),"") | C71: =IFERROR(VLOOKUP(B71,m,2,0),"") | D71: =IFERROR(VLOOKUP(B71,m,3,0),"")
A72: =(IF($Z$5='بيان ع'!D66,ROW('بيان ع'!66:66)-1,yyyyy)) -> #NAME? | B72: =IFERROR(_xlfn.AGGREGATE(15,6,$A$8:$A$1010,ROW(A65)),"") | C72: =IFERROR(VLOOKUP(B72,m,2,0),"") | D72: =IFERROR(VLOOKUP(B72,m,3,0),"")
A73: =(IF($Z$5='بيان ع'!D67,ROW('بيان ع'!67:67)-1,yyyyy)) -> #NAME? | B73: =IFERROR(_xlfn.AGGREGATE(15,6,$A$8:$A$1010,ROW(A66)),"") | C73: =IFERROR(VLOOKUP(B73,m,2,0),"") | D73: =IFERROR(VLOOKUP(B73,m,3,0),"")
A74: =(IF($Z$5='بيان ع'!D68,ROW('بيان ع'!68:68)-1,yyyyy)) -> #NAME? | B74: =IFERROR(_xlfn.AGGREGATE(15,6,$A$8:$A$1010,ROW(A67)),"") | C74: =IFERROR(VLOOKUP(B74,m,2,0),"") | D74: =IFERROR(VLOOKUP(B74,m,3,0),"")
A75: =(IF($Z$5='بيان ع'!D69,ROW('بيان ع'!69:69)-1,yyyyy)) -> #NAME? | B75: =IFERROR(_xlfn.AGGREGATE(15,6,$A$8:$A$1010,ROW(A68)),"") | C75: =IFERROR(VLOOKUP(B75,m,2,0),"") | D75: =IFERROR(VLOOKUP(B75,m,3,0),"")
A76: =(IF($Z$5='بيان ع'!D70,ROW('بيان ع'!70:70)-1,yyyyy)) -> #NAME? | B76: =IFERROR(_xlfn.AGGREGATE(15,6,$A$8:$A$1010,ROW(A69)),"") | C76: =IFERROR(VLOOKUP(B76,m,2,0),"") | D76: =IFERROR(VLOOKUP(B76,m,3,0),"")
A77: =(IF($Z$5='بيان ع'!D71,ROW('بيان ع'!71:71)-1,yyyyy)) -> #NAME? | B77: =IFERROR(_xlfn.AGGREGATE(15,6,$A$8:$A$1010,ROW(A70)),"") | C77: =IFERROR(VLOOKUP(B77,m,2,0),"") | D77: =IFERROR(VLOOKUP(B77,m,3,0),"")
A78: =(IF($Z$5='بيان ع'!D72,ROW('بيان ع'!72:72)-1,yyyyy)) -> #NAME? | B78: =IFERROR(_xlfn.AGGREGATE(15,6,$A$8:$A$1010,ROW(A71)),"") | C78: معلم المادة | F78: رئيس الكنترول | Q78: يعتمد شيخ المعهد
A79: =(IF($Z$5='بيان ع'!D73,ROW('بيان ع'!73:73)-1,yyyyy)) -> #NAME? | B79: =IFERROR(_xlfn.AGGREGATE(15,6,$A$8:$A$1010,ROW(A72)),"") | C79: ........................................................... | F79: ='بيان ع'!K5 -> 0 | Q79: ='بيان ع'!K6 -> 0
A80: =(IF($Z$5='بيان ع'!D74,ROW('بيان ع'!74:74)-1,yyyyy)) -> #NAME? | B80: =IFERROR(_xlfn.AGGREGATE(15,6,$A$8:$A$1010,ROW(A73)),"")
A81: =(IF($Z$5='بيان ع'!D75,ROW('بيان ع'!75:75)-1,yyyyy)) -> #NAME? | B81: =IFERROR(_xlfn.AGGREGATE(15,6,$A$8:$A$1010,ROW(A74)),"")
A82: =(IF($Z$5='بيان ع'!D76,ROW('بيان ع'!76:76)-1,yyyyy)) -> #NAME? | B82: =IFERROR(_xlfn.AGGREGATE(15,6,$A$8:$A$1010,ROW(A75)),"")
A83: =(IF($Z$5='بيان ع'!D77,ROW('بيان ع'!77:77)-1,yyyyy)) -> #NAME? | B83: =IFERROR(_xlfn.AGGREGATE(15,6,$A$8:$A$1010,ROW(A76)),"")
A84: =(IF($Z$5='بيان ع'!D78,ROW('بيان ع'!78:78)-1,yyyyy)) -> #NAME? | B84: =IFERROR(_xlfn.AGGREGATE(15,6,$A$8:$A$1010,ROW(A77)),"")
A85: =(IF($Z$5='بيان ع'!D79,ROW('بيان ع'!79:79)-1,yyyyy)) -> #NAME? | B85: =IFERROR(_xlfn.AGGREGATE(15,6,$A$8:$A$1010,ROW(A78)),"")
A86: =(IF($Z$5='بيان ع'!D80,ROW('بيان ع'!80:80)-1,yyyyy)) -> #NAME? | B86: =IFERROR(_xlfn.AGGREGATE(15,6,$A$8:$A$1010,ROW(A79)),"")
A87: =(IF($Z$5='بيان ع'!D81,ROW('بيان ع'!81:81)-1,yyyyy)) -> #NAME? | B87: =IFERROR(_xlfn.AGGREGATE(15,6,$A$8:$A$1010,ROW(A80)),"")
A88: =(IF($Z$5='بيان ع'!D82,ROW('بيان ع'!82:82)-1,yyyyy)) -> #NAME? | B88: =IFERROR(_xlfn.AGGREGATE(15,6,$A$8:$A$1010,ROW(A81)),"")
A89: =(IF($Z$5='بيان ع'!D83,ROW('بيان ع'!83:83)-1,yyyyy)) -> #NAME? | B89: =IFERROR(_xlfn.AGGREGATE(15,6,$A$8:$A$1010,ROW(A82)),"")
A90: =(IF($Z$5='بيان ع'!D84,ROW('بيان ع'!84:84)-1,yyyyy)) -> #NAME? | B90: =IFERROR(_xlfn.AGGREGATE(15,6,$A$8:$A$1010,ROW(A83)),"")
A91: =(IF($Z$5='بيان ع'!D85,ROW('بيان ع'!85:85)-1,yyyyy)) -> #NAME? | B91: =IFERROR(_xlfn.AGGREGATE(15,6,$A$8:$A$1010,ROW(A84)),"")
A92: =(IF($Z$5='بيان ع'!D86,ROW('بيان ع'!86:86)-1,yyyyy)) -> #NAME? | B92: =IFERROR(_xlfn.AGGREGATE(15,6,$A$8:$A$1010,ROW(A85)),"")
A93: =(IF($Z$5='بيان ع'!D87,ROW('بيان ع'!87:87)-1,yyyyy)) -> #NAME? | B93: =IFERROR(_xlfn.AGGREGATE(15,6,$A$8:$A$1010,ROW(A86)),"")
A94: =(IF($Z$5='بيان ع'!D88,ROW('بيان ع'!88:88)-1,yyyyy)) -> #NAME? | B94: =IFERROR(_xlfn.AGGREGATE(15,6,$A$8:$A$1010,ROW(A87)),"")
A95: =(IF($Z$5='بيان ع'!D89,ROW('بيان ع'!89:89)-1,yyyyy)) -> #NAME? | B95: =IFERROR(_xlfn.AGGREGATE(15,6,$A$8:$A$1010,ROW(A88)),"")
A96: =(IF($Z$5='بيان ع'!D90,ROW('بيان ع'!90:90)-1,yyyyy)) -> #NAME? | B96: =IFERROR(_xlfn.AGGREGATE(15,6,$A$8:$A$1010,ROW(A89)),"")
A97: =(IF($Z$5='بيان ع'!D91,ROW('بيان ع'!91:91)-1,yyyyy)) -> #NAME? | B97: =IFERROR(_xlfn.AGGREGATE(15,6,$A$8:$A$1010,ROW(A90)),"")
A98: =(IF($Z$5='بيان ع'!D92,ROW('بيان ع'!92:92)-1,yyyyy)) -> #NAME? | B98: =IFERROR(_xlfn.AGGREGATE(15,6,$A$8:$A$1010,ROW(A91)),"")
A99: =(IF($Z$5='بيان ع'!D93,ROW('بيان ع'!93:93)-1,yyyyy)) -> #NAME? | B99: =IFERROR(_xlfn.AGGREGATE(15,6,$A$8:$A$1010,ROW(A92)),"")
A100: =(IF($Z$5='بيان ع'!D94,ROW('بيان ع'!94:94)-1,yyyyy)) -> #NAME? | B100: =IFERROR(_xlfn.AGGREGATE(15,6,$A$8:$A$1010,ROW(A93)),"")
...

Sheet الرابع
C1: الأزهر الشريف | AA1: غ | AB1: 1 | AC1: =SUM(AA1:AB1)+SUM(Y1:Z1) -> 1 | AD1: =AC1/2 -> 0.5 | AE1: مستجد | AF1: معيد | AI1: الثالث الابتدائي | AQ1: فصل
C2: منطقة: | D2: ='بيان ع'!K2 -> 0 | I2: كشف تقييم الصف | L2: الرابع الابتدائي | AE2: =COUNTIF(#REF!,AG2) -> #REF! | AF2: =COUNTIF(#REF!,AG3) -> #REF! | AG2: مستجد | AI2: الرابع الابتدائي
C3: إدارة: | D3: ='بيان ع'!K3 -> 0 | I3: مـــــــــادة: | L3: =Z3 -> التربية الإسلامية | P3: =Z5 -> 1/1 | Y3: اختر المادة | Z3: التربية الإسلامية | AE3: =COUNTIF(#REF!,AG2) -> #REF! | AF3: =COUNTIF(#REF!,AG3) -> #REF! | AG3: معيد | AI3: الخامس الابتدائي | AJ3: التربية الإسلامية
C4: معهد: | D4: ='بيان ع'!K4 -> 0 | I4: عام: | J4: ='بيان ع'!K7 -> 2026م/ 2027م | AI4: السادس الابتدائي | AJ4: اللغة العربية والخط
C5: جلوس | D5: الاســــم | E5: الشهر الأول | I5: الشهر الثاني | M5: الشهر الثالث | P5: متوسط التقييمات | Q5: متوسط المواظبة والسلوك | R5: اختبار الشهور | U5: مجموع التقييمات والشهور | V5: فصل دراسي | W5: المجموع | Y5: اختر الفصل | Z5: 1/1 | AJ5: الرياضيات
E6: تقييم( 1 ) | F6: تقييم( 2 ) | G6: مواظبة وسلوك | H6: المجموع | I6: تقييم( 1 ) | J6: تقييم( 2 ) | K6: مواظبة وسلوك | L6: المجموع | M6: تقييم( 1 ) | N6: مواظبة وسلوك | O6: المجموع | R6: الشهر الأول | S6: الشهر الثاني | T6: المجموع | AJ6: العلوم
A7: م | B7: م | E7: 7.5 | F7: 7.5 | G7: 15 | H7: 30 | I7: 7.5 | J7: 7.5 | K7: 15 | L7: 30 | M7: 15 | N7: 15 | O7: 30 | P7: 15 | Q7: 15 | R7: 5 | S7: 5 | T7: 10 | U7: 30 | V7: 60 | W7: 100 | AJ7: الدراسات الاجتماعية
A8: =(IF($Z$5='بيان ع'!D2,ROW('بيان ع'!2:2)-1,yyyyy)) -> 1 | B8: =IFERROR(_xlfn.AGGREGATE(15,6,$A$8:$A$1010,ROW(A1)),"") -> 1 | C8: =IFERROR(VLOOKUP(B8,m,2,0),"") -> 0 | D8: =IFERROR(VLOOKUP(B8,m,3,0),"") -> 0 | AJ8: الإنجليزي
A9: =(IF($Z$5='بيان ع'!D3,ROW('بيان ع'!3:3)-1,yyyyy)) -> #NAME? | B9: =IFERROR(_xlfn.AGGREGATE(15,6,$A$8:$A$1010,ROW(A2)),"") | C9: =IFERROR(VLOOKUP(B9,m,2,0),"") | D9: =IFERROR(VLOOKUP(B9,m,3,0),"")
A10: =(IF($Z$5='بيان ع'!D4,ROW('بيان ع'!4:4)-1,yyyyy)) -> #NAME? | B10: =IFERROR(_xlfn.AGGREGATE(15,6,$A$8:$A$1010,ROW(A3)),"") | C10: =IFERROR(VLOOKUP(B10,m,2,0),"") | D10: =IFERROR(VLOOKUP(B10,m,3,0),"")
A11: =(IF($Z$5='بيان ع'!D5,ROW('بيان ع'!5:5)-1,yyyyy)) -> #NAME? | B11: =IFERROR(_xlfn.AGGREGATE(15,6,$A$8:$A$1010,ROW(A4)),"") | C11: =IFERROR(VLOOKUP(B11,m,2,0),"") | D11: =IFERROR(VLOOKUP(B11,m,3,0),"")
A12: =(IF($Z$5='بيان ع'!D6,ROW('بيان ع'!6:6)-1,yyyyy)) -> #NAME? | B12: =IFERROR(_xlfn.AGGREGATE(15,6,$A$8:$A$1010,ROW(A5)),"") | C12: =IFERROR(VLOOKUP(B12,m,2,0),"") | D12: =IFERROR(VLOOKUP(B12,m,3,0),"")
A13: =(IF($Z$5='بيان ع'!D7,ROW('بيان ع'!7:7)-1,yyyyy)) -> #NAME? | B13: =IFERROR(_xlfn.AGGREGATE(15,6,$A$8:$A$1010,ROW(A6)),"") | C13: =IFERROR(VLOOKUP(B13,m,2,0),"") | D13: =IFERROR(VLOOKUP(B13,m,3,0),"")
A14: =(IF($Z$5='بيان ع'!D8,ROW('بيان ع'!8:8)-1,yyyyy)) -> #NAME? | B14: =IFERROR(_xlfn.AGGREGATE(15,6,$A$8:$A$1010,ROW(A7)),"") | C14: =IFERROR(VLOOKUP(B14,m,2,0),"") | D14: =IFERROR(VLOOKUP(B14,m,3,0),"")
A15: =(IF($Z$5='بيان ع'!D9,ROW('بيان ع'!9:9)-1,yyyyy)) -> #NAME? | B15: =IFERROR(_xlfn.AGGREGATE(15,6,$A$8:$A$1010,ROW(A8)),"") | C15: =IFERROR(VLOOKUP(B15,m,2,0),"") | D15: =IFERROR(VLOOKUP(B15,m,3,0),"")
A16: =(IF($Z$5='بيان ع'!D10,ROW('بيان ع'!10:10)-1,yyyyy)) -> #NAME? | B16: =IFERROR(_xlfn.AGGREGATE(15,6,$A$8:$A$1010,ROW(A9)),"") | C16: =IFERROR(VLOOKUP(B16,m,2,0),"") | D16: =IFERROR(VLOOKUP(B16,m,3,0),"")
A17: =(IF($Z$5='بيان ع'!D11,ROW('بيان ع'!11:11)-1,yyyyy)) -> #NAME? | B17: =IFERROR(_xlfn.AGGREGATE(15,6,$A$8:$A$1010,ROW(A10)),"") | C17: =IFERROR(VLOOKUP(B17,m,2,0),"") | D17: =IFERROR(VLOOKUP(B17,m,3,0),"")
A18: =(IF($Z$5='بيان ع'!D12,ROW('بيان ع'!12:12)-1,yyyyy)) -> #NAME? | B18: =IFERROR(_xlfn.AGGREGATE(15,6,$A$8:$A$1010,ROW(A11)),"") | C18: =IFERROR(VLOOKUP(B18,m,2,0),"") | D18: =IFERROR(VLOOKUP(B18,m,3,0),"")
A19: =(IF($Z$5='بيان ع'!D13,ROW('بيان ع'!13:13)-1,yyyyy)) -> #NAME? | B19: =IFERROR(_xlfn.AGGREGATE(15,6,$A$8:$A$1010,ROW(A12)),"") | C19: =IFERROR(VLOOKUP(B19,m,2,0),"") | D19: =IFERROR(VLOOKUP(B19,m,3,0),"")
A20: =(IF($Z$5='بيان ع'!D14,ROW('بيان ع'!14:14)-1,yyyyy)) -> #NAME? | B20: =IFERROR(_xlfn.AGGREGATE(15,6,$A$8:$A$1010,ROW(A13)),"") | C20: =IFERROR(VLOOKUP(B20,m,2,0),"") | D20: =IFERROR(VLOOKUP(B20,m,3,0),"")
A21: =(IF($Z$5='بيان ع'!D15,ROW('بيان ع'!15:15)-1,yyyyy)) -> #NAME? | B21: =IFERROR(_xlfn.AGGREGATE(15,6,$A$8:$A$1010,ROW(A14)),"") | C21: =IFERROR(VLOOKUP(B21,m,2,0),"") | D21: =IFERROR(VLOOKUP(B21,m,3,0),"")
A22: =(IF($Z$5='بيان ع'!D16,ROW('بيان ع'!16:16)-1,yyyyy)) -> #NAME? | B22: =IFERROR(_xlfn.AGGREGATE(15,6,$A$8:$A$1010,ROW(A15)),"") | C22: =IFERROR(VLOOKUP(B22,m,2,0),"") | D22: =IFERROR(VLOOKUP(B22,m,3,0),"")
A23: =(IF($Z$5='بيان ع'!D17,ROW('بيان ع'!17:17)-1,yyyyy)) -> #NAME? | B23: =IFERROR(_xlfn.AGGREGATE(15,6,$A$8:$A$1010,ROW(A16)),"") | C23: =IFERROR(VLOOKUP(B23,m,2,0),"") | D23: =IFERROR(VLOOKUP(B23,m,3,0),"")
A24: =(IF($Z$5='بيان ع'!D18,ROW('بيان ع'!18:18)-1,yyyyy)) -> #NAME? | B24: =IFERROR(_xlfn.AGGREGATE(15,6,$A$8:$A$1010,ROW(A17)),"") | C24: =IFERROR(VLOOKUP(B24,m,2,0),"") | D24: =IFERROR(VLOOKUP(B24,m,3,0),"")
A25: =(IF($Z$5='بيان ع'!D19,ROW('بيان ع'!19:19)-1,yyyyy)) -> #NAME? | B25: =IFERROR(_xlfn.AGGREGATE(15,6,$A$8:$A$1010,ROW(A18)),"") | C25: =IFERROR(VLOOKUP(B25,m,2,0),"") | D25: =IFERROR(VLOOKUP(B25,m,3,0),"")
A26: =(IF($Z$5='بيان ع'!D20,ROW('بيان ع'!20:20)-1,yyyyy)) -> #NAME? | B26: =IFERROR(_xlfn.AGGREGATE(15,6,$A$8:$A$1010,ROW(A19)),"") | C26: =IFERROR(VLOOKUP(B26,m,2,0),"") | D26: =IFERROR(VLOOKUP(B26,m,3,0),"")
A27: =(IF($Z$5='بيان ع'!D21,ROW('بيان ع'!21:21)-1,yyyyy)) -> #NAME? | B27: =IFERROR(_xlfn.AGGREGATE(15,6,$A$8:$A$1010,ROW(A20)),"") | C27: =IFERROR(VLOOKUP(B27,m,2,0),"") | D27: =IFERROR(VLOOKUP(B27,m,3,0),"")
A28: =(IF($Z$5='بيان ع'!D22,ROW('بيان ع'!22:22)-1,yyyyy)) -> #NAME? | B28: =IFERROR(_xlfn.AGGREGATE(15,6,$A$8:$A$1010,ROW(A21)),"") | C28: =IFERROR(VLOOKUP(B28,m,2,0),"") | D28: =IFERROR(VLOOKUP(B28,m,3,0),"")
A29: =(IF($Z$5='بيان ع'!D23,ROW('بيان ع'!23:23)-1,yyyyy)) -> #NAME? | B29: =IFERROR(_xlfn.AGGREGATE(15,6,$A$8:$A$1010,ROW(A22)),"") | C29: =IFERROR(VLOOKUP(B29,m,2,0),"") | D29: =IFERROR(VLOOKUP(B29,m,3,0),"")
A30: =(IF($Z$5='بيان ع'!D24,ROW('بيان ع'!24:24)-1,yyyyy)) -> #NAME? | B30: =IFERROR(_xlfn.AGGREGATE(15,6,$A$8:$A$1010,ROW(A23)),"") | C30: =IFERROR(VLOOKUP(B30,m,2,0),"") | D30: =IFERROR(VLOOKUP(B30,m,3,0),"")
A31: =(IF($Z$5='بيان ع'!D25,ROW('بيان ع'!25:25)-1,yyyyy)) -> #NAME? | B31: =IFERROR(_xlfn.AGGREGATE(15,6,$A$8:$A$1010,ROW(A24)),"") | C31: =IFERROR(VLOOKUP(B31,m,2,0),"") | D31: =IFERROR(VLOOKUP(B31,m,3,0),"")
A32: =(IF($Z$5='بيان ع'!D26,ROW('بيان ع'!26:26)-1,yyyyy)) -> #NAME? | B32: =IFERROR(_xlfn.AGGREGATE(15,6,$A$8:$A$1010,ROW(A25)),"") | C32: =IFERROR(VLOOKUP(B32,m,2,0),"") | D32: =IFERROR(VLOOKUP(B32,m,3,0),"")
A33: =(IF($Z$5='بيان ع'!D27,ROW('بيان ع'!27:27)-1,yyyyy)) -> #NAME? | B33: =IFERROR(_xlfn.AGGREGATE(15,6,$A$8:$A$1010,ROW(A26)),"") | C33: =IFERROR(VLOOKUP(B33,m,2,0),"") | D33: =IFERROR(VLOOKUP(B33,m,3,0),"")
A34: =(IF($Z$5='بيان ع'!D28,ROW('بيان ع'!28:28)-1,yyyyy)) -> #NAME? | B34: =IFERROR(_xlfn.AGGREGATE(15,6,$A$8:$A$1010,ROW(A27)),"") | C34: =IFERROR(VLOOKUP(B34,m,2,0),"") | D34: =IFERROR(VLOOKUP(B34,m,3,0),"")
A35: =(IF($Z$5='بيان ع'!D29,ROW('بيان ع'!29:29)-1,yyyyy)) -> #NAME? | B35: =IFERROR(_xlfn.AGGREGATE(15,6,$A$8:$A$1010,ROW(A28)),"") | C35: =IFERROR(VLOOKUP(B35,m,2,0),"") | D35: =IFERROR(VLOOKUP(B35,m,3,0),"")
A36: =(IF($Z$5='بيان ع'!D30,ROW('بيان ع'!30:30)-1,yyyyy)) -> #NAME? | B36: =IFERROR(_xlfn.AGGREGATE(15,6,$A$8:$A$1010,ROW(A29)),"") | C36: =IFERROR(VLOOKUP(B36,m,2,0),"") | D36: =IFERROR(VLOOKUP(B36,m,3,0),"")
A37: =(IF($Z$5='بيان ع'!D31,ROW('بيان ع'!31:31)-1,yyyyy)) -> #NAME? | B37: =IFERROR(_xlfn.AGGREGATE(15,6,$A$8:$A$1010,ROW(A30)),"") | C37: =IFERROR(VLOOKUP(B37,m,2,0),"") | D37: =IFERROR(VLOOKUP(B37,m,3,0),"")
A38: =(IF($Z$5='بيان ع'!D32,ROW('بيان ع'!32:32)-1,yyyyy)) -> #NAME? | B38: =IFERROR(_xlfn.AGGREGATE(15,6,$A$8:$A$1010,ROW(A31)),"") | C38: =IFERROR(VLOOKUP(B38,m,2,0),"") | D38: =IFERROR(VLOOKUP(B38,m,3,0),"")
A39: =(IF($Z$5='بيان ع'!D33,ROW('بيان ع'!33:33)-1,yyyyy)) -> #NAME? | B39: =IFERROR(_xlfn.AGGREGATE(15,6,$A$8:$A$1010,ROW(A32)),"") | C39: =IFERROR(VLOOKUP(B39,m,2,0),"") | D39: =IFERROR(VLOOKUP(B39,m,3,0),"")
A40: =(IF($Z$5='بيان ع'!D34,ROW('بيان ع'!34:34)-1,yyyyy)) -> #NAME? | B40: =IFERROR(_xlfn.AGGREGATE(15,6,$A$8:$A$1010,ROW(A33)),"") | C40: =IFERROR(VLOOKUP(B40,m,2,0),"") | D40: =IFERROR(VLOOKUP(B40,m,3,0),"")
A41: =(IF($Z$5='بيان ع'!D35,ROW('بيان ع'!35:35)-1,yyyyy)) -> #NAME? | B41: =IFERROR(_xlfn.AGGREGATE(15,6,$A$8:$A$1010,ROW(A34)),"") | C41: =IFERROR(VLOOKUP(B41,m,2,0),"") | D41: =IFERROR(VLOOKUP(B41,m,3,0),"")
A42: =(IF($Z$5='بيان ع'!D36,ROW('بيان ع'!36:36)-1,yyyyy)) -> #NAME? | B42: =IFERROR(_xlfn.AGGREGATE(15,6,$A$8:$A$1010,ROW(A35)),"") | C42: =IFERROR(VLOOKUP(B42,m,2,0),"") | D42: =IFERROR(VLOOKUP(B42,m,3,0),"")
A43: =(IF($Z$5='بيان ع'!D37,ROW('بيان ع'!37:37)-1,yyyyy)) -> #NAME? | B43: =IFERROR(_xlfn.AGGREGATE(15,6,$A$8:$A$1010,ROW(A36)),"") | C43: =IFERROR(VLOOKUP(B43,m,2,0),"") | D43: =IFERROR(VLOOKUP(B43,m,3,0),"")
A44: =(IF($Z$5='بيان ع'!D38,ROW('بيان ع'!38:38)-1,yyyyy)) -> #NAME? | B44: =IFERROR(_xlfn.AGGREGATE(15,6,$A$8:$A$1010,ROW(A37)),"") | C44: =IFERROR(VLOOKUP(B44,m,2,0),"") | D44: =IFERROR(VLOOKUP(B44,m,3,0),"")
A45: =(IF($Z$5='بيان ع'!D39,ROW('بيان ع'!39:39)-1,yyyyy)) -> #NAME? | B45: =IFERROR(_xlfn.AGGREGATE(15,6,$A$8:$A$1010,ROW(A38)),"") | C45: =IFERROR(VLOOKUP(B45,m,2,0),"") | D45: =IFERROR(VLOOKUP(B45,m,3,0),"")
A46: =(IF($Z$5='بيان ع'!D40,ROW('بيان ع'!40:40)-1,yyyyy)) -> #NAME? | B46: =IFERROR(_xlfn.AGGREGATE(15,6,$A$8:$A$1010,ROW(A39)),"") | C46: =IFERROR(VLOOKUP(B46,m,2,0),"") | D46: =IFERROR(VLOOKUP(B46,m,3,0),"")
A47: =(IF($Z$5='بيان ع'!D41,ROW('بيان ع'!41:41)-1,yyyyy)) -> #NAME? | B47: =IFERROR(_xlfn.AGGREGATE(15,6,$A$8:$A$1010,ROW(A40)),"") | C47: =IFERROR(VLOOKUP(B47,m,2,0),"") | D47: =IFERROR(VLOOKUP(B47,m,3,0),"")
A48: =(IF($Z$5='بيان ع'!D42,ROW('بيان ع'!42:42)-1,yyyyy)) -> #NAME? | B48: =IFERROR(_xlfn.AGGREGATE(15,6,$A$8:$A$1010,ROW(A41)),"") | C48: =IFERROR(VLOOKUP(B48,m,2,0),"") | D48: =IFERROR(VLOOKUP(B48,m,3,0),"")
A49: =(IF($Z$5='بيان ع'!D43,ROW('بيان ع'!43:43)-1,yyyyy)) -> #NAME? | B49: =IFERROR(_xlfn.AGGREGATE(15,6,$A$8:$A$1010,ROW(A42)),"") | C49: =IFERROR(VLOOKUP(B49,m,2,0),"") | D49: =IFERROR(VLOOKUP(B49,m,3,0),"")
A50: =(IF($Z$5='بيان ع'!D44,ROW('بيان ع'!44:44)-1,yyyyy)) -> #NAME? | B50: =IFERROR(_xlfn.AGGREGATE(15,6,$A$8:$A$1010,ROW(A43)),"") | C50: =IFERROR(VLOOKUP(B50,m,2,0),"") | D50: =IFERROR(VLOOKUP(B50,m,3,0),"")
A51: =(IF($Z$5='بيان ع'!D45,ROW('بيان ع'!45:45)-1,yyyyy)) -> #NAME? | B51: =IFERROR(_xlfn.AGGREGATE(15,6,$A$8:$A$1010,ROW(A44)),"") | C51: =IFERROR(VLOOKUP(B51,m,2,0),"") | D51: =IFERROR(VLOOKUP(B51,m,3,0),"")
A52: =(IF($Z$5='بيان ع'!D46,ROW('بيان ع'!46:46)-1,yyyyy)) -> #NAME? | B52: =IFERROR(_xlfn.AGGREGATE(15,6,$A$8:$A$1010,ROW(A45)),"") | C52: =IFERROR(VLOOKUP(B52,m,2,0),"") | D52: =IFERROR(VLOOKUP(B52,m,3,0),"")
A53: =(IF($Z$5='بيان ع'!D47,ROW('بيان ع'!47:47)-1,yyyyy)) -> #NAME? | B53: =IFERROR(_xlfn.AGGREGATE(15,6,$A$8:$A$1010,ROW(A46)),"") | C53: =IFERROR(VLOOKUP(B53,m,2,0),"") | D53: =IFERROR(VLOOKUP(B53,m,3,0),"")
A54: =(IF($Z$5='بيان ع'!D48,ROW('بيان ع'!48:48)-1,yyyyy)) -> #NAME? | B54: =IFERROR(_xlfn.AGGREGATE(15,6,$A$8:$A$1010,ROW(A47)),"") | C54: =IFERROR(VLOOKUP(B54,m,2,0),"") | D54: =IFERROR(VLOOKUP(B54,m,3,0),"")
A55: =(IF($Z$5='بيان ع'!D49,ROW('بيان ع'!49:49)-1,yyyyy)) -> #NAME? | B55: =IFERROR(_xlfn.AGGREGATE(15,6,$A$8:$A$1010,ROW(A48)),"") | C55: =IFERROR(VLOOKUP(B55,m,2,0),"") | D55: =IFERROR(VLOOKUP(B55,m,3,0),"")
A56: =(IF($Z$5='بيان ع'!D50,ROW('بيان ع'!50:50)-1,yyyyy)) -> #NAME? | B56: =IFERROR(_xlfn.AGGREGATE(15,6,$A$8:$A$1010,ROW(A49)),"") | C56: =IFERROR(VLOOKUP(B56,m,2,0),"") | D56: =IFERROR(VLOOKUP(B56,m,3,0),"")
A57: =(IF($Z$5='بيان ع'!D51,ROW('بيان ع'!51:51)-1,yyyyy)) -> #NAME? | B57: =IFERROR(_xlfn.AGGREGATE(15,6,$A$8:$A$1010,ROW(A50)),"") | C57: =IFERROR(VLOOKUP(B57,m,2,0),"") | D57: =IFERROR(VLOOKUP(B57,m,3,0),"")
A58: =(IF($Z$5='بيان ع'!D52,ROW('بيان ع'!52:52)-1,yyyyy)) -> #NAME? | B58: =IFERROR(_xlfn.AGGREGATE(15,6,$A$8:$A$1010,ROW(A51)),"") | C58: =IFERROR(VLOOKUP(B58,m,2,0),"") | D58: =IFERROR(VLOOKUP(B58,m,3,0),"")
A59: =(IF($Z$5='بيان ع'!D53,ROW('بيان ع'!53:53)-1,yyyyy)) -> #NAME? | B59: =IFERROR(_xlfn.AGGREGATE(15,6,$A$8:$A$1010,ROW(A52)),"") | C59: =IFERROR(VLOOKUP(B59,m,2,0),"") | D59: =IFERROR(VLOOKUP(B59,m,3,0),"")
A60: =(IF($Z$5='بيان ع'!D54,ROW('بيان ع'!54:54)-1,yyyyy)) -> #NAME? | B60: =IFERROR(_xlfn.AGGREGATE(15,6,$A$8:$A$1010,ROW(A53)),"") | C60: =IFERROR(VLOOKUP(B60,m,2,0),"") | D60: =IFERROR(VLOOKUP(B60,m,3,0),"")
A61: =(IF($Z$5='بيان ع'!D55,ROW('بيان ع'!55:55)-1,yyyyy)) -> #NAME? | B61: =IFERROR(_xlfn.AGGREGATE(15,6,$A$8:$A$1010,ROW(A54)),"") | C61: =IFERROR(VLOOKUP(B61,m,2,0),"") | D61: =IFERROR(VLOOKUP(B61,m,3,0),"")
A62: =(IF($Z$5='بيان ع'!D56,ROW('بيان ع'!56:56)-1,yyyyy)) -> #NAME? | B62: =IFERROR(_xlfn.AGGREGATE(15,6,$A$8:$A$1010,ROW(A55)),"") | C62: =IFERROR(VLOOKUP(B62,m,2,0),"") | D62: =IFERROR(VLOOKUP(B62,m,3,0),"")
A63: =(IF($Z$5='بيان ع'!D57,ROW('بيان ع'!57:57)-1,yyyyy)) -> #NAME? | B63: =IFERROR(_xlfn.AGGREGATE(15,6,$A$8:$A$1010,ROW(A56)),"") | C63: =IFERROR(VLOOKUP(B63,m,2,0),"") | D63: =IFERROR(VLOOKUP(B63,m,3,0),"")
A64: =(IF($Z$5='بيان ع'!D58,ROW('بيان ع'!58:58)-1,yyyyy)) -> #NAME? | B64: =IFERROR(_xlfn.AGGREGATE(15,6,$A$8:$A$1010,ROW(A57)),"") | C64: =IFERROR(VLOOKUP(B64,m,2,0),"") | D64: =IFERROR(VLOOKUP(B64,m,3,0),"")
A65: =(IF($Z$5='بيان ع'!D59,ROW('بيان ع'!59:59)-1,yyyyy)) -> #NAME? | B65: =IFERROR(_xlfn.AGGREGATE(15,6,$A$8:$A$1010,ROW(A58)),"") | C65: =IFERROR(VLOOKUP(B65,m,2,0),"") | D65: =IFERROR(VLOOKUP(B65,m,3,0),"")
A66: =(IF($Z$5='بيان ع'!D60,ROW('بيان ع'!60:60)-1,yyyyy)) -> #NAME? | B66: =IFERROR(_xlfn.AGGREGATE(15,6,$A$8:$A$1010,ROW(A59)),"") | C66: =IFERROR(VLOOKUP(B66,m,2,0),"") | D66: =IFERROR(VLOOKUP(B66,m,3,0),"")
A67: =(IF($Z$5='بيان ع'!D61,ROW('بيان ع'!61:61)-1,yyyyy)) -> #NAME? | B67: =IFERROR(_xlfn.AGGREGATE(15,6,$A$8:$A$1010,ROW(A60)),"") | C67: =IFERROR(VLOOKUP(B67,m,2,0),"") | D67: =IFERROR(VLOOKUP(B67,m,3,0),"")
A68: =(IF($Z$5='بيان ع'!D62,ROW('بيان ع'!62:62)-1,yyyyy)) -> #NAME? | B68: =IFERROR(_xlfn.AGGREGATE(15,6,$A$8:$A$1010,ROW(A61)),"") | C68: =IFERROR(VLOOKUP(B68,m,2,0),"") | D68: =IFERROR(VLOOKUP(B68,m,3,0),"")
A69: =(IF($Z$5='بيان ع'!D63,ROW('بيان ع'!63:63)-1,yyyyy)) -> #NAME? | B69: =IFERROR(_xlfn.AGGREGATE(15,6,$A$8:$A$1010,ROW(A62)),"") | C69: =IFERROR(VLOOKUP(B69,m,2,0),"") | D69: =IFERROR(VLOOKUP(B69,m,3,0),"")
A70: =(IF($Z$5='بيان ع'!D64,ROW('بيان ع'!64:64)-1,yyyyy)) -> #NAME? | B70: =IFERROR(_xlfn.AGGREGATE(15,6,$A$8:$A$1010,ROW(A63)),"") | C70: =IFERROR(VLOOKUP(B70,m,2,0),"") | D70: =IFERROR(VLOOKUP(B70,m,3,0),"")
A71: =(IF($Z$5='بيان ع'!D65,ROW('بيان ع'!65:65)-1,yyyyy)) -> #NAME? | B71: =IFERROR(_xlfn.AGGREGATE(15,6,$A$8:$A$1010,ROW(A64)),"") | C71: =IFERROR(VLOOKUP(B71,m,2,0),"") | D71: =IFERROR(VLOOKUP(B71,m,3,0),"")
A72: =(IF($Z$5='بيان ع'!D66,ROW('بيان ع'!66:66)-1,yyyyy)) -> #NAME? | B72: =IFERROR(_xlfn.AGGREGATE(15,6,$A$8:$A$1010,ROW(A65)),"") | C72: =IFERROR(VLOOKUP(B72,m,2,0),"") | D72: =IFERROR(VLOOKUP(B72,m,3,0),"")
A73: =(IF($Z$5='بيان ع'!D67,ROW('بيان ع'!67:67)-1,yyyyy)) -> #NAME? | B73: =IFERROR(_xlfn.AGGREGATE(15,6,$A$8:$A$1010,ROW(A66)),"") | C73: =IFERROR(VLOOKUP(B73,m,2,0),"") | D73: =IFERROR(VLOOKUP(B73,m,3,0),"")
A74: =(IF($Z$5='بيان ع'!D68,ROW('بيان ع'!68:68)-1,yyyyy)) -> #NAME? | B74: =IFERROR(_xlfn.AGGREGATE(15,6,$A$8:$A$1010,ROW(A67)),"") | C74: =IFERROR(VLOOKUP(B74,m,2,0),"") | D74: =IFERROR(VLOOKUP(B74,m,3,0),"")
A75: =(IF($Z$5='بيان ع'!D69,ROW('بيان ع'!69:69)-1,yyyyy)) -> #NAME? | B75: =IFERROR(_xlfn.AGGREGATE(15,6,$A$8:$A$1010,ROW(A68)),"") | C75: =IFERROR(VLOOKUP(B75,m,2,0),"") | D75: =IFERROR(VLOOKUP(B75,m,3,0),"")
A76: =(IF($Z$5='بيان ع'!D70,ROW('بيان ع'!70:70)-1,yyyyy)) -> #NAME? | B76: =IFERROR(_xlfn.AGGREGATE(15,6,$A$8:$A$1010,ROW(A69)),"") | C76: =IFERROR(VLOOKUP(B76,m,2,0),"") | D76: =IFERROR(VLOOKUP(B76,m,3,0),"")
A77: =(IF($Z$5='بيان ع'!D71,ROW('بيان ع'!71:71)-1,yyyyy)) -> #NAME? | B77: =IFERROR(_xlfn.AGGREGATE(15,6,$A$8:$A$1010,ROW(A70)),"") | C77: =IFERROR(VLOOKUP(B77,m,2,0),"") | D77: =IFERROR(VLOOKUP(B77,m,3,0),"")
A78: =(IF($Z$5='بيان ع'!D72,ROW('بيان ع'!72:72)-1,yyyyy)) -> #NAME? | B78: =IFERROR(_xlfn.AGGREGATE(15,6,$A$8:$A$1010,ROW(A71)),"") | C78: معلم المادة | F78: رئيس الكنترول | Q78: يعتمد شيخ المعهد
A79: =(IF($Z$5='بيان ع'!D73,ROW('بيان ع'!73:73)-1,yyyyy)) -> #NAME? | B79: =IFERROR(_xlfn.AGGREGATE(15,6,$A$8:$A$1010,ROW(A72)),"") | C79: ........................................................... | F79: ='بيان ع'!K5 -> 0 | Q79: ='بيان ع'!K6 -> 0
A80: =(IF($Z$5='بيان ع'!D74,ROW('بيان ع'!74:74)-1,yyyyy)) -> #NAME? | B80: =IFERROR(_xlfn.AGGREGATE(15,6,$A$8:$A$1010,ROW(A73)),"")
A81: =(IF($Z$5='بيان ع'!D75,ROW('بيان ع'!75:75)-1,yyyyy)) -> #NAME? | B81: =IFERROR(_xlfn.AGGREGATE(15,6,$A$8:$A$1010,ROW(A74)),"")
A82: =(IF($Z$5='بيان ع'!D76,ROW('بيان ع'!76:76)-1,yyyyy)) -> #NAME? | B82: =IFERROR(_xlfn.AGGREGATE(15,6,$A$8:$A$1010,ROW(A75)),"")
A83: =(IF($Z$5='بيان ع'!D77,ROW('بيان ع'!77:77)-1,yyyyy)) -> #NAME? | B83: =IFERROR(_xlfn.AGGREGATE(15,6,$A$8:$A$1010,ROW(A76)),"")
A84: =(IF($Z$5='بيان ع'!D78,ROW('بيان ع'!78:78)-1,yyyyy)) -> #NAME? | B84: =IFERROR(_xlfn.AGGREGATE(15,6,$A$8:$A$1010,ROW(A77)),"")
A85: =(IF($Z$5='بيان ع'!D79,ROW('بيان ع'!79:79)-1,yyyyy)) -> #NAME? | B85: =IFERROR(_xlfn.AGGREGATE(15,6,$A$8:$A$1010,ROW(A78)),"")
A86: =(IF($Z$5='بيان ع'!D80,ROW('بيان ع'!80:80)-1,yyyyy)) -> #NAME? | B86: =IFERROR(_xlfn.AGGREGATE(15,6,$A$8:$A$1010,ROW(A79)),"")
A87: =(IF($Z$5='بيان ع'!D81,ROW('بيان ع'!81:81)-1,yyyyy)) -> #NAME? | B87: =IFERROR(_xlfn.AGGREGATE(15,6,$A$8:$A$1010,ROW(A80)),"")
A88: =(IF($Z$5='بيان ع'!D82,ROW('بيان ع'!82:82)-1,yyyyy)) -> #NAME? | B88: =IFERROR(_xlfn.AGGREGATE(15,6,$A$8:$A$1010,ROW(A81)),"")
A89: =(IF($Z$5='بيان ع'!D83,ROW('بيان ع'!83:83)-1,yyyyy)) -> #NAME? | B89: =IFERROR(_xlfn.AGGREGATE(15,6,$A$8:$A$1010,ROW(A82)),"")
A90: =(IF($Z$5='بيان ع'!D84,ROW('بيان ع'!84:84)-1,yyyyy)) -> #NAME? | B90: =IFERROR(_xlfn.AGGREGATE(15,6,$A$8:$A$1010,ROW(A83)),"")
A91: =(IF($Z$5='بيان ع'!D85,ROW('بيان ع'!85:85)-1,yyyyy)) -> #NAME? | B91: =IFERROR(_xlfn.AGGREGATE(15,6,$A$8:$A$1010,ROW(A84)),"")
A92: =(IF($Z$5='بيان ع'!D86,ROW('بيان ع'!86:86)-1,yyyyy)) -> #NAME? | B92: =IFERROR(_xlfn.AGGREGATE(15,6,$A$8:$A$1010,ROW(A85)),"")
A93: =(IF($Z$5='بيان ع'!D87,ROW('بيان ع'!87:87)-1,yyyyy)) -> #NAME? | B93: =IFERROR(_xlfn.AGGREGATE(15,6,$A$8:$A$1010,ROW(A86)),"")
A94: =(IF($Z$5='بيان ع'!D88,ROW('بيان ع'!88:88)-1,yyyyy)) -> #NAME? | B94: =IFERROR(_xlfn.AGGREGATE(15,6,$A$8:$A$1010,ROW(A87)),"")
A95: =(IF($Z$5='بيان ع'!D89,ROW('بيان ع'!89:89)-1,yyyyy)) -> #NAME? | B95: =IFERROR(_xlfn.AGGREGATE(15,6,$A$8:$A$1010,ROW(A88)),"")
A96: =(IF($Z$5='بيان ع'!D90,ROW('بيان ع'!90:90)-1,yyyyy)) -> #NAME? | B96: =IFERROR(_xlfn.AGGREGATE(15,6,$A$8:$A$1010,ROW(A89)),"")
A97: =(IF($Z$5='بيان ع'!D91,ROW('بيان ع'!91:91)-1,yyyyy)) -> #NAME? | B97: =IFERROR(_xlfn.AGGREGATE(15,6,$A$8:$A$1010,ROW(A90)),"")
A98: =(IF($Z$5='بيان ع'!D92,ROW('بيان ع'!92:92)-1,yyyyy)) -> #NAME? | B98: =IFERROR(_xlfn.AGGREGATE(15,6,$A$8:$A$1010,ROW(A91)),"")
A99: =(IF($Z$5='بيان ع'!D93,ROW('بيان ع'!93:93)-1,yyyyy)) -> #NAME? | B99: =IFERROR(_xlfn.AGGREGATE(15,6,$A$8:$A$1010,ROW(A92)),"")
A100: =(IF($Z$5='بيان ع'!D94,ROW('بيان ع'!94:94)-1,yyyyy)) -> #NAME? | B100: =IFERROR(_xlfn.AGGREGATE(15,6,$A$8:$A$1010,ROW(A93)),"")
...

Sheet الخامس
C1: الأزهر الشريف | AA1: غ | AB1: 1 | AC1: =SUM(AA1:AB1)+SUM(Y1:Z1) -> 1 | AD1: =AC1/2 -> 0.5 | AE1: مستجد | AF1: معيد | AI1: الثالث الابتدائي | AQ1: فصل
C2: منطقة: | D2: ='بيان ع'!K2 -> 0 | I2: كشف تقييم الصف | L2: الخامس الابتدائي | AE2: =COUNTIF(#REF!,AG2) -> #REF! | AF2: =COUNTIF(#REF!,AG3) -> #REF! | AG2: مستجد | AI2: الرابع الابتدائي
C3: إدارة: | D3: ='بيان ع'!K3 -> 0 | I3: مـــــــــادة: | L3: =Z3 -> التربية الإسلامية | P3: =Z5 -> 1/1 | Y3: اختر المادة | Z3: التربية الإسلامية | AE3: =COUNTIF(#REF!,AG2) -> #REF! | AF3: =COUNTIF(#REF!,AG3) -> #REF! | AG3: معيد | AI3: الخامس الابتدائي | AJ3: التربية الإسلامية
C4: معهد: | D4: ='بيان ع'!K4 -> 0 | I4: عام: | J4: ='بيان ع'!K7 -> 2026م/ 2027م | AI4: السادس الابتدائي | AJ4: اللغة العربية والخط
C5: جلوس | D5: الاســــم | E5: الشهر الأول | I5: الشهر الثاني | M5: الشهر الثالث | P5: متوسط التقييمات | Q5: متوسط المواظبة والسلوك | R5: اختبار الشهور | U5: مجموع التقييمات والشهور | V5: فصل دراسي | W5: المجموع | Y5: اختر الفصل | Z5: 1/1 | AJ5: الرياضيات
E6: تقييم( 1 ) | F6: تقييم( 2 ) | G6: مواظبة وسلوك | H6: المجموع | I6: تقييم( 1 ) | J6: تقييم( 2 ) | K6: مواظبة وسلوك | L6: المجموع | M6: تقييم( 1 ) | N6: مواظبة وسلوك | O6: المجموع | R6: الشهر الأول | S6: الشهر الثاني | T6: المجموع | AJ6: العلوم
A7: م | B7: م | E7: 7.5 | F7: 7.5 | G7: 15 | H7: 30 | I7: 7.5 | J7: 7.5 | K7: 15 | L7: 30 | M7: 15 | N7: 15 | O7: 30 | P7: 15 | Q7: 15 | R7: 5 | S7: 5 | T7: 10 | U7: 30 | V7: 60 | W7: 100 | AJ7: الدراسات الاجتماعية
A8: =(IF($Z$5='بيان ع'!D2,ROW('بيان ع'!2:2)-1,yyyyy)) -> 1 | B8: =IFERROR(_xlfn.AGGREGATE(15,6,$A$8:$A$1010,ROW(A1)),"") -> 1 | C8: =IFERROR(VLOOKUP(B8,m,2,0),"") -> 0 | D8: =IFERROR(VLOOKUP(B8,m,3,0),"") -> 0 | AJ8: الإنجليزي
A9: =(IF($Z$5='بيان ع'!D3,ROW('بيان ع'!3:3)-1,yyyyy)) -> #NAME? | B9: =IFERROR(_xlfn.AGGREGATE(15,6,$A$8:$A$1010,ROW(A2)),"") | C9: =IFERROR(VLOOKUP(B9,m,2,0),"") | D9: =IFERROR(VLOOKUP(B9,m,3,0),"")
A10: =(IF($Z$5='بيان ع'!D4,ROW('بيان ع'!4:4)-1,yyyyy)) -> #NAME? | B10: =IFERROR(_xlfn.AGGREGATE(15,6,$A$8:$A$1010,ROW(A3)),"") | C10: =IFERROR(VLOOKUP(B10,m,2,0),"") | D10: =IFERROR(VLOOKUP(B10,m,3,0),"")
A11: =(IF($Z$5='بيان ع'!D5,ROW('بيان ع'!5:5)-1,yyyyy)) -> #NAME? | B11: =IFERROR(_xlfn.AGGREGATE(15,6,$A$8:$A$1010,ROW(A4)),"") | C11: =IFERROR(VLOOKUP(B11,m,2,0),"") | D11: =IFERROR(VLOOKUP(B11,m,3,0),"")
A12: =(IF($Z$5='بيان ع'!D6,ROW('بيان ع'!6:6)-1,yyyyy)) -> #NAME? | B12: =IFERROR(_xlfn.AGGREGATE(15,6,$A$8:$A$1010,ROW(A5)),"") | C12: =IFERROR(VLOOKUP(B12,m,2,0),"") | D12: =IFERROR(VLOOKUP(B12,m,3,0),"")
A13: =(IF($Z$5='بيان ع'!D7,ROW('بيان ع'!7:7)-1,yyyyy)) -> #NAME? | B13: =IFERROR(_xlfn.AGGREGATE(15,6,$A$8:$A$1010,ROW(A6)),"") | C13: =IFERROR(VLOOKUP(B13,m,2,0),"") | D13: =IFERROR(VLOOKUP(B13,m,3,0),"")
A14: =(IF($Z$5='بيان ع'!D8,ROW('بيان ع'!8:8)-1,yyyyy)) -> #NAME? | B14: =IFERROR(_xlfn.AGGREGATE(15,6,$A$8:$A$1010,ROW(A7)),"") | C14: =IFERROR(VLOOKUP(B14,m,2,0),"") | D14: =IFERROR(VLOOKUP(B14,m,3,0),"")
A15: =(IF($Z$5='بيان ع'!D9,ROW('بيان ع'!9:9)-1,yyyyy)) -> #NAME? | B15: =IFERROR(_xlfn.AGGREGATE(15,6,$A$8:$A$1010,ROW(A8)),"") | C15: =IFERROR(VLOOKUP(B15,m,2,0),"") | D15: =IFERROR(VLOOKUP(B15,m,3,0),"")
A16: =(IF($Z$5='بيان ع'!D10,ROW('بيان ع'!10:10)-1,yyyyy)) -> #NAME? | B16: =IFERROR(_xlfn.AGGREGATE(15,6,$A$8:$A$1010,ROW(A9)),"") | C16: =IFERROR(VLOOKUP(B16,m,2,0),"") | D16: =IFERROR(VLOOKUP(B16,m,3,0),"")
A17: =(IF($Z$5='بيان ع'!D11,ROW('بيان ع'!11:11)-1,yyyyy)) -> #NAME? | B17: =IFERROR(_xlfn.AGGREGATE(15,6,$A$8:$A$1010,ROW(A10)),"") | C17: =IFERROR(VLOOKUP(B17,m,2,0),"") | D17: =IFERROR(VLOOKUP(B17,m,3,0),"")
A18: =(IF($Z$5='بيان ع'!D12,ROW('بيان ع'!12:12)-1,yyyyy)) -> #NAME? | B18: =IFERROR(_xlfn.AGGREGATE(15,6,$A$8:$A$1010,ROW(A11)),"") | C18: =IFERROR(VLOOKUP(B18,m,2,0),"") | D18: =IFERROR(VLOOKUP(B18,m,3,0),"")
A19: =(IF($Z$5='بيان ع'!D13,ROW('بيان ع'!13:13)-1,yyyyy)) -> #NAME? | B19: =IFERROR(_xlfn.AGGREGATE(15,6,$A$8:$A$1010,ROW(A12)),"") | C19: =IFERROR(VLOOKUP(B19,m,2,0),"") | D19: =IFERROR(VLOOKUP(B19,m,3,0),"")
A20: =(IF($Z$5='بيان ع'!D14,ROW('بيان ع'!14:14)-1,yyyyy)) -> #NAME? | B20: =IFERROR(_xlfn.AGGREGATE(15,6,$A$8:$A$1010,ROW(A13)),"") | C20: =IFERROR(VLOOKUP(B20,m,2,0),"") | D20: =IFERROR(VLOOKUP(B20,m,3,0),"")
A21: =(IF($Z$5='بيان ع'!D15,ROW('بيان ع'!15:15)-1,yyyyy)) -> #NAME? | B21: =IFERROR(_xlfn.AGGREGATE(15,6,$A$8:$A$1010,ROW(A14)),"") | C21: =IFERROR(VLOOKUP(B21,m,2,0),"") | D21: =IFERROR(VLOOKUP(B21,m,3,0),"")
A22: =(IF($Z$5='بيان ع'!D16,ROW('بيان ع'!16:16)-1,yyyyy)) -> #NAME? | B22: =IFERROR(_xlfn.AGGREGATE(15,6,$A$8:$A$1010,ROW(A15)),"") | C22: =IFERROR(VLOOKUP(B22,m,2,0),"") | D22: =IFERROR(VLOOKUP(B22,m,3,0),"")
A23: =(IF($Z$5='بيان ع'!D17,ROW('بيان ع'!17:17)-1,yyyyy)) -> #NAME? | B23: =IFERROR(_xlfn.AGGREGATE(15,6,$A$8:$A$1010,ROW(A16)),"") | C23: =IFERROR(VLOOKUP(B23,m,2,0),"") | D23: =IFERROR(VLOOKUP(B23,m,3,0),"")
A24: =(IF($Z$5='بيان ع'!D18,ROW('بيان ع'!18:18)-1,yyyyy)) -> #NAME? | B24: =IFERROR(_xlfn.AGGREGATE(15,6,$A$8:$A$1010,ROW(A17)),"") | C24: =IFERROR(VLOOKUP(B24,m,2,0),"") | D24: =IFERROR(VLOOKUP(B24,m,3,0),"")
A25: =(IF($Z$5='بيان ع'!D19,ROW('بيان ع'!19:19)-1,yyyyy)) -> #NAME? | B25: =IFERROR(_xlfn.AGGREGATE(15,6,$A$8:$A$1010,ROW(A18)),"") | C25: =IFERROR(VLOOKUP(B25,m,2,0),"") | D25: =IFERROR(VLOOKUP(B25,m,3,0),"")
A26: =(IF($Z$5='بيان ع'!D20,ROW('بيان ع'!20:20)-1,yyyyy)) -> #NAME? | B26: =IFERROR(_xlfn.AGGREGATE(15,6,$A$8:$A$1010,ROW(A19)),"") | C26: =IFERROR(VLOOKUP(B26,m,2,0),"") | D26: =IFERROR(VLOOKUP(B26,m,3,0),"")
A27: =(IF($Z$5='بيان ع'!D21,ROW('بيان ع'!21:21)-1,yyyyy)) -> #NAME? | B27: =IFERROR(_xlfn.AGGREGATE(15,6,$A$8:$A$1010,ROW(A20)),"") | C27: =IFERROR(VLOOKUP(B27,m,2,0),"") | D27: =IFERROR(VLOOKUP(B27,m,3,0),"")
A28: =(IF($Z$5='بيان ع'!D22,ROW('بيان ع'!22:22)-1,yyyyy)) -> #NAME? | B28: =IFERROR(_xlfn.AGGREGATE(15,6,$A$8:$A$1010,ROW(A21)),"") | C28: =IFERROR(VLOOKUP(B28,m,2,0),"") | D28: =IFERROR(VLOOKUP(B28,m,3,0),"")
A29: =(IF($Z$5='بيان ع'!D23,ROW('بيان ع'!23:23)-1,yyyyy)) -> #NAME? | B29: =IFERROR(_xlfn.AGGREGATE(15,6,$A$8:$A$1010,ROW(A22)),"") | C29: =IFERROR(VLOOKUP(B29,m,2,0),"") | D29: =IFERROR(VLOOKUP(B29,m,3,0),"")
A30: =(IF($Z$5='بيان ع'!D24,ROW('بيان ع'!24:24)-1,yyyyy)) -> #NAME? | B30: =IFERROR(_xlfn.AGGREGATE(15,6,$A$8:$A$1010,ROW(A23)),"") | C30: =IFERROR(VLOOKUP(B30,m,2,0),"") | D30: =IFERROR(VLOOKUP(B30,m,3,0),"")
A31: =(IF($Z$5='بيان ع'!D25,ROW('بيان ع'!25:25)-1,yyyyy)) -> #NAME? | B31: =IFERROR(_xlfn.AGGREGATE(15,6,$A$8:$A$1010,ROW(A24)),"") | C31: =IFERROR(VLOOKUP(B31,m,2,0),"") | D31: =IFERROR(VLOOKUP(B31,m,3,0),"")
A32: =(IF($Z$5='بيان ع'!D26,ROW('بيان ع'!26:26)-1,yyyyy)) -> #NAME? | B32: =IFERROR(_xlfn.AGGREGATE(15,6,$A$8:$A$1010,ROW(A25)),"") | C32: =IFERROR(VLOOKUP(B32,m,2,0),"") | D32: =IFERROR(VLOOKUP(B32,m,3,0),"")
A33: =(IF($Z$5='بيان ع'!D27,ROW('بيان ع'!27:27)-1,yyyyy)) -> #NAME? | B33: =IFERROR(_xlfn.AGGREGATE(15,6,$A$8:$A$1010,ROW(A26)),"") | C33: =IFERROR(VLOOKUP(B33,m,2,0),"") | D33: =IFERROR(VLOOKUP(B33,m,3,0),"")
A34: =(IF($Z$5='بيان ع'!D28,ROW('بيان ع'!28:28)-1,yyyyy)) -> #NAME? | B34: =IFERROR(_xlfn.AGGREGATE(15,6,$A$8:$A$1010,ROW(A27)),"") | C34: =IFERROR(VLOOKUP(B34,m,2,0),"") | D34: =IFERROR(VLOOKUP(B34,m,3,0),"")
A35: =(IF($Z$5='بيان ع'!D29,ROW('بيان ع'!29:29)-1,yyyyy)) -> #NAME? | B35: =IFERROR(_xlfn.AGGREGATE(15,6,$A$8:$A$1010,ROW(A28)),"") | C35: =IFERROR(VLOOKUP(B35,m,2,0),"") | D35: =IFERROR(VLOOKUP(B35,m,3,0),"")
A36: =(IF($Z$5='بيان ع'!D30,ROW('بيان ع'!30:30)-1,yyyyy)) -> #NAME? | B36: =IFERROR(_xlfn.AGGREGATE(15,6,$A$8:$A$1010,ROW(A29)),"") | C36: =IFERROR(VLOOKUP(B36,m,2,0),"") | D36: =IFERROR(VLOOKUP(B36,m,3,0),"")
A37: =(IF($Z$5='بيان ع'!D31,ROW('بيان ع'!31:31)-1,yyyyy)) -> #NAME? | B37: =IFERROR(_xlfn.AGGREGATE(15,6,$A$8:$A$1010,ROW(A30)),"") | C37: =IFERROR(VLOOKUP(B37,m,2,0),"") | D37: =IFERROR(VLOOKUP(B37,m,3,0),"")
A38: =(IF($Z$5='بيان ع'!D32,ROW('بيان ع'!32:32)-1,yyyyy)) -> #NAME? | B38: =IFERROR(_xlfn.AGGREGATE(15,6,$A$8:$A$1010,ROW(A31)),"") | C38: =IFERROR(VLOOKUP(B38,m,2,0),"") | D38: =IFERROR(VLOOKUP(B38,m,3,0),"")
A39: =(IF($Z$5='بيان ع'!D33,ROW('بيان ع'!33:33)-1,yyyyy)) -> #NAME? | B39: =IFERROR(_xlfn.AGGREGATE(15,6,$A$8:$A$1010,ROW(A32)),"") | C39: =IFERROR(VLOOKUP(B39,m,2,0),"") | D39: =IFERROR(VLOOKUP(B39,m,3,0),"")
A40: =(IF($Z$5='بيان ع'!D34,ROW('بيان ع'!34:34)-1,yyyyy)) -> #NAME? | B40: =IFERROR(_xlfn.AGGREGATE(15,6,$A$8:$A$1010,ROW(A33)),"") | C40: =IFERROR(VLOOKUP(B40,m,2,0),"") | D40: =IFERROR(VLOOKUP(B40,m,3,0),"")
A41: =(IF($Z$5='بيان ع'!D35,ROW('بيان ع'!35:35)-1,yyyyy)) -> #NAME? | B41: =IFERROR(_xlfn.AGGREGATE(15,6,$A$8:$A$1010,ROW(A34)),"") | C41: =IFERROR(VLOOKUP(B41,m,2,0),"") | D41: =IFERROR(VLOOKUP(B41,m,3,0),"")
A42: =(IF($Z$5='بيان ع'!D36,ROW('بيان ع'!36:36)-1,yyyyy)) -> #NAME? | B42: =IFERROR(_xlfn.AGGREGATE(15,6,$A$8:$A$1010,ROW(A35)),"") | C42: =IFERROR(VLOOKUP(B42,m,2,0),"") | D42: =IFERROR(VLOOKUP(B42,m,3,0),"")
A43: =(IF($Z$5='بيان ع'!D37,ROW('بيان ع'!37:37)-1,yyyyy)) -> #NAME? | B43: =IFERROR(_xlfn.AGGREGATE(15,6,$A$8:$A$1010,ROW(A36)),"") | C43: =IFERROR(VLOOKUP(B43,m,2,0),"") | D43: =IFERROR(VLOOKUP(B43,m,3,0),"")
A44: =(IF($Z$5='بيان ع'!D38,ROW('بيان ع'!38:38)-1,yyyyy)) -> #NAME? | B44: =IFERROR(_xlfn.AGGREGATE(15,6,$A$8:$A$1010,ROW(A37)),"") | C44: =IFERROR(VLOOKUP(B44,m,2,0),"") | D44: =IFERROR(VLOOKUP(B44,m,3,0),"")
A45: =(IF($Z$5='بيان ع'!D39,ROW('بيان ع'!39:39)-1,yyyyy)) -> #NAME? | B45: =IFERROR(_xlfn.AGGREGATE(15,6,$A$8:$A$1010,ROW(A38)),"") | C45: =IFERROR(VLOOKUP(B45,m,2,0),"") | D45: =IFERROR(VLOOKUP(B45,m,3,0),"")
A46: =(IF($Z$5='بيان ع'!D40,ROW('بيان ع'!40:40)-1,yyyyy)) -> #NAME? | B46: =IFERROR(_xlfn.AGGREGATE(15,6,$A$8:$A$1010,ROW(A39)),"") | C46: =IFERROR(VLOOKUP(B46,m,2,0),"") | D46: =IFERROR(VLOOKUP(B46,m,3,0),"")
A47: =(IF($Z$5='بيان ع'!D41,ROW('بيان ع'!41:41)-1,yyyyy)) -> #NAME? | B47: =IFERROR(_xlfn.AGGREGATE(15,6,$A$8:$A$1010,ROW(A40)),"") | C47: =IFERROR(VLOOKUP(B47,m,2,0),"") | D47: =IFERROR(VLOOKUP(B47,m,3,0),"")
A48: =(IF($Z$5='بيان ع'!D42,ROW('بيان ع'!42:42)-1,yyyyy)) -> #NAME? | B48: =IFERROR(_xlfn.AGGREGATE(15,6,$A$8:$A$1010,ROW(A41)),"") | C48: =IFERROR(VLOOKUP(B48,m,2,0),"") | D48: =IFERROR(VLOOKUP(B48,m,3,0),"")
A49: =(IF($Z$5='بيان ع'!D43,ROW('بيان ع'!43:43)-1,yyyyy)) -> #NAME? | B49: =IFERROR(_xlfn.AGGREGATE(15,6,$A$8:$A$1010,ROW(A42)),"") | C49: =IFERROR(VLOOKUP(B49,m,2,0),"") | D49: =IFERROR(VLOOKUP(B49,m,3,0),"")
A50: =(IF($Z$5='بيان ع'!D44,ROW('بيان ع'!44:44)-1,yyyyy)) -> #NAME? | B50: =IFERROR(_xlfn.AGGREGATE(15,6,$A$8:$A$1010,ROW(A43)),"") | C50: =IFERROR(VLOOKUP(B50,m,2,0),"") | D50: =IFERROR(VLOOKUP(B50,m,3,0),"")
A51: =(IF($Z$5='بيان ع'!D45,ROW('بيان ع'!45:45)-1,yyyyy)) -> #NAME? | B51: =IFERROR(_xlfn.AGGREGATE(15,6,$A$8:$A$1010,ROW(A44)),"") | C51: =IFERROR(VLOOKUP(B51,m,2,0),"") | D51: =IFERROR(VLOOKUP(B51,m,3,0),"")
A52: =(IF($Z$5='بيان ع'!D46,ROW('بيان ع'!46:46)-1,yyyyy)) -> #NAME? | B52: =IFERROR(_xlfn.AGGREGATE(15,6,$A$8:$A$1010,ROW(A45)),"") | C52: =IFERROR(VLOOKUP(B52,m,2,0),"") | D52: =IFERROR(VLOOKUP(B52,m,3,0),"")
A53: =(IF($Z$5='بيان ع'!D47,ROW('بيان ع'!47:47)-1,yyyyy)) -> #NAME? | B53: =IFERROR(_xlfn.AGGREGATE(15,6,$A$8:$A$1010,ROW(A46)),"") | C53: =IFERROR(VLOOKUP(B53,m,2,0),"") | D53: =IFERROR(VLOOKUP(B53,m,3,0),"")
A54: =(IF($Z$5='بيان ع'!D48,ROW('بيان ع'!48:48)-1,yyyyy)) -> #NAME? | B54: =IFERROR(_xlfn.AGGREGATE(15,6,$A$8:$A$1010,ROW(A47)),"") | C54: =IFERROR(VLOOKUP(B54,m,2,0),"") | D54: =IFERROR(VLOOKUP(B54,m,3,0),"")
A55: =(IF($Z$5='بيان ع'!D49,ROW('بيان ع'!49:49)-1,yyyyy)) -> #NAME? | B55: =IFERROR(_xlfn.AGGREGATE(15,6,$A$8:$A$1010,ROW(A48)),"") | C55: =IFERROR(VLOOKUP(B55,m,2,0),"") | D55: =IFERROR(VLOOKUP(B55,m,3,0),"")
A56: =(IF($Z$5='بيان ع'!D50,ROW('بيان ع'!50:50)-1,yyyyy)) -> #NAME? | B56: =IFERROR(_xlfn.AGGREGATE(15,6,$A$8:$A$1010,ROW(A49)),"") | C56: =IFERROR(VLOOKUP(B56,m,2,0),"") | D56: =IFERROR(VLOOKUP(B56,m,3,0),"")
A57: =(IF($Z$5='بيان ع'!D51,ROW('بيان ع'!51:51)-1,yyyyy)) -> #NAME? | B57: =IFERROR(_xlfn.AGGREGATE(15,6,$A$8:$A$1010,ROW(A50)),"") | C57: =IFERROR(VLOOKUP(B57,m,2,0),"") | D57: =IFERROR(VLOOKUP(B57,m,3,0),"")
A58: =(IF($Z$5='بيان ع'!D52,ROW('بيان ع'!52:52)-1,yyyyy)) -> #NAME? | B58: =IFERROR(_xlfn.AGGREGATE(15,6,$A$8:$A$1010,ROW(A51)),"") | C58: =IFERROR(VLOOKUP(B58,m,2,0),"") | D58: =IFERROR(VLOOKUP(B58,m,3,0),"")
A59: =(IF($Z$5='بيان ع'!D53,ROW('بيان ع'!53:53)-1,yyyyy)) -> #NAME? | B59: =IFERROR(_xlfn.AGGREGATE(15,6,$A$8:$A$1010,ROW(A52)),"") | C59: =IFERROR(VLOOKUP(B59,m,2,0),"") | D59: =IFERROR(VLOOKUP(B59,m,3,0),"")
A60: =(IF($Z$5='بيان ع'!D54,ROW('بيان ع'!54:54)-1,yyyyy)) -> #NAME? | B60: =IFERROR(_xlfn.AGGREGATE(15,6,$A$8:$A$1010,ROW(A53)),"") | C60: =IFERROR(VLOOKUP(B60,m,2,0),"") | D60: =IFERROR(VLOOKUP(B60,m,3,0),"")
A61: =(IF($Z$5='بيان ع'!D55,ROW('بيان ع'!55:55)-1,yyyyy)) -> #NAME? | B61: =IFERROR(_xlfn.AGGREGATE(15,6,$A$8:$A$1010,ROW(A54)),"") | C61: =IFERROR(VLOOKUP(B61,m,2,0),"") | D61: =IFERROR(VLOOKUP(B61,m,3,0),"")
A62: =(IF($Z$5='بيان ع'!D56,ROW('بيان ع'!56:56)-1,yyyyy)) -> #NAME? | B62: =IFERROR(_xlfn.AGGREGATE(15,6,$A$8:$A$1010,ROW(A55)),"") | C62: =IFERROR(VLOOKUP(B62,m,2,0),"") | D62: =IFERROR(VLOOKUP(B62,m,3,0),"")
A63: =(IF($Z$5='بيان ع'!D57,ROW('بيان ع'!57:57)-1,yyyyy)) -> #NAME? | B63: =IFERROR(_xlfn.AGGREGATE(15,6,$A$8:$A$1010,ROW(A56)),"") | C63: =IFERROR(VLOOKUP(B63,m,2,0),"") | D63: =IFERROR(VLOOKUP(B63,m,3,0),"")
A64: =(IF($Z$5='بيان ع'!D58,ROW('بيان ع'!58:58)-1,yyyyy)) -> #NAME? | B64: =IFERROR(_xlfn.AGGREGATE(15,6,$A$8:$A$1010,ROW(A57)),"") | C64: =IFERROR(VLOOKUP(B64,m,2,0),"") | D64: =IFERROR(VLOOKUP(B64,m,3,0),"")
A65: =(IF($Z$5='بيان ع'!D59,ROW('بيان ع'!59:59)-1,yyyyy)) -> #NAME? | B65: =IFERROR(_xlfn.AGGREGATE(15,6,$A$8:$A$1010,ROW(A58)),"") | C65: =IFERROR(VLOOKUP(B65,m,2,0),"") | D65: =IFERROR(VLOOKUP(B65,m,3,0),"")
A66: =(IF($Z$5='بيان ع'!D60,ROW('بيان ع'!60:60)-1,yyyyy)) -> #NAME? | B66: =IFERROR(_xlfn.AGGREGATE(15,6,$A$8:$A$1010,ROW(A59)),"") | C66: =IFERROR(VLOOKUP(B66,m,2,0),"") | D66: =IFERROR(VLOOKUP(B66,m,3,0),"")
A67: =(IF($Z$5='بيان ع'!D61,ROW('بيان ع'!61:61)-1,yyyyy)) -> #NAME? | B67: =IFERROR(_xlfn.AGGREGATE(15,6,$A$8:$A$1010,ROW(A60)),"") | C67: =IFERROR(VLOOKUP(B67,m,2,0),"") | D67: =IFERROR(VLOOKUP(B67,m,3,0),"")
A68: =(IF($Z$5='بيان ع'!D62,ROW('بيان ع'!62:62)-1,yyyyy)) -> #NAME? | B68: =IFERROR(_xlfn.AGGREGATE(15,6,$A$8:$A$1010,ROW(A61)),"") | C68: =IFERROR(VLOOKUP(B68,m,2,0),"") | D68: =IFERROR(VLOOKUP(B68,m,3,0),"")
A69: =(IF($Z$5='بيان ع'!D63,ROW('بيان ع'!63:63)-1,yyyyy)) -> #NAME? | B69: =IFERROR(_xlfn.AGGREGATE(15,6,$A$8:$A$1010,ROW(A62)),"") | C69: =IFERROR(VLOOKUP(B69,m,2,0),"") | D69: =IFERROR(VLOOKUP(B69,m,3,0),"")
A70: =(IF($Z$5='بيان ع'!D64,ROW('بيان ع'!64:64)-1,yyyyy)) -> #NAME? | B70: =IFERROR(_xlfn.AGGREGATE(15,6,$A$8:$A$1010,ROW(A63)),"") | C70: =IFERROR(VLOOKUP(B70,m,2,0),"") | D70: =IFERROR(VLOOKUP(B70,m,3,0),"")
A71: =(IF($Z$5='بيان ع'!D65,ROW('بيان ع'!65:65)-1,yyyyy)) -> #NAME? | B71: =IFERROR(_xlfn.AGGREGATE(15,6,$A$8:$A$1010,ROW(A64)),"") | C71: =IFERROR(VLOOKUP(B71,m,2,0),"") | D71: =IFERROR(VLOOKUP(B71,m,3,0),"")
A72: =(IF($Z$5='بيان ع'!D66,ROW('بيان ع'!66:66)-1,yyyyy)) -> #NAME? | B72: =IFERROR(_xlfn.AGGREGATE(15,6,$A$8:$A$1010,ROW(A65)),"") | C72: =IFERROR(VLOOKUP(B72,m,2,0),"") | D72: =IFERROR(VLOOKUP(B72,m,3,0),"")
A73: =(IF($Z$5='بيان ع'!D67,ROW('بيان ع'!67:67)-1,yyyyy)) -> #NAME? | B73: =IFERROR(_xlfn.AGGREGATE(15,6,$A$8:$A$1010,ROW(A66)),"") | C73: =IFERROR(VLOOKUP(B73,m,2,0),"") | D73: =IFERROR(VLOOKUP(B73,m,3,0),"")
A74: =(IF($Z$5='بيان ع'!D68,ROW('بيان ع'!68:68)-1,yyyyy)) -> #NAME? | B74: =IFERROR(_xlfn.AGGREGATE(15,6,$A$8:$A$1010,ROW(A67)),"") | C74: =IFERROR(VLOOKUP(B74,m,2,0),"") | D74: =IFERROR(VLOOKUP(B74,m,3,0),"")
A75: =(IF($Z$5='بيان ع'!D69,ROW('بيان ع'!69:69)-1,yyyyy)) -> #NAME? | B75: =IFERROR(_xlfn.AGGREGATE(15,6,$A$8:$A$1010,ROW(A68)),"") | C75: =IFERROR(VLOOKUP(B75,m,2,0),"") | D75: =IFERROR(VLOOKUP(B75,m,3,0),"")
A76: =(IF($Z$5='بيان ع'!D70,ROW('بيان ع'!70:70)-1,yyyyy)) -> #NAME? | B76: =IFERROR(_xlfn.AGGREGATE(15,6,$A$8:$A$1010,ROW(A69)),"") | C76: =IFERROR(VLOOKUP(B76,m,2,0),"") | D76: =IFERROR(VLOOKUP(B76,m,3,0),"")
A77: =(IF($Z$5='بيان ع'!D71,ROW('بيان ع'!71:71)-1,yyyyy)) -> #NAME? | B77: =IFERROR(_xlfn.AGGREGATE(15,6,$A$8:$A$1010,ROW(A70)),"") | C77: =IFERROR(VLOOKUP(B77,m,2,0),"") | D77: =IFERROR(VLOOKUP(B77,m,3,0),"")
A78: =(IF($Z$5='بيان ع'!D72,ROW('بيان ع'!72:72)-1,yyyyy)) -> #NAME? | B78: =IFERROR(_xlfn.AGGREGATE(15,6,$A$8:$A$1010,ROW(A71)),"") | C78: معلم المادة | F78: رئيس الكنترول | Q78: يعتمد شيخ المعهد
A79: =(IF($Z$5='بيان ع'!D73,ROW('بيان ع'!73:73)-1,yyyyy)) -> #NAME? | B79: =IFERROR(_xlfn.AGGREGATE(15,6,$A$8:$A$1010,ROW(A72)),"") | C79: ........................................................... | F79: ='بيان ع'!K5 -> 0 | Q79: ='بيان ع'!K6 -> 0
A80: =(IF($Z$5='بيان ع'!D74,ROW('بيان ع'!74:74)-1,yyyyy)) -> #NAME? | B80: =IFERROR(_xlfn.AGGREGATE(15,6,$A$8:$A$1010,ROW(A73)),"")
A81: =(IF($Z$5='بيان ع'!D75,ROW('بيان ع'!75:75)-1,yyyyy)) -> #NAME? | B81: =IFERROR(_xlfn.AGGREGATE(15,6,$A$8:$A$1010,ROW(A74)),"")
A82: =(IF($Z$5='بيان ع'!D76,ROW('بيان ع'!76:76)-1,yyyyy)) -> #NAME? | B82: =IFERROR(_xlfn.AGGREGATE(15,6,$A$8:$A$1010,ROW(A75)),"")
A83: =(IF($Z$5='بيان ع'!D77,ROW('بيان ع'!77:77)-1,yyyyy)) -> #NAME? | B83: =IFERROR(_xlfn.AGGREGATE(15,6,$A$8:$A$1010,ROW(A76)),"")
A84: =(IF($Z$5='بيان ع'!D78,ROW('بيان ع'!78:78)-1,yyyyy)) -> #NAME? | B84: =IFERROR(_xlfn.AGGREGATE(15,6,$A$8:$A$1010,ROW(A77)),"")
A85: =(IF($Z$5='بيان ع'!D79,ROW('بيان ع'!79:79)-1,yyyyy)) -> #NAME? | B85: =IFERROR(_xlfn.AGGREGATE(15,6,$A$8:$A$1010,ROW(A78)),"")
A86: =(IF($Z$5='بيان ع'!D80,ROW('بيان ع'!80:80)-1,yyyyy)) -> #NAME? | B86: =IFERROR(_xlfn.AGGREGATE(15,6,$A$8:$A$1010,ROW(A79)),"")
A87: =(IF($Z$5='بيان ع'!D81,ROW('بيان ع'!81:81)-1,yyyyy)) -> #NAME? | B87: =IFERROR(_xlfn.AGGREGATE(15,6,$A$8:$A$1010,ROW(A80)),"")
A88: =(IF($Z$5='بيان ع'!D82,ROW('بيان ع'!82:82)-1,yyyyy)) -> #NAME? | B88: =IFERROR(_xlfn.AGGREGATE(15,6,$A$8:$A$1010,ROW(A81)),"")
A89: =(IF($Z$5='بيان ع'!D83,ROW('بيان ع'!83:83)-1,yyyyy)) -> #NAME? | B89: =IFERROR(_xlfn.AGGREGATE(15,6,$A$8:$A$1010,ROW(A82)),"")
A90: =(IF($Z$5='بيان ع'!D84,ROW('بيان ع'!84:84)-1,yyyyy)) -> #NAME? | B90: =IFERROR(_xlfn.AGGREGATE(15,6,$A$8:$A$1010,ROW(A83)),"")
A91: =(IF($Z$5='بيان ع'!D85,ROW('بيان ع'!85:85)-1,yyyyy)) -> #NAME? | B91: =IFERROR(_xlfn.AGGREGATE(15,6,$A$8:$A$1010,ROW(A84)),"")
A92: =(IF($Z$5='بيان ع'!D86,ROW('بيان ع'!86:86)-1,yyyyy)) -> #NAME? | B92: =IFERROR(_xlfn.AGGREGATE(15,6,$A$8:$A$1010,ROW(A85)),"")
A93: =(IF($Z$5='بيان ع'!D87,ROW('بيان ع'!87:87)-1,yyyyy)) -> #NAME? | B93: =IFERROR(_xlfn.AGGREGATE(15,6,$A$8:$A$1010,ROW(A86)),"")
A94: =(IF($Z$5='بيان ع'!D88,ROW('بيان ع'!88:88)-1,yyyyy)) -> #NAME? | B94: =IFERROR(_xlfn.AGGREGATE(15,6,$A$8:$A$1010,ROW(A87)),"")
A95: =(IF($Z$5='بيان ع'!D89,ROW('بيان ع'!89:89)-1,yyyyy)) -> #NAME? | B95: =IFERROR(_xlfn.AGGREGATE(15,6,$A$8:$A$1010,ROW(A88)),"")
A96: =(IF($Z$5='بيان ع'!D90,ROW('بيان ع'!90:90)-1,yyyyy)) -> #NAME? | B96: =IFERROR(_xlfn.AGGREGATE(15,6,$A$8:$A$1010,ROW(A89)),"")
A97: =(IF($Z$5='بيان ع'!D91,ROW('بيان ع'!91:91)-1,yyyyy)) -> #NAME? | B97: =IFERROR(_xlfn.AGGREGATE(15,6,$A$8:$A$1010,ROW(A90)),"")
A98: =(IF($Z$5='بيان ع'!D92,ROW('بيان ع'!92:92)-1,yyyyy)) -> #NAME? | B98: =IFERROR(_xlfn.AGGREGATE(15,6,$A$8:$A$1010,ROW(A91)),"")
A99: =(IF($Z$5='بيان ع'!D93,ROW('بيان ع'!93:93)-1,yyyyy)) -> #NAME? | B99: =IFERROR(_xlfn.AGGREGATE(15,6,$A$8:$A$1010,ROW(A92)),"")
A100: =(IF($Z$5='بيان ع'!D94,ROW('بيان ع'!94:94)-1,yyyyy)) -> #NAME? | B100: =IFERROR(_xlfn.AGGREGATE(15,6,$A$8:$A$1010,ROW(A93)),"")
...

Sheet السادس
C1: الأزهر الشريف | AA1: غ | AB1: 1 | AC1: =SUM(AA1:AB1)+SUM(Y1:Z1) -> 1 | AD1: =AC1/2 -> 0.5 | AE1: مستجد | AF1: معيد | AI1: الثالث الابتدائي | AQ1: فصل
C2: منطقة: | D2: ='بيان ع'!K2 -> 0 | I2: كشف تقييم الصف | L2: السادس الابتدائي | AE2: =COUNTIF(#REF!,AG2) -> #REF! | AF2: =COUNTIF(#REF!,AG3) -> #REF! | AG2: مستجد | AI2: الرابع الابتدائي
C3: إدارة: | D3: ='بيان ع'!K3 -> 0 | I3: مـــــــــادة: | L3: =Z3 -> التربية الإسلامية | P3: =Z5 -> 1/1 | Y3: اختر المادة | Z3: التربية الإسلامية | AE3: =COUNTIF(#REF!,AG2) -> #REF! | AF3: =COUNTIF(#REF!,AG3) -> #REF! | AG3: معيد | AI3: الخامس الابتدائي | AJ3: التربية الإسلامية
C4: معهد: | D4: ='بيان ع'!K4 -> 0 | I4: عام: | J4: ='بيان ع'!K7 -> 2026م/ 2027م | AI4: السادس الابتدائي | AJ4: اللغة العربية والخط
C5: جلوس | D5: الاســــم | E5: الشهر الأول | I5: الشهر الثاني | M5: الشهر الثالث | P5: متوسط التقييمات | Q5: متوسط المواظبة والسلوك | R5: اختبار الشهور | U5: مجموع التقييمات والشهور | V5: فصل دراسي | W5: المجموع | Y5: اختر الفصل | Z5: 1/1 | AJ5: الرياضيات
E6: تقييم( 1 ) | F6: تقييم( 2 ) | G6: مواظبة وسلوك | H6: المجموع | I6: تقييم( 1 ) | J6: تقييم( 2 ) | K6: مواظبة وسلوك | L6: المجموع | M6: تقييم( 1 ) | N6: مواظبة وسلوك | O6: المجموع | R6: الشهر الأول | S6: الشهر الثاني | T6: المجموع | AJ6: العلوم
A7: م | B7: م | E7: 7.5 | F7: 7.5 | G7: 15 | H7: 30 | I7: 7.5 | J7: 7.5 | K7: 15 | L7: 30 | M7: 15 | N7: 15 | O7: 30 | P7: 15 | Q7: 15 | R7: 5 | S7: 5 | T7: 10 | U7: 30 | V7: 60 | W7: 100 | AJ7: الدراسات الاجتماعية
A8: =(IF($Z$5='بيان ع'!D2,ROW('بيان ع'!2:2)-1,yyyyy)) -> 1 | B8: =IFERROR(_xlfn.AGGREGATE(15,6,$A$8:$A$1010,ROW(A1)),"") -> 1 | C8: =IFERROR(VLOOKUP(B8,m,2,0),"") -> 0 | D8: =IFERROR(VLOOKUP(B8,m,3,0),"") -> 0 | AJ8: الإنجليزي
A9: =(IF($Z$5='بيان ع'!D3,ROW('بيان ع'!3:3)-1,yyyyy)) -> #NAME? | B9: =IFERROR(_xlfn.AGGREGATE(15,6,$A$8:$A$1010,ROW(A2)),"") | C9: =IFERROR(VLOOKUP(B9,m,2,0),"") | D9: =IFERROR(VLOOKUP(B9,m,3,0),"")
A10: =(IF($Z$5='بيان ع'!D4,ROW('بيان ع'!4:4)-1,yyyyy)) -> #NAME? | B10: =IFERROR(_xlfn.AGGREGATE(15,6,$A$8:$A$1010,ROW(A3)),"") | C10: =IFERROR(VLOOKUP(B10,m,2,0),"") | D10: =IFERROR(VLOOKUP(B10,m,3,0),"")
A11: =(IF($Z$5='بيان ع'!D5,ROW('بيان ع'!5:5)-1,yyyyy)) -> #NAME? | B11: =IFERROR(_xlfn.AGGREGATE(15,6,$A$8:$A$1010,ROW(A4)),"") | C11: =IFERROR(VLOOKUP(B11,m,2,0),"") | D11: =IFERROR(VLOOKUP(B11,m,3,0),"")
A12: =(IF($Z$5='بيان ع'!D6,ROW('بيان ع'!6:6)-1,yyyyy)) -> #NAME? | B12: =IFERROR(_xlfn.AGGREGATE(15,6,$A$8:$A$1010,ROW(A5)),"") | C12: =IFERROR(VLOOKUP(B12,m,2,0),"") | D12: =IFERROR(VLOOKUP(B12,m,3,0),"")
A13: =(IF($Z$5='بيان ع'!D7,ROW('بيان ع'!7:7)-1,yyyyy)) -> #NAME? | B13: =IFERROR(_xlfn.AGGREGATE(15,6,$A$8:$A$1010,ROW(A6)),"") | C13: =IFERROR(VLOOKUP(B13,m,2,0),"") | D13: =IFERROR(VLOOKUP(B13,m,3,0),"")
A14: =(IF($Z$5='بيان ع'!D8,ROW('بيان ع'!8:8)-1,yyyyy)) -> #NAME? | B14: =IFERROR(_xlfn.AGGREGATE(15,6,$A$8:$A$1010,ROW(A7)),"") | C14: =IFERROR(VLOOKUP(B14,m,2,0),"") | D14: =IFERROR(VLOOKUP(B14,m,3,0),"")
A15: =(IF($Z$5='بيان ع'!D9,ROW('بيان ع'!9:9)-1,yyyyy)) -> #NAME? | B15: =IFERROR(_xlfn.AGGREGATE(15,6,$A$8:$A$1010,ROW(A8)),"") | C15: =IFERROR(VLOOKUP(B15,m,2,0),"") | D15: =IFERROR(VLOOKUP(B15,m,3,0),"")
A16: =(IF($Z$5='بيان ع'!D10,ROW('بيان ع'!10:10)-1,yyyyy)) -> #NAME? | B16: =IFERROR(_xlfn.AGGREGATE(15,6,$A$8:$A$1010,ROW(A9)),"") | C16: =IFERROR(VLOOKUP(B16,m,2,0),"") | D16: =IFERROR(VLOOKUP(B16,m,3,0),"")
A17: =(IF($Z$5='بيان ع'!D11,ROW('بيان ع'!11:11)-1,yyyyy)) -> #NAME? | B17: =IFERROR(_xlfn.AGGREGATE(15,6,$A$8:$A$1010,ROW(A10)),"") | C17: =IFERROR(VLOOKUP(B17,m,2,0),"") | D17: =IFERROR(VLOOKUP(B17,m,3,0),"")
A18: =(IF($Z$5='بيان ع'!D12,ROW('بيان ع'!12:12)-1,yyyyy)) -> #NAME? | B18: =IFERROR(_xlfn.AGGREGATE(15,6,$A$8:$A$1010,ROW(A11)),"") | C18: =IFERROR(VLOOKUP(B18,m,2,0),"") | D18: =IFERROR(VLOOKUP(B18,m,3,0),"")
A19: =(IF($Z$5='بيان ع'!D13,ROW('بيان ع'!13:13)-1,yyyyy)) -> #NAME? | B19: =IFERROR(_xlfn.AGGREGATE(15,6,$A$8:$A$1010,ROW(A12)),"") | C19: =IFERROR(VLOOKUP(B19,m,2,0),"") | D19: =IFERROR(VLOOKUP(B19,m,3,0),"")
A20: =(IF($Z$5='بيان ع'!D14,ROW('بيان ع'!14:14)-1,yyyyy)) -> #NAME? | B20: =IFERROR(_xlfn.AGGREGATE(15,6,$A$8:$A$1010,ROW(A13)),"") | C20: =IFERROR(VLOOKUP(B20,m,2,0),"") | D20: =IFERROR(VLOOKUP(B20,m,3,0),"")
A21: =(IF($Z$5='بيان ع'!D15,ROW('بيان ع'!15:15)-1,yyyyy)) -> #NAME? | B21: =IFERROR(_xlfn.AGGREGATE(15,6,$A$8:$A$1010,ROW(A14)),"") | C21: =IFERROR(VLOOKUP(B21,m,2,0),"") | D21: =IFERROR(VLOOKUP(B21,m,3,0),"")
A22: =(IF($Z$5='بيان ع'!D16,ROW('بيان ع'!16:16)-1,yyyyy)) -> #NAME? | B22: =IFERROR(_xlfn.AGGREGATE(15,6,$A$8:$A$1010,ROW(A15)),"") | C22: =IFERROR(VLOOKUP(B22,m,2,0),"") | D22: =IFERROR(VLOOKUP(B22,m,3,0),"")
A23: =(IF($Z$5='بيان ع'!D17,ROW('بيان ع'!17:17)-1,yyyyy)) -> #NAME? | B23: =IFERROR(_xlfn.AGGREGATE(15,6,$A$8:$A$1010,ROW(A16)),"") | C23: =IFERROR(VLOOKUP(B23,m,2,0),"") | D23: =IFERROR(VLOOKUP(B23,m,3,0),"")
A24: =(IF($Z$5='بيان ع'!D18,ROW('بيان ع'!18:18)-1,yyyyy)) -> #NAME? | B24: =IFERROR(_xlfn.AGGREGATE(15,6,$A$8:$A$1010,ROW(A17)),"") | C24: =IFERROR(VLOOKUP(B24,m,2,0),"") | D24: =IFERROR(VLOOKUP(B24,m,3,0),"")
A25: =(IF($Z$5='بيان ع'!D19,ROW('بيان ع'!19:19)-1,yyyyy)) -> #NAME? | B25: =IFERROR(_xlfn.AGGREGATE(15,6,$A$8:$A$1010,ROW(A18)),"") | C25: =IFERROR(VLOOKUP(B25,m,2,0),"") | D25: =IFERROR(VLOOKUP(B25,m,3,0),"")
A26: =(IF($Z$5='بيان ع'!D20,ROW('بيان ع'!20:20)-1,yyyyy)) -> #NAME? | B26: =IFERROR(_xlfn.AGGREGATE(15,6,$A$8:$A$1010,ROW(A19)),"") | C26: =IFERROR(VLOOKUP(B26,m,2,0),"") | D26: =IFERROR(VLOOKUP(B26,m,3,0),"")
A27: =(IF($Z$5='بيان ع'!D21,ROW('بيان ع'!21:21)-1,yyyyy)) -> #NAME? | B27: =IFERROR(_xlfn.AGGREGATE(15,6,$A$8:$A$1010,ROW(A20)),"") | C27: =IFERROR(VLOOKUP(B27,m,2,0),"") | D27: =IFERROR(VLOOKUP(B27,m,3,0),"")
A28: =(IF($Z$5='بيان ع'!D22,ROW('بيان ع'!22:22)-1,yyyyy)) -> #NAME? | B28: =IFERROR(_xlfn.AGGREGATE(15,6,$A$8:$A$1010,ROW(A21)),"") | C28: =IFERROR(VLOOKUP(B28,m,2,0),"") | D28: =IFERROR(VLOOKUP(B28,m,3,0),"")
A29: =(IF($Z$5='بيان ع'!D23,ROW('بيان ع'!23:23)-1,yyyyy)) -> #NAME? | B29: =IFERROR(_xlfn.AGGREGATE(15,6,$A$8:$A$1010,ROW(A22)),"") | C29: =IFERROR(VLOOKUP(B29,m,2,0),"") | D29: =IFERROR(VLOOKUP(B29,m,3,0),"")
A30: =(IF($Z$5='بيان ع'!D24,ROW('بيان ع'!24:24)-1,yyyyy)) -> #NAME? | B30: =IFERROR(_xlfn.AGGREGATE(15,6,$A$8:$A$1010,ROW(A23)),"") | C30: =IFERROR(VLOOKUP(B30,m,2,0),"") | D30: =IFERROR(VLOOKUP(B30,m,3,0),"")
A31: =(IF($Z$5='بيان ع'!D25,ROW('بيان ع'!25:25)-1,yyyyy)) -> #NAME? | B31: =IFERROR(_xlfn.AGGREGATE(15,6,$A$8:$A$1010,ROW(A24)),"") | C31: =IFERROR(VLOOKUP(B31,m,2,0),"") | D31: =IFERROR(VLOOKUP(B31,m,3,0),"")
A32: =(IF($Z$5='بيان ع'!D26,ROW('بيان ع'!26:26)-1,yyyyy)) -> #NAME? | B32: =IFERROR(_xlfn.AGGREGATE(15,6,$A$8:$A$1010,ROW(A25)),"") | C32: =IFERROR(VLOOKUP(B32,m,2,0),"") | D32: =IFERROR(VLOOKUP(B32,m,3,0),"")
A33: =(IF($Z$5='بيان ع'!D27,ROW('بيان ع'!27:27)-1,yyyyy)) -> #NAME? | B33: =IFERROR(_xlfn.AGGREGATE(15,6,$A$8:$A$1010,ROW(A26)),"") | C33: =IFERROR(VLOOKUP(B33,m,2,0),"") | D33: =IFERROR(VLOOKUP(B33,m,3,0),"")
A34: =(IF($Z$5='بيان ع'!D28,ROW('بيان ع'!28:28)-1,yyyyy)) -> #NAME? | B34: =IFERROR(_xlfn.AGGREGATE(15,6,$A$8:$A$1010,ROW(A27)),"") | C34: =IFERROR(VLOOKUP(B34,m,2,0),"") | D34: =IFERROR(VLOOKUP(B34,m,3,0),"")
A35: =(IF($Z$5='بيان ع'!D29,ROW('بيان ع'!29:29)-1,yyyyy)) -> #NAME? | B35: =IFERROR(_xlfn.AGGREGATE(15,6,$A$8:$A$1010,ROW(A28)),"") | C35: =IFERROR(VLOOKUP(B35,m,2,0),"") | D35: =IFERROR(VLOOKUP(B35,m,3,0),"")
A36: =(IF($Z$5='بيان ع'!D30,ROW('بيان ع'!30:30)-1,yyyyy)) -> #NAME? | B36: =IFERROR(_xlfn.AGGREGATE(15,6,$A$8:$A$1010,ROW(A29)),"") | C36: =IFERROR(VLOOKUP(B36,m,2,0),"") | D36: =IFERROR(VLOOKUP(B36,m,3,0),"")
A37: =(IF($Z$5='بيان ع'!D31,ROW('بيان ع'!31:31)-1,yyyyy)) -> #NAME? | B37: =IFERROR(_xlfn.AGGREGATE(15,6,$A$8:$A$1010,ROW(A30)),"") | C37: =IFERROR(VLOOKUP(B37,m,2,0),"") | D37: =IFERROR(VLOOKUP(B37,m,3,0),"")
A38: =(IF($Z$5='بيان ع'!D32,ROW('بيان ع'!32:32)-1,yyyyy)) -> #NAME? | B38: =IFERROR(_xlfn.AGGREGATE(15,6,$A$8:$A$1010,ROW(A31)),"") | C38: =IFERROR(VLOOKUP(B38,m,2,0),"") | D38: =IFERROR(VLOOKUP(B38,m,3,0),"")
A39: =(IF($Z$5='بيان ع'!D33,ROW('بيان ع'!33:33)-1,yyyyy)) -> #NAME? | B39: =IFERROR(_xlfn.AGGREGATE(15,6,$A$8:$A$1010,ROW(A32)),"") | C39: =IFERROR(VLOOKUP(B39,m,2,0),"") | D39: =IFERROR(VLOOKUP(B39,m,3,0),"")
A40: =(IF($Z$5='بيان ع'!D34,ROW('بيان ع'!34:34)-1,yyyyy)) -> #NAME? | B40: =IFERROR(_xlfn.AGGREGATE(15,6,$A$8:$A$1010,ROW(A33)),"") | C40: =IFERROR(VLOOKUP(B40,m,2,0),"") | D40: =IFERROR(VLOOKUP(B40,m,3,0),"")
A41: =(IF($Z$5='بيان ع'!D35,ROW('بيان ع'!35:35)-1,yyyyy)) -> #NAME? | B41: =IFERROR(_xlfn.AGGREGATE(15,6,$A$8:$A$1010,ROW(A34)),"") | C41: =IFERROR(VLOOKUP(B41,m,2,0),"") | D41: =IFERROR(VLOOKUP(B41,m,3,0),"")
A42: =(IF($Z$5='بيان ع'!D36,ROW('بيان ع'!36:36)-1,yyyyy)) -> #NAME? | B42: =IFERROR(_xlfn.AGGREGATE(15,6,$A$8:$A$1010,ROW(A35)),"") | C42: =IFERROR(VLOOKUP(B42,m,2,0),"") | D42: =IFERROR(VLOOKUP(B42,m,3,0),"")
A43: =(IF($Z$5='بيان ع'!D37,ROW('بيان ع'!37:37)-1,yyyyy)) -> #NAME? | B43: =IFERROR(_xlfn.AGGREGATE(15,6,$A$8:$A$1010,ROW(A36)),"") | C43: =IFERROR(VLOOKUP(B43,m,2,0),"") | D43: =IFERROR(VLOOKUP(B43,m,3,0),"")
A44: =(IF($Z$5='بيان ع'!D38,ROW('بيان ع'!38:38)-1,yyyyy)) -> #NAME? | B44: =IFERROR(_xlfn.AGGREGATE(15,6,$A$8:$A$1010,ROW(A37)),"") | C44: =IFERROR(VLOOKUP(B44,m,2,0),"") | D44: =IFERROR(VLOOKUP(B44,m,3,0),"")
A45: =(IF($Z$5='بيان ع'!D39,ROW('بيان ع'!39:39)-1,yyyyy)) -> #NAME? | B45: =IFERROR(_xlfn.AGGREGATE(15,6,$A$8:$A$1010,ROW(A38)),"") | C45: =IFERROR(VLOOKUP(B45,m,2,0),"") | D45: =IFERROR(VLOOKUP(B45,m,3,0),"")
A46: =(IF($Z$5='بيان ع'!D40,ROW('بيان ع'!40:40)-1,yyyyy)) -> #NAME? | B46: =IFERROR(_xlfn.AGGREGATE(15,6,$A$8:$A$1010,ROW(A39)),"") | C46: =IFERROR(VLOOKUP(B46,m,2,0),"") | D46: =IFERROR(VLOOKUP(B46,m,3,0),"")
A47: =(IF($Z$5='بيان ع'!D41,ROW('بيان ع'!41:41)-1,yyyyy)) -> #NAME? | B47: =IFERROR(_xlfn.AGGREGATE(15,6,$A$8:$A$1010,ROW(A40)),"") | C47: =IFERROR(VLOOKUP(B47,m,2,0),"") | D47: =IFERROR(VLOOKUP(B47,m,3,0),"")
A48: =(IF($Z$5='بيان ع'!D42,ROW('بيان ع'!42:42)-1,yyyyy)) -> #NAME? | B48: =IFERROR(_xlfn.AGGREGATE(15,6,$A$8:$A$1010,ROW(A41)),"") | C48: =IFERROR(VLOOKUP(B48,m,2,0),"") | D48: =IFERROR(VLOOKUP(B48,m,3,0),"")
A49: =(IF($Z$5='بيان ع'!D43,ROW('بيان ع'!43:43)-1,yyyyy)) -> #NAME? | B49: =IFERROR(_xlfn.AGGREGATE(15,6,$A$8:$A$1010,ROW(A42)),"") | C49: =IFERROR(VLOOKUP(B49,m,2,0),"") | D49: =IFERROR(VLOOKUP(B49,m,3,0),"")
A50: =(IF($Z$5='بيان ع'!D44,ROW('بيان ع'!44:44)-1,yyyyy)) -> #NAME? | B50: =IFERROR(_xlfn.AGGREGATE(15,6,$A$8:$A$1010,ROW(A43)),"") | C50: =IFERROR(VLOOKUP(B50,m,2,0),"") | D50: =IFERROR(VLOOKUP(B50,m,3,0),"")
A51: =(IF($Z$5='بيان ع'!D45,ROW('بيان ع'!45:45)-1,yyyyy)) -> #NAME? | B51: =IFERROR(_xlfn.AGGREGATE(15,6,$A$8:$A$1010,ROW(A44)),"") | C51: =IFERROR(VLOOKUP(B51,m,2,0),"") | D51: =IFERROR(VLOOKUP(B51,m,3,0),"")
A52: =(IF($Z$5='بيان ع'!D46,ROW('بيان ع'!46:46)-1,yyyyy)) -> #NAME? | B52: =IFERROR(_xlfn.AGGREGATE(15,6,$A$8:$A$1010,ROW(A45)),"") | C52: =IFERROR(VLOOKUP(B52,m,2,0),"") | D52: =IFERROR(VLOOKUP(B52,m,3,0),"")
A53: =(IF($Z$5='بيان ع'!D47,ROW('بيان ع'!47:47)-1,yyyyy)) -> #NAME? | B53: =IFERROR(_xlfn.AGGREGATE(15,6,$A$8:$A$1010,ROW(A46)),"") | C53: =IFERROR(VLOOKUP(B53,m,2,0),"") | D53: =IFERROR(VLOOKUP(B53,m,3,0),"")
A54: =(IF($Z$5='بيان ع'!D48,ROW('بيان ع'!48:48)-1,yyyyy)) -> #NAME? | B54: =IFERROR(_xlfn.AGGREGATE(15,6,$A$8:$A$1010,ROW(A47)),"") | C54: =IFERROR(VLOOKUP(B54,m,2,0),"") | D54: =IFERROR(VLOOKUP(B54,m,3,0),"")
A55: =(IF($Z$5='بيان ع'!D49,ROW('بيان ع'!49:49)-1,yyyyy)) -> #NAME? | B55: =IFERROR(_xlfn.AGGREGATE(15,6,$A$8:$A$1010,ROW(A48)),"") | C55: =IFERROR(VLOOKUP(B55,m,2,0),"") | D55: =IFERROR(VLOOKUP(B55,m,3,0),"")
A56: =(IF($Z$5='بيان ع'!D50,ROW('بيان ع'!50:50)-1,yyyyy)) -> #NAME? | B56: =IFERROR(_xlfn.AGGREGATE(15,6,$A$8:$A$1010,ROW(A49)),"") | C56: =IFERROR(VLOOKUP(B56,m,2,0),"") | D56: =IFERROR(VLOOKUP(B56,m,3,0),"")
A57: =(IF($Z$5='بيان ع'!D51,ROW('بيان ع'!51:51)-1,yyyyy)) -> #NAME? | B57: =IFERROR(_xlfn.AGGREGATE(15,6,$A$8:$A$1010,ROW(A50)),"") | C57: =IFERROR(VLOOKUP(B57,m,2,0),"") | D57: =IFERROR(VLOOKUP(B57,m,3,0),"")
A58: =(IF($Z$5='بيان ع'!D52,ROW('بيان ع'!52:52)-1,yyyyy)) -> #NAME? | B58: =IFERROR(_xlfn.AGGREGATE(15,6,$A$8:$A$1010,ROW(A51)),"") | C58: =IFERROR(VLOOKUP(B58,m,2,0),"") | D58: =IFERROR(VLOOKUP(B58,m,3,0),"")
A59: =(IF($Z$5='بيان ع'!D53,ROW('بيان ع'!53:53)-1,yyyyy)) -> #NAME? | B59: =IFERROR(_xlfn.AGGREGATE(15,6,$A$8:$A$1010,ROW(A52)),"") | C59: =IFERROR(VLOOKUP(B59,m,2,0),"") | D59: =IFERROR(VLOOKUP(B59,m,3,0),"")
A60: =(IF($Z$5='بيان ع'!D54,ROW('بيان ع'!54:54)-1,yyyyy)) -> #NAME? | B60: =IFERROR(_xlfn.AGGREGATE(15,6,$A$8:$A$1010,ROW(A53)),"") | C60: =IFERROR(VLOOKUP(B60,m,2,0),"") | D60: =IFERROR(VLOOKUP(B60,m,3,0),"")
A61: =(IF($Z$5='بيان ع'!D55,ROW('بيان ع'!55:55)-1,yyyyy)) -> #NAME? | B61: =IFERROR(_xlfn.AGGREGATE(15,6,$A$8:$A$1010,ROW(A54)),"") | C61: =IFERROR(VLOOKUP(B61,m,2,0),"") | D61: =IFERROR(VLOOKUP(B61,m,3,0),"")
A62: =(IF($Z$5='بيان ع'!D56,ROW('بيان ع'!56:56)-1,yyyyy)) -> #NAME? | B62: =IFERROR(_xlfn.AGGREGATE(15,6,$A$8:$A$1010,ROW(A55)),"") | C62: =IFERROR(VLOOKUP(B62,m,2,0),"") | D62: =IFERROR(VLOOKUP(B62,m,3,0),"")
A63: =(IF($Z$5='بيان ع'!D57,ROW('بيان ع'!57:57)-1,yyyyy)) -> #NAME? | B63: =IFERROR(_xlfn.AGGREGATE(15,6,$A$8:$A$1010,ROW(A56)),"") | C63: =IFERROR(VLOOKUP(B63,m,2,0),"") | D63: =IFERROR(VLOOKUP(B63,m,3,0),"")
A64: =(IF($Z$5='بيان ع'!D58,ROW('بيان ع'!58:58)-1,yyyyy)) -> #NAME? | B64: =IFERROR(_xlfn.AGGREGATE(15,6,$A$8:$A$1010,ROW(A57)),"") | C64: =IFERROR(VLOOKUP(B64,m,2,0),"") | D64: =IFERROR(VLOOKUP(B64,m,3,0),"")
A65: =(IF($Z$5='بيان ع'!D59,ROW('بيان ع'!59:59)-1,yyyyy)) -> #NAME? | B65: =IFERROR(_xlfn.AGGREGATE(15,6,$A$8:$A$1010,ROW(A58)),"") | C65: =IFERROR(VLOOKUP(B65,m,2,0),"") | D65: =IFERROR(VLOOKUP(B65,m,3,0),"")
A66: =(IF($Z$5='بيان ع'!D60,ROW('بيان ع'!60:60)-1,yyyyy)) -> #NAME? | B66: =IFERROR(_xlfn.AGGREGATE(15,6,$A$8:$A$1010,ROW(A59)),"") | C66: =IFERROR(VLOOKUP(B66,m,2,0),"") | D66: =IFERROR(VLOOKUP(B66,m,3,0),"")
A67: =(IF($Z$5='بيان ع'!D61,ROW('بيان ع'!61:61)-1,yyyyy)) -> #NAME? | B67: =IFERROR(_xlfn.AGGREGATE(15,6,$A$8:$A$1010,ROW(A60)),"") | C67: =IFERROR(VLOOKUP(B67,m,2,0),"") | D67: =IFERROR(VLOOKUP(B67,m,3,0),"")
A68: =(IF($Z$5='بيان ع'!D62,ROW('بيان ع'!62:62)-1,yyyyy)) -> #NAME? | B68: =IFERROR(_xlfn.AGGREGATE(15,6,$A$8:$A$1010,ROW(A61)),"") | C68: =IFERROR(VLOOKUP(B68,m,2,0),"") | D68: =IFERROR(VLOOKUP(B68,m,3,0),"")
A69: =(IF($Z$5='بيان ع'!D63,ROW('بيان ع'!63:63)-1,yyyyy)) -> #NAME? | B69: =IFERROR(_xlfn.AGGREGATE(15,6,$A$8:$A$1010,ROW(A62)),"") | C69: =IFERROR(VLOOKUP(B69,m,2,0),"") | D69: =IFERROR(VLOOKUP(B69,m,3,0),"")
A70: =(IF($Z$5='بيان ع'!D64,ROW('بيان ع'!64:64)-1,yyyyy)) -> #NAME? | B70: =IFERROR(_xlfn.AGGREGATE(15,6,$A$8:$A$1010,ROW(A63)),"") | C70: =IFERROR(VLOOKUP(B70,m,2,0),"") | D70: =IFERROR(VLOOKUP(B70,m,3,0),"")
A71: =(IF($Z$5='بيان ع'!D65,ROW('بيان ع'!65:65)-1,yyyyy)) -> #NAME? | B71: =IFERROR(_xlfn.AGGREGATE(15,6,$A$8:$A$1010,ROW(A64)),"") | C71: =IFERROR(VLOOKUP(B71,m,2,0),"") | D71: =IFERROR(VLOOKUP(B71,m,3,0),"")
A72: =(IF($Z$5='بيان ع'!D66,ROW('بيان ع'!66:66)-1,yyyyy)) -> #NAME? | B72: =IFERROR(_xlfn.AGGREGATE(15,6,$A$8:$A$1010,ROW(A65)),"") | C72: =IFERROR(VLOOKUP(B72,m,2,0),"") | D72: =IFERROR(VLOOKUP(B72,m,3,0),"")
A73: =(IF($Z$5='بيان ع'!D67,ROW('بيان ع'!67:67)-1,yyyyy)) -> #NAME? | B73: =IFERROR(_xlfn.AGGREGATE(15,6,$A$8:$A$1010,ROW(A66)),"") | C73: =IFERROR(VLOOKUP(B73,m,2,0),"") | D73: =IFERROR(VLOOKUP(B73,m,3,0),"")
A74: =(IF($Z$5='بيان ع'!D68,ROW('بيان ع'!68:68)-1,yyyyy)) -> #NAME? | B74: =IFERROR(_xlfn.AGGREGATE(15,6,$A$8:$A$1010,ROW(A67)),"") | C74: =IFERROR(VLOOKUP(B74,m,2,0),"") | D74: =IFERROR(VLOOKUP(B74,m,3,0),"")
A75: =(IF($Z$5='بيان ع'!D69,ROW('بيان ع'!69:69)-1,yyyyy)) -> #NAME? | B75: =IFERROR(_xlfn.AGGREGATE(15,6,$A$8:$A$1010,ROW(A68)),"") | C75: =IFERROR(VLOOKUP(B75,m,2,0),"") | D75: =IFERROR(VLOOKUP(B75,m,3,0),"")
A76: =(IF($Z$5='بيان ع'!D70,ROW('بيان ع'!70:70)-1,yyyyy)) -> #NAME? | B76: =IFERROR(_xlfn.AGGREGATE(15,6,$A$8:$A$1010,ROW(A69)),"") | C76: =IFERROR(VLOOKUP(B76,m,2,0),"") | D76: =IFERROR(VLOOKUP(B76,m,3,0),"")
A77: =(IF($Z$5='بيان ع'!D71,ROW('بيان ع'!71:71)-1,yyyyy)) -> #NAME? | B77: =IFERROR(_xlfn.AGGREGATE(15,6,$A$8:$A$1010,ROW(A70)),"") | C77: =IFERROR(VLOOKUP(B77,m,2,0),"") | D77: =IFERROR(VLOOKUP(B77,m,3,0),"")
A78: =(IF($Z$5='بيان ع'!D72,ROW('بيان ع'!72:72)-1,yyyyy)) -> #NAME? | B78: =IFERROR(_xlfn.AGGREGATE(15,6,$A$8:$A$1010,ROW(A71)),"") | C78: معلم المادة | F78: رئيس الكنترول | Q78: يعتمد شيخ المعهد
A79: =(IF($Z$5='بيان ع'!D73,ROW('بيان ع'!73:73)-1,yyyyy)) -> #NAME? | B79: =IFERROR(_xlfn.AGGREGATE(15,6,$A$8:$A$1010,ROW(A72)),"") | C79: ........................................................... | F79: ='بيان ع'!K5 -> 0 | Q79: ='بيان ع'!K6 -> 0
A80: =(IF($Z$5='بيان ع'!D74,ROW('بيان ع'!74:74)-1,yyyyy)) -> #NAME? | B80: =IFERROR(_xlfn.AGGREGATE(15,6,$A$8:$A$1010,ROW(A73)),"")
A81: =(IF($Z$5='بيان ع'!D75,ROW('بيان ع'!75:75)-1,yyyyy)) -> #NAME? | B81: =IFERROR(_xlfn.AGGREGATE(15,6,$A$8:$A$1010,ROW(A74)),"")
A82: =(IF($Z$5='بيان ع'!D76,ROW('بيان ع'!76:76)-1,yyyyy)) -> #NAME? | B82: =IFERROR(_xlfn.AGGREGATE(15,6,$A$8:$A$1010,ROW(A75)),"")
A83: =(IF($Z$5='بيان ع'!D77,ROW('بيان ع'!77:77)-1,yyyyy)) -> #NAME? | B83: =IFERROR(_xlfn.AGGREGATE(15,6,$A$8:$A$1010,ROW(A76)),"")
A84: =(IF($Z$5='بيان ع'!D78,ROW('بيان ع'!78:78)-1,yyyyy)) -> #NAME? | B84: =IFERROR(_xlfn.AGGREGATE(15,6,$A$8:$A$1010,ROW(A77)),"")
A85: =(IF($Z$5='بيان ع'!D79,ROW('بيان ع'!79:79)-1,yyyyy)) -> #NAME? | B85: =IFERROR(_xlfn.AGGREGATE(15,6,$A$8:$A$1010,ROW(A78)),"")
A86: =(IF($Z$5='بيان ع'!D80,ROW('بيان ع'!80:80)-1,yyyyy)) -> #NAME? | B86: =IFERROR(_xlfn.AGGREGATE(15,6,$A$8:$A$1010,ROW(A79)),"")
A87: =(IF($Z$5='بيان ع'!D81,ROW('بيان ع'!81:81)-1,yyyyy)) -> #NAME? | B87: =IFERROR(_xlfn.AGGREGATE(15,6,$A$8:$A$1010,ROW(A80)),"")
A88: =(IF($Z$5='بيان ع'!D82,ROW('بيان ع'!82:82)-1,yyyyy)) -> #NAME? | B88: =IFERROR(_xlfn.AGGREGATE(15,6,$A$8:$A$1010,ROW(A81)),"")
A89: =(IF($Z$5='بيان ع'!D83,ROW('بيان ع'!83:83)-1,yyyyy)) -> #NAME? | B89: =IFERROR(_xlfn.AGGREGATE(15,6,$A$8:$A$1010,ROW(A82)),"")
A90: =(IF($Z$5='بيان ع'!D84,ROW('بيان ع'!84:84)-1,yyyyy)) -> #NAME? | B90: =IFERROR(_xlfn.AGGREGATE(15,6,$A$8:$A$1010,ROW(A83)),"")
A91: =(IF($Z$5='بيان ع'!D85,ROW('بيان ع'!85:85)-1,yyyyy)) -> #NAME? | B91: =IFERROR(_xlfn.AGGREGATE(15,6,$A$8:$A$1010,ROW(A84)),"")
A92: =(IF($Z$5='بيان ع'!D86,ROW('بيان ع'!86:86)-1,yyyyy)) -> #NAME? | B92: =IFERROR(_xlfn.AGGREGATE(15,6,$A$8:$A$1010,ROW(A85)),"")
A93: =(IF($Z$5='بيان ع'!D87,ROW('بيان ع'!87:87)-1,yyyyy)) -> #NAME? | B93: =IFERROR(_xlfn.AGGREGATE(15,6,$A$8:$A$1010,ROW(A86)),"")
A94: =(IF($Z$5='بيان ع'!D88,ROW('بيان ع'!88:88)-1,yyyyy)) -> #NAME? | B94: =IFERROR(_xlfn.AGGREGATE(15,6,$A$8:$A$1010,ROW(A87)),"")
A95: =(IF($Z$5='بيان ع'!D89,ROW('بيان ع'!89:89)-1,yyyyy)) -> #NAME? | B95: =IFERROR(_xlfn.AGGREGATE(15,6,$A$8:$A$1010,ROW(A88)),"")
A96: =(IF($Z$5='بيان ع'!D90,ROW('بيان ع'!90:90)-1,yyyyy)) -> #NAME? | B96: =IFERROR(_xlfn.AGGREGATE(15,6,$A$8:$A$1010,ROW(A89)),"")
A97: =(IF($Z$5='بيان ع'!D91,ROW('بيان ع'!91:91)-1,yyyyy)) -> #NAME? | B97: =IFERROR(_xlfn.AGGREGATE(15,6,$A$8:$A$1010,ROW(A90)),"")
A98: =(IF($Z$5='بيان ع'!D92,ROW('بيان ع'!92:92)-1,yyyyy)) -> #NAME? | B98: =IFERROR(_xlfn.AGGREGATE(15,6,$A$8:$A$1010,ROW(A91)),"")
A99: =(IF($Z$5='بيان ع'!D93,ROW('بيان ع'!93:93)-1,yyyyy)) -> #NAME? | B99: =IFERROR(_xlfn.AGGREGATE(15,6,$A$8:$A$1010,ROW(A92)),"")
A100: =(IF($Z$5='بيان ع'!D94,ROW('بيان ع'!94:94)-1,yyyyy)) -> #NAME? | B100: =IFERROR(_xlfn.AGGREGATE(15,6,$A$8:$A$1010,ROW(A93)),"")
...

Sheet ق3
A1: ذ | C1: الأزهر الشريف | K1: عام: | O1: غ | Q1: غ | R1: 1 | S1: =SUM(Q1:R1)+SUM(O1:P1) -> 1 | T1: =S1/2 -> 0.5 | U1: مستجد | V1: معيد | AG1: فصل
C2: منطقة: | D2: ='بيان ع'!K2 -> 0 | I2: =P3 -> 1/1 | K2: ='بيان ع'!K7 -> 2026م/ 2027م | U2: =COUNTIF($E$8:$E$41,W2) -> 0 | V2: =COUNTIF($E$8:$E$41,W3) -> 0 | W2: مستجد
C3: معهد: | D3: ='بيان ع'!K4 -> 0 | O3: اختر الفصل: | P3: 1/1 | U3: =COUNTIF(#REF!,W2) -> #REF! | V3: =COUNTIF(#REF!,W3) -> #REF! | W3: معيد
C4: جلوس | D4: الاســــم | E4: الاختبارات الشهرية | K4: مجموع الشهرين | L4: الفصل الدراسي
E5: الشهر الأول | H5: الشهر الثاني
E6: شفوي | F6: تحريري | G6: مجموع | H6: شفوي | I6: تحريري | J6: مجموع | K6: 30 | L6: شفوي | M6: تحريري
A7: م | B7: م | E7: 5 | F7: 10 | G7: 15 | H7: 5 | I7: 10 | J7: 15 | L7: 20 | M7: 50
A8: {=(IF($P$3='بيان ع'!D2,ROW('بيان ع'!2:2)-1,yyyyy))} -> 1 | B8: =IFERROR(_xlfn.AGGREGATE(15,6,$A$8:$A$1010,ROW(A1)),"") -> 1 | C8: =IFERROR(VLOOKUP(B8,m,2,0),"") -> 0 | D8: =IFERROR(VLOOKUP(B8,m,3,0),"") -> 0
A9: {=(IF($P$3='بيان ع'!D3,ROW('بيان ع'!3:3)-1,yyyyy))} -> #NAME? | B9: =IFERROR(_xlfn.AGGREGATE(15,6,$A$8:$A$1010,ROW(A2)),"") | C9: =IFERROR(VLOOKUP(B9,m,2,0),"") | D9: =IFERROR(VLOOKUP(B9,m,3,0),"")
A10: {=(IF($P$3='بيان ع'!D4,ROW('بيان ع'!4:4)-1,yyyyy))} -> #NAME? | B10: =IFERROR(_xlfn.AGGREGATE(15,6,$A$8:$A$1010,ROW(A3)),"") | C10: =IFERROR(VLOOKUP(B10,m,2,0),"") | D10: =IFERROR(VLOOKUP(B10,m,3,0),"")
A11: {=(IF($P$3='بيان ع'!D5,ROW('بيان ع'!5:5)-1,yyyyy))} -> #NAME? | B11: =IFERROR(_xlfn.AGGREGATE(15,6,$A$8:$A$1010,ROW(A4)),"") | C11: =IFERROR(VLOOKUP(B11,m,2,0),"") | D11: =IFERROR(VLOOKUP(B11,m,3,0),"")
A12: {=(IF($P$3='بيان ع'!D6,ROW('بيان ع'!6:6)-1,yyyyy))} -> #NAME? | B12: =IFERROR(_xlfn.AGGREGATE(15,6,$A$8:$A$1010,ROW(A5)),"") | C12: =IFERROR(VLOOKUP(B12,m,2,0),"") | D12: =IFERROR(VLOOKUP(B12,m,3,0),"")
A13: {=(IF($P$3='بيان ع'!D7,ROW('بيان ع'!7:7)-1,yyyyy))} -> #NAME? | B13: =IFERROR(_xlfn.AGGREGATE(15,6,$A$8:$A$1010,ROW(A6)),"") | C13: =IFERROR(VLOOKUP(B13,m,2,0),"") | D13: =IFERROR(VLOOKUP(B13,m,3,0),"")
A14: {=(IF($P$3='بيان ع'!D8,ROW('بيان ع'!8:8)-1,yyyyy))} -> #NAME? | B14: =IFERROR(_xlfn.AGGREGATE(15,6,$A$8:$A$1010,ROW(A7)),"") | C14: =IFERROR(VLOOKUP(B14,m,2,0),"") | D14: =IFERROR(VLOOKUP(B14,m,3,0),"")
A15: {=(IF($P$3='بيان ع'!D9,ROW('بيان ع'!9:9)-1,yyyyy))} -> #NAME? | B15: =IFERROR(_xlfn.AGGREGATE(15,6,$A$8:$A$1010,ROW(A8)),"") | C15: =IFERROR(VLOOKUP(B15,m,2,0),"") | D15: =IFERROR(VLOOKUP(B15,m,3,0),"")
A16: {=(IF($P$3='بيان ع'!D10,ROW('بيان ع'!10:10)-1,yyyyy))} -> #NAME? | B16: =IFERROR(_xlfn.AGGREGATE(15,6,$A$8:$A$1010,ROW(A9)),"") | C16: =IFERROR(VLOOKUP(B16,m,2,0),"") | D16: =IFERROR(VLOOKUP(B16,m,3,0),"")
A17: {=(IF($P$3='بيان ع'!D11,ROW('بيان ع'!11:11)-1,yyyyy))} -> #NAME? | B17: =IFERROR(_xlfn.AGGREGATE(15,6,$A$8:$A$1010,ROW(A10)),"") | C17: =IFERROR(VLOOKUP(B17,m,2,0),"") | D17: =IFERROR(VLOOKUP(B17,m,3,0),"")
A18: {=(IF($P$3='بيان ع'!D12,ROW('بيان ع'!12:12)-1,yyyyy))} -> #NAME? | B18: =IFERROR(_xlfn.AGGREGATE(15,6,$A$8:$A$1010,ROW(A11)),"") | C18: =IFERROR(VLOOKUP(B18,m,2,0),"") | D18: =IFERROR(VLOOKUP(B18,m,3,0),"")
A19: {=(IF($P$3='بيان ع'!D13,ROW('بيان ع'!13:13)-1,yyyyy))} -> #NAME? | B19: =IFERROR(_xlfn.AGGREGATE(15,6,$A$8:$A$1010,ROW(A12)),"") | C19: =IFERROR(VLOOKUP(B19,m,2,0),"") | D19: =IFERROR(VLOOKUP(B19,m,3,0),"")
A20: {=(IF($P$3='بيان ع'!D14,ROW('بيان ع'!14:14)-1,yyyyy))} -> #NAME? | B20: =IFERROR(_xlfn.AGGREGATE(15,6,$A$8:$A$1010,ROW(A13)),"") | C20: =IFERROR(VLOOKUP(B20,m,2,0),"") | D20: =IFERROR(VLOOKUP(B20,m,3,0),"")
A21: {=(IF($P$3='بيان ع'!D15,ROW('بيان ع'!15:15)-1,yyyyy))} -> #NAME? | B21: =IFERROR(_xlfn.AGGREGATE(15,6,$A$8:$A$1010,ROW(A14)),"") | C21: =IFERROR(VLOOKUP(B21,m,2,0),"") | D21: =IFERROR(VLOOKUP(B21,m,3,0),"")
A22: {=(IF($P$3='بيان ع'!D16,ROW('بيان ع'!16:16)-1,yyyyy))} -> #NAME? | B22: =IFERROR(_xlfn.AGGREGATE(15,6,$A$8:$A$1010,ROW(A15)),"") | C22: =IFERROR(VLOOKUP(B22,m,2,0),"") | D22: =IFERROR(VLOOKUP(B22,m,3,0),"")
A23: {=(IF($P$3='بيان ع'!D17,ROW('بيان ع'!17:17)-1,yyyyy))} -> #NAME? | B23: =IFERROR(_xlfn.AGGREGATE(15,6,$A$8:$A$1010,ROW(A16)),"") | C23: =IFERROR(VLOOKUP(B23,m,2,0),"") | D23: =IFERROR(VLOOKUP(B23,m,3,0),"")
A24: {=(IF($P$3='بيان ع'!D18,ROW('بيان ع'!18:18)-1,yyyyy))} -> #NAME? | B24: =IFERROR(_xlfn.AGGREGATE(15,6,$A$8:$A$1010,ROW(A17)),"") | C24: =IFERROR(VLOOKUP(B24,m,2,0),"") | D24: =IFERROR(VLOOKUP(B24,m,3,0),"")
A25: {=(IF($P$3='بيان ع'!D19,ROW('بيان ع'!19:19)-1,yyyyy))} -> #NAME? | B25: =IFERROR(_xlfn.AGGREGATE(15,6,$A$8:$A$1010,ROW(A18)),"") | C25: =IFERROR(VLOOKUP(B25,m,2,0),"") | D25: =IFERROR(VLOOKUP(B25,m,3,0),"")
A26: {=(IF($P$3='بيان ع'!D20,ROW('بيان ع'!20:20)-1,yyyyy))} -> #NAME? | B26: =IFERROR(_xlfn.AGGREGATE(15,6,$A$8:$A$1010,ROW(A19)),"") | C26: =IFERROR(VLOOKUP(B26,m,2,0),"") | D26: =IFERROR(VLOOKUP(B26,m,3,0),"")
A27: {=(IF($P$3='بيان ع'!D21,ROW('بيان ع'!21:21)-1,yyyyy))} -> #NAME? | B27: =IFERROR(_xlfn.AGGREGATE(15,6,$A$8:$A$1010,ROW(A20)),"") | C27: =IFERROR(VLOOKUP(B27,m,2,0),"") | D27: =IFERROR(VLOOKUP(B27,m,3,0),"")
A28: {=(IF($P$3='بيان ع'!D22,ROW('بيان ع'!22:22)-1,yyyyy))} -> #NAME? | B28: =IFERROR(_xlfn.AGGREGATE(15,6,$A$8:$A$1010,ROW(A21)),"") | C28: =IFERROR(VLOOKUP(B28,m,2,0),"") | D28: =IFERROR(VLOOKUP(B28,m,3,0),"")
A29: {=(IF($P$3='بيان ع'!D23,ROW('بيان ع'!23:23)-1,yyyyy))} -> #NAME? | B29: =IFERROR(_xlfn.AGGREGATE(15,6,$A$8:$A$1010,ROW(A22)),"") | C29: =IFERROR(VLOOKUP(B29,m,2,0),"") | D29: =IFERROR(VLOOKUP(B29,m,3,0),"")
A30: {=(IF($P$3='بيان ع'!D24,ROW('بيان ع'!24:24)-1,yyyyy))} -> #NAME? | B30: =IFERROR(_xlfn.AGGREGATE(15,6,$A$8:$A$1010,ROW(A23)),"") | C30: =IFERROR(VLOOKUP(B30,m,2,0),"") | D30: =IFERROR(VLOOKUP(B30,m,3,0),"")
A31: {=(IF($P$3='بيان ع'!D25,ROW('بيان ع'!25:25)-1,yyyyy))} -> #NAME? | B31: =IFERROR(_xlfn.AGGREGATE(15,6,$A$8:$A$1010,ROW(A24)),"") | C31: =IFERROR(VLOOKUP(B31,m,2,0),"") | D31: =IFERROR(VLOOKUP(B31,m,3,0),"")
A32: {=(IF($P$3='بيان ع'!D26,ROW('بيان ع'!26:26)-1,yyyyy))} -> #NAME? | B32: =IFERROR(_xlfn.AGGREGATE(15,6,$A$8:$A$1010,ROW(A25)),"") | C32: =IFERROR(VLOOKUP(B32,m,2,0),"") | D32: =IFERROR(VLOOKUP(B32,m,3,0),"")
A33: {=(IF($P$3='بيان ع'!D27,ROW('بيان ع'!27:27)-1,yyyyy))} -> #NAME? | B33: =IFERROR(_xlfn.AGGREGATE(15,6,$A$8:$A$1010,ROW(A26)),"") | C33: =IFERROR(VLOOKUP(B33,m,2,0),"") | D33: =IFERROR(VLOOKUP(B33,m,3,0),"")
A34: {=(IF($P$3='بيان ع'!D28,ROW('بيان ع'!28:28)-1,yyyyy))} -> #NAME? | B34: =IFERROR(_xlfn.AGGREGATE(15,6,$A$8:$A$1010,ROW(A27)),"") | C34: =IFERROR(VLOOKUP(B34,m,2,0),"") | D34: =IFERROR(VLOOKUP(B34,m,3,0),"")
A35: {=(IF($P$3='بيان ع'!D29,ROW('بيان ع'!29:29)-1,yyyyy))} -> #NAME? | B35: =IFERROR(_xlfn.AGGREGATE(15,6,$A$8:$A$1010,ROW(A28)),"") | C35: =IFERROR(VLOOKUP(B35,m,2,0),"") | D35: =IFERROR(VLOOKUP(B35,m,3,0),"")
A36: {=(IF($P$3='بيان ع'!D30,ROW('بيان ع'!30:30)-1,yyyyy))} -> #NAME? | B36: =IFERROR(_xlfn.AGGREGATE(15,6,$A$8:$A$1010,ROW(A29)),"") | C36: =IFERROR(VLOOKUP(B36,m,2,0),"") | D36: =IFERROR(VLOOKUP(B36,m,3,0),"")
A37: {=(IF($P$3='بيان ع'!D31,ROW('بيان ع'!31:31)-1,yyyyy))} -> #NAME? | B37: =IFERROR(_xlfn.AGGREGATE(15,6,$A$8:$A$1010,ROW(A30)),"") | C37: =IFERROR(VLOOKUP(B37,m,2,0),"") | D37: =IFERROR(VLOOKUP(B37,m,3,0),"")
A38: {=(IF($P$3='بيان ع'!D32,ROW('بيان ع'!32:32)-1,yyyyy))} -> #NAME? | B38: =IFERROR(_xlfn.AGGREGATE(15,6,$A$8:$A$1010,ROW(A31)),"") | C38: =IFERROR(VLOOKUP(B38,m,2,0),"") | D38: =IFERROR(VLOOKUP(B38,m,3,0),"")
A39: {=(IF($P$3='بيان ع'!D33,ROW('بيان ع'!33:33)-1,yyyyy))} -> #NAME? | B39: =IFERROR(_xlfn.AGGREGATE(15,6,$A$8:$A$1010,ROW(A32)),"") | C39: =IFERROR(VLOOKUP(B39,m,2,0),"") | D39: =IFERROR(VLOOKUP(B39,m,3,0),"")
A40: {=(IF($P$3='بيان ع'!D34,ROW('بيان ع'!34:34)-1,yyyyy))} -> #NAME? | B40: =IFERROR(_xlfn.AGGREGATE(15,6,$A$8:$A$1010,ROW(A33)),"") | C40: =IFERROR(VLOOKUP(B40,m,2,0),"") | D40: =IFERROR(VLOOKUP(B40,m,3,0),"")
A41: {=(IF($P$3='بيان ع'!D35,ROW('بيان ع'!35:35)-1,yyyyy))} -> #NAME? | B41: =IFERROR(_xlfn.AGGREGATE(15,6,$A$8:$A$1010,ROW(A34)),"") | C41: =IFERROR(VLOOKUP(B41,m,2,0),"") | D41: =IFERROR(VLOOKUP(B41,m,3,0),"")
A42: {=(IF($P$3='بيان ع'!D36,ROW('بيان ع'!36:36)-1,yyyyy))} -> #NAME? | B42: =IFERROR(_xlfn.AGGREGATE(15,6,$A$8:$A$1010,ROW(A35)),"") | C42: =IFERROR(VLOOKUP(B42,m,2,0),"") | D42: =IFERROR(VLOOKUP(B42,m,3,0),"")
A43: {=(IF($P$3='بيان ع'!D37,ROW('بيان ع'!37:37)-1,yyyyy))} -> #NAME? | B43: =IFERROR(_xlfn.AGGREGATE(15,6,$A$8:$A$1010,ROW(A36)),"") | C43: =IFERROR(VLOOKUP(B43,m,2,0),"") | D43: =IFERROR(VLOOKUP(B43,m,3,0),"")
A44: {=(IF($P$3='بيان ع'!D38,ROW('بيان ع'!38:38)-1,yyyyy))} -> #NAME? | B44: =IFERROR(_xlfn.AGGREGATE(15,6,$A$8:$A$1010,ROW(A37)),"") | C44: =IFERROR(VLOOKUP(B44,m,2,0),"") | D44: =IFERROR(VLOOKUP(B44,m,3,0),"")
A45: {=(IF($P$3='بيان ع'!D39,ROW('بيان ع'!39:39)-1,yyyyy))} -> #NAME? | B45: =IFERROR(_xlfn.AGGREGATE(15,6,$A$8:$A$1010,ROW(A38)),"") | C45: =IFERROR(VLOOKUP(B45,m,2,0),"") | D45: =IFERROR(VLOOKUP(B45,m,3,0),"")
A46: {=(IF($P$3='بيان ع'!D40,ROW('بيان ع'!40:40)-1,yyyyy))} -> #NAME? | B46: =IFERROR(_xlfn.AGGREGATE(15,6,$A$8:$A$1010,ROW(A39)),"") | C46: =IFERROR(VLOOKUP(B46,m,2,0),"") | D46: =IFERROR(VLOOKUP(B46,m,3,0),"")
A47: {=(IF($P$3='بيان ع'!D41,ROW('بيان ع'!41:41)-1,yyyyy))} -> #NAME? | B47: =IFERROR(_xlfn.AGGREGATE(15,6,$A$8:$A$1010,ROW(A40)),"") | C47: =IFERROR(VLOOKUP(B47,m,2,0),"") | D47: =IFERROR(VLOOKUP(B47,m,3,0),"")
A48: {=(IF($P$3='بيان ع'!D42,ROW('بيان ع'!42:42)-1,yyyyy))} -> #NAME? | B48: =IFERROR(_xlfn.AGGREGATE(15,6,$A$8:$A$1010,ROW(A41)),"") | C48: =IFERROR(VLOOKUP(B48,m,2,0),"") | D48: =IFERROR(VLOOKUP(B48,m,3,0),"")
A49: {=(IF($P$3='بيان ع'!D43,ROW('بيان ع'!43:43)-1,yyyyy))} -> #NAME? | B49: =IFERROR(_xlfn.AGGREGATE(15,6,$A$8:$A$1010,ROW(A42)),"") | C49: =IFERROR(VLOOKUP(B49,m,2,0),"") | D49: =IFERROR(VLOOKUP(B49,m,3,0),"")
A50: {=(IF($P$3='بيان ع'!D44,ROW('بيان ع'!44:44)-1,yyyyy))} -> #NAME? | B50: =IFERROR(_xlfn.AGGREGATE(15,6,$A$8:$A$1010,ROW(A43)),"") | C50: =IFERROR(VLOOKUP(B50,m,2,0),"") | D50: =IFERROR(VLOOKUP(B50,m,3,0),"")
A51: {=(IF($P$3='بيان ع'!D45,ROW('بيان ع'!45:45)-1,yyyyy))} -> #NAME? | B51: =IFERROR(_xlfn.AGGREGATE(15,6,$A$8:$A$1010,ROW(A44)),"") | C51: =IFERROR(VLOOKUP(B51,m,2,0),"") | D51: =IFERROR(VLOOKUP(B51,m,3,0),"")
A52: {=(IF($P$3='بيان ع'!D46,ROW('بيان ع'!46:46)-1,yyyyy))} -> #NAME? | B52: =IFERROR(_xlfn.AGGREGATE(15,6,$A$8:$A$1010,ROW(A45)),"") | C52: =IFERROR(VLOOKUP(B52,m,2,0),"") | D52: =IFERROR(VLOOKUP(B52,m,3,0),"")
A53: {=(IF($P$3='بيان ع'!D47,ROW('بيان ع'!47:47)-1,yyyyy))} -> #NAME? | B53: =IFERROR(_xlfn.AGGREGATE(15,6,$A$8:$A$1010,ROW(A46)),"") | C53: =IFERROR(VLOOKUP(B53,m,2,0),"") | D53: =IFERROR(VLOOKUP(B53,m,3,0),"")
A54: {=(IF($P$3='بيان ع'!D48,ROW('بيان ع'!48:48)-1,yyyyy))} -> #NAME? | B54: =IFERROR(_xlfn.AGGREGATE(15,6,$A$8:$A$1010,ROW(A47)),"") | C54: =IFERROR(VLOOKUP(B54,m,2,0),"") | D54: =IFERROR(VLOOKUP(B54,m,3,0),"")
A55: {=(IF($P$3='بيان ع'!D49,ROW('بيان ع'!49:49)-1,yyyyy))} -> #NAME? | B55: =IFERROR(_xlfn.AGGREGATE(15,6,$A$8:$A$1010,ROW(A48)),"") | C55: =IFERROR(VLOOKUP(B55,m,2,0),"") | D55: =IFERROR(VLOOKUP(B55,m,3,0),"")
A56: {=(IF($P$3='بيان ع'!D50,ROW('بيان ع'!50:50)-1,yyyyy))} -> #NAME? | B56: =IFERROR(_xlfn.AGGREGATE(15,6,$A$8:$A$1010,ROW(A49)),"") | C56: =IFERROR(VLOOKUP(B56,m,2,0),"") | D56: =IFERROR(VLOOKUP(B56,m,3,0),"")
A57: {=(IF($P$3='بيان ع'!D51,ROW('بيان ع'!51:51)-1,yyyyy))} -> #NAME? | B57: =IFERROR(_xlfn.AGGREGATE(15,6,$A$8:$A$1010,ROW(A50)),"") | C57: =IFERROR(VLOOKUP(B57,m,2,0),"") | D57: =IFERROR(VLOOKUP(B57,m,3,0),"")
A58: {=(IF($P$3='بيان ع'!D52,ROW('بيان ع'!52:52)-1,yyyyy))} -> #NAME? | B58: =IFERROR(_xlfn.AGGREGATE(15,6,$A$8:$A$1010,ROW(A51)),"") | C58: =IFERROR(VLOOKUP(B58,m,2,0),"") | D58: =IFERROR(VLOOKUP(B58,m,3,0),"")
A59: {=(IF($P$3='بيان ع'!D53,ROW('بيان ع'!53:53)-1,yyyyy))} -> #NAME? | B59: =IFERROR(_xlfn.AGGREGATE(15,6,$A$8:$A$1010,ROW(A52)),"") | C59: =IFERROR(VLOOKUP(B59,m,2,0),"") | D59: =IFERROR(VLOOKUP(B59,m,3,0),"")
A60: {=(IF($P$3='بيان ع'!D54,ROW('بيان ع'!54:54)-1,yyyyy))} -> #NAME? | B60: =IFERROR(_xlfn.AGGREGATE(15,6,$A$8:$A$1010,ROW(A53)),"") | C60: =IFERROR(VLOOKUP(B60,m,2,0),"") | D60: =IFERROR(VLOOKUP(B60,m,3,0),"")
A61: {=(IF($P$3='بيان ع'!D55,ROW('بيان ع'!55:55)-1,yyyyy))} -> #NAME? | B61: =IFERROR(_xlfn.AGGREGATE(15,6,$A$8:$A$1010,ROW(A54)),"") | C61: =IFERROR(VLOOKUP(B61,m,2,0),"") | D61: =IFERROR(VLOOKUP(B61,m,3,0),"")
A62: {=(IF($P$3='بيان ع'!D56,ROW('بيان ع'!56:56)-1,yyyyy))} -> #NAME? | B62: =IFERROR(_xlfn.AGGREGATE(15,6,$A$8:$A$1010,ROW(A55)),"") | C62: =IFERROR(VLOOKUP(B62,m,2,0),"") | D62: =IFERROR(VLOOKUP(B62,m,3,0),"")
A63: {=(IF($P$3='بيان ع'!D57,ROW('بيان ع'!57:57)-1,yyyyy))} -> #NAME? | B63: =IFERROR(_xlfn.AGGREGATE(15,6,$A$8:$A$1010,ROW(A56)),"") | C63: =IFERROR(VLOOKUP(B63,m,2,0),"") | D63: =IFERROR(VLOOKUP(B63,m,3,0),"")
A64: {=(IF($P$3='بيان ع'!D58,ROW('بيان ع'!58:58)-1,yyyyy))} -> #NAME? | B64: =IFERROR(_xlfn.AGGREGATE(15,6,$A$8:$A$1010,ROW(A57)),"") | C64: =IFERROR(VLOOKUP(B64,m,2,0),"") | D64: =IFERROR(VLOOKUP(B64,m,3,0),"")
A65: {=(IF($P$3='بيان ع'!D59,ROW('بيان ع'!59:59)-1,yyyyy))} -> #NAME? | B65: =IFERROR(_xlfn.AGGREGATE(15,6,$A$8:$A$1010,ROW(A58)),"") | C65: =IFERROR(VLOOKUP(B65,m,2,0),"") | D65: =IFERROR(VLOOKUP(B65,m,3,0),"")
A66: {=(IF($P$3='بيان ع'!D60,ROW('بيان ع'!60:60)-1,yyyyy))} -> #NAME? | B66: =IFERROR(_xlfn.AGGREGATE(15,6,$A$8:$A$1010,ROW(A59)),"") | C66: =IFERROR(VLOOKUP(B66,m,2,0),"") | D66: =IFERROR(VLOOKUP(B66,m,3,0),"")
A67: {=(IF($P$3='بيان ع'!D61,ROW('بيان ع'!61:61)-1,yyyyy))} -> #NAME? | B67: =IFERROR(_xlfn.AGGREGATE(15,6,$A$8:$A$1010,ROW(A60)),"") | C67: =IFERROR(VLOOKUP(B67,m,2,0),"") | D67: =IFERROR(VLOOKUP(B67,m,3,0),"")
A68: {=(IF($P$3='بيان ع'!D62,ROW('بيان ع'!62:62)-1,yyyyy))} -> #NAME? | B68: =IFERROR(_xlfn.AGGREGATE(15,6,$A$8:$A$1010,ROW(A61)),"") | C68: =IFERROR(VLOOKUP(B68,m,2,0),"") | D68: =IFERROR(VLOOKUP(B68,m,3,0),"")
A69: {=(IF($P$3='بيان ع'!D63,ROW('بيان ع'!63:63)-1,yyyyy))} -> #NAME? | B69: =IFERROR(_xlfn.AGGREGATE(15,6,$A$8:$A$1010,ROW(A62)),"") | C69: =IFERROR(VLOOKUP(B69,m,2,0),"") | D69: =IFERROR(VLOOKUP(B69,m,3,0),"")
A70: {=(IF($P$3='بيان ع'!D64,ROW('بيان ع'!64:64)-1,yyyyy))} -> #NAME? | B70: =IFERROR(_xlfn.AGGREGATE(15,6,$A$8:$A$1010,ROW(A63)),"") | C70: =IFERROR(VLOOKUP(B70,m,2,0),"") | D70: =IFERROR(VLOOKUP(B70,m,3,0),"")
A71: {=(IF($P$3='بيان ع'!D65,ROW('بيان ع'!65:65)-1,yyyyy))} -> #NAME? | B71: =IFERROR(_xlfn.AGGREGATE(15,6,$A$8:$A$1010,ROW(A64)),"") | C71: =IFERROR(VLOOKUP(B71,m,2,0),"") | D71: =IFERROR(VLOOKUP(B71,m,3,0),"")
A72: {=(IF($P$3='بيان ع'!D66,ROW('بيان ع'!66:66)-1,yyyyy))} -> #NAME? | B72: =IFERROR(_xlfn.AGGREGATE(15,6,$A$8:$A$1010,ROW(A65)),"") | C72: =IFERROR(VLOOKUP(B72,m,2,0),"") | D72: =IFERROR(VLOOKUP(B72,m,3,0),"")
A73: {=(IF($P$3='بيان ع'!D67,ROW('بيان ع'!67:67)-1,yyyyy))} -> #NAME? | B73: =IFERROR(_xlfn.AGGREGATE(15,6,$A$8:$A$1010,ROW(A66)),"") | C73: =IFERROR(VLOOKUP(B73,m,2,0),"") | D73: =IFERROR(VLOOKUP(B73,m,3,0),"")
A74: {=(IF($P$3='بيان ع'!D68,ROW('بيان ع'!68:68)-1,yyyyy))} -> #NAME? | B74: =IFERROR(_xlfn.AGGREGATE(15,6,$A$8:$A$1010,ROW(A67)),"") | C74: =IFERROR(VLOOKUP(B74,m,2,0),"") | D74: =IFERROR(VLOOKUP(B74,m,3,0),"")
A75: {=(IF($P$3='بيان ع'!D69,ROW('بيان ع'!69:69)-1,yyyyy))} -> #NAME? | B75: =IFERROR(_xlfn.AGGREGATE(15,6,$A$8:$A$1010,ROW(A68)),"") | C75: =IFERROR(VLOOKUP(B75,m,2,0),"") | D75: =IFERROR(VLOOKUP(B75,m,3,0),"")
A76: {=(IF($P$3='بيان ع'!D70,ROW('بيان ع'!70:70)-1,yyyyy))} -> #NAME? | B76: =IFERROR(_xlfn.AGGREGATE(15,6,$A$8:$A$1010,ROW(A69)),"") | C76: =IFERROR(VLOOKUP(B76,m,2,0),"") | D76: =IFERROR(VLOOKUP(B76,m,3,0),"")
A77: {=(IF($P$3='بيان ع'!D71,ROW('بيان ع'!71:71)-1,yyyyy))} -> #NAME? | B77: =IFERROR(_xlfn.AGGREGATE(15,6,$A$8:$A$1010,ROW(A70)),"") | C77: =IFERROR(VLOOKUP(B77,m,2,0),"") | D77: =IFERROR(VLOOKUP(B77,m,3,0),"")
A78: {=(IF($P$3='بيان ع'!D72,ROW('بيان ع'!72:72)-1,yyyyy))} -> #NAME? | B78: =IFERROR(_xlfn.AGGREGATE(15,6,$A$8:$A$1010,ROW(A71)),"") | C78: معلم المادة | F78: رئيس الكنترول | K78: شيخ المعهد
A79: {=(IF($P$3='بيان ع'!D73,ROW('بيان ع'!73:73)-1,yyyyy))} -> #NAME? | B79: =IFERROR(_xlfn.AGGREGATE(15,6,$A$8:$A$1010,ROW(A72)),"") | C79: ....................................... | F79: ='بيان ع'!K5 -> 0 | K79: ='بيان ع'!K6 -> 0
A80: {=(IF($P$3='بيان ع'!D74,ROW('بيان ع'!74:74)-1,yyyyy))} -> #NAME? | B80: =IFERROR(_xlfn.AGGREGATE(15,6,$A$8:$A$1010,ROW(A73)),"")
A81: {=(IF($P$3='بيان ع'!D75,ROW('بيان ع'!75:75)-1,yyyyy))} -> #NAME? | B81: =IFERROR(_xlfn.AGGREGATE(15,6,$A$8:$A$1010,ROW(A74)),"")
A82: {=(IF($P$3='بيان ع'!D76,ROW('بيان ع'!76:76)-1,yyyyy))} -> #NAME? | B82: =IFERROR(_xlfn.AGGREGATE(15,6,$A$8:$A$1010,ROW(A75)),"")
A83: {=(IF($P$3='بيان ع'!D77,ROW('بيان ع'!77:77)-1,yyyyy))} -> #NAME? | B83: =IFERROR(_xlfn.AGGREGATE(15,6,$A$8:$A$1010,ROW(A76)),"")
A84: {=(IF($P$3='بيان ع'!D78,ROW('بيان ع'!78:78)-1,yyyyy))} -> #NAME? | B84: =IFERROR(_xlfn.AGGREGATE(15,6,$A$8:$A$1010,ROW(A77)),"")
A85: {=(IF($P$3='بيان ع'!D79,ROW('بيان ع'!79:79)-1,yyyyy))} -> #NAME? | B85: =IFERROR(_xlfn.AGGREGATE(15,6,$A$8:$A$1010,ROW(A78)),"")
A86: {=(IF($P$3='بيان ع'!D80,ROW('بيان ع'!80:80)-1,yyyyy))} -> #NAME? | B86: =IFERROR(_xlfn.AGGREGATE(15,6,$A$8:$A$1010,ROW(A79)),"")
A87: {=(IF($P$3='بيان ع'!D81,ROW('بيان ع'!81:81)-1,yyyyy))} -> #NAME? | B87: =IFERROR(_xlfn.AGGREGATE(15,6,$A$8:$A$1010,ROW(A80)),"")
A88: {=(IF($P$3='بيان ع'!D82,ROW('بيان ع'!82:82)-1,yyyyy))} -> #NAME? | B88: =IFERROR(_xlfn.AGGREGATE(15,6,$A$8:$A$1010,ROW(A81)),"")
A89: {=(IF($P$3='بيان ع'!D83,ROW('بيان ع'!83:83)-1,yyyyy))} -> #NAME? | B89: =IFERROR(_xlfn.AGGREGATE(15,6,$A$8:$A$1010,ROW(A82)),"")
A90: {=(IF($P$3='بيان ع'!D84,ROW('بيان ع'!84:84)-1,yyyyy))} -> #NAME? | B90: =IFERROR(_xlfn.AGGREGATE(15,6,$A$8:$A$1010,ROW(A83)),"")
A91: {=(IF($P$3='بيان ع'!D85,ROW('بيان ع'!85:85)-1,yyyyy))} -> #NAME? | B91: =IFERROR(_xlfn.AGGREGATE(15,6,$A$8:$A$1010,ROW(A84)),"")
A92: {=(IF($P$3='بيان ع'!D86,ROW('بيان ع'!86:86)-1,yyyyy))} -> #NAME? | B92: =IFERROR(_xlfn.AGGREGATE(15,6,$A$8:$A$1010,ROW(A85)),"")
A93: {=(IF($P$3='بيان ع'!D87,ROW('بيان ع'!87:87)-1,yyyyy))} -> #NAME? | B93: =IFERROR(_xlfn.AGGREGATE(15,6,$A$8:$A$1010,ROW(A86)),"")
A94: {=(IF($P$3='بيان ع'!D88,ROW('بيان ع'!88:88)-1,yyyyy))} -> #NAME? | B94: =IFERROR(_xlfn.AGGREGATE(15,6,$A$8:$A$1010,ROW(A87)),"")
A95: {=(IF($P$3='بيان ع'!D89,ROW('بيان ع'!89:89)-1,yyyyy))} -> #NAME? | B95: =IFERROR(_xlfn.AGGREGATE(15,6,$A$8:$A$1010,ROW(A88)),"")
A96: {=(IF($P$3='بيان ع'!D90,ROW('بيان ع'!90:90)-1,yyyyy))} -> #NAME? | B96: =IFERROR(_xlfn.AGGREGATE(15,6,$A$8:$A$1010,ROW(A89)),"")
A97: {=(IF($P$3='بيان ع'!D91,ROW('بيان ع'!91:91)-1,yyyyy))} -> #NAME? | B97: =IFERROR(_xlfn.AGGREGATE(15,6,$A$8:$A$1010,ROW(A90)),"")
A98: {=(IF($P$3='بيان ع'!D92,ROW('بيان ع'!92:92)-1,yyyyy))} -> #NAME? | B98: =IFERROR(_xlfn.AGGREGATE(15,6,$A$8:$A$1010,ROW(A91)),"")
A99: {=(IF($P$3='بيان ع'!D93,ROW('بيان ع'!93:93)-1,yyyyy))} -> #NAME? | B99: =IFERROR(_xlfn.AGGREGATE(15,6,$A$8:$A$1010,ROW(A92)),"")
A100: {=(IF($P$3='بيان ع'!D94,ROW('بيان ع'!94:94)-1,yyyyy))} -> #NAME? | B100: =IFERROR(_xlfn.AGGREGATE(15,6,$A$8:$A$1010,ROW(A93)),"")
...

Sheet ق4
C1: الأزهر الشريف | K1: عام: | O1: غ | Q1: غ | R1: 1 | S1: =SUM(Q1:R1)+SUM(O1:P1) -> 1 | T1: =S1/2 -> 0.5 | U1: مستجد | V1: معيد | AG1: فصل
C2: منطقة: | D2: ='بيان ع'!K2 -> 0 | I2: =P3 -> 1/1 | K2: ='بيان ع'!K7 -> 2026م/ 2027م | U2: =COUNTIF($E$8:$E$41,W2) -> 0 | V2: =COUNTIF($E$8:$E$41,W3) -> 0 | W2: مستجد
C3: معهد: | D3: ='بيان ع'!K4 -> 0 | O3: اختر الفصل: | P3: 1/1 | U3: =COUNTIF(#REF!,W2) -> #REF! | V3: =COUNTIF(#REF!,W3) -> #REF! | W3: معيد
C4: جلوس | D4: الاســــم | E4: الاختبارات الشهرية | K4: مجموع الشهرين | L4: الفصل الدراسي
E5: الشهر الأول | H5: الشهر الثاني
E6: شفوي | F6: تحريري | G6: مجموع | H6: شفوي | I6: تحريري | J6: مجموع | K6: 30 | L6: شفوي | M6: تحريري
A7: م | B7: م | E7: 5 | F7: 10 | G7: 15 | H7: 5 | I7: 10 | J7: 15 | L7: 20 | M7: 50
A8: {=(IF($P$3='بيان ع'!D2,ROW('بيان ع'!2:2)-1,yyyyy))} -> 1 | B8: =IFERROR(_xlfn.AGGREGATE(15,6,$A$8:$A$1010,ROW(A1)),"") -> 1 | C8: =IFERROR(VLOOKUP(B8,m,2,0),"") -> 0 | D8: =IFERROR(VLOOKUP(B8,m,3,0),"") -> 0
A9: {=(IF($P$3='بيان ع'!D3,ROW('بيان ع'!3:3)-1,yyyyy))} -> #NAME? | B9: =IFERROR(_xlfn.AGGREGATE(15,6,$A$8:$A$1010,ROW(A2)),"") | C9: =IFERROR(VLOOKUP(B9,m,2,0),"") | D9: =IFERROR(VLOOKUP(B9,m,3,0),"")
A10: {=(IF($P$3='بيان ع'!D4,ROW('بيان ع'!4:4)-1,yyyyy))} -> #NAME? | B10: =IFERROR(_xlfn.AGGREGATE(15,6,$A$8:$A$1010,ROW(A3)),"") | C10: =IFERROR(VLOOKUP(B10,m,2,0),"") | D10: =IFERROR(VLOOKUP(B10,m,3,0),"")
A11: {=(IF($P$3='بيان ع'!D5,ROW('بيان ع'!5:5)-1,yyyyy))} -> #NAME? | B11: =IFERROR(_xlfn.AGGREGATE(15,6,$A$8:$A$1010,ROW(A4)),"") | C11: =IFERROR(VLOOKUP(B11,m,2,0),"") | D11: =IFERROR(VLOOKUP(B11,m,3,0),"")
A12: {=(IF($P$3='بيان ع'!D6,ROW('بيان ع'!6:6)-1,yyyyy))} -> #NAME? | B12: =IFERROR(_xlfn.AGGREGATE(15,6,$A$8:$A$1010,ROW(A5)),"") | C12: =IFERROR(VLOOKUP(B12,m,2,0),"") | D12: =IFERROR(VLOOKUP(B12,m,3,0),"")
A13: {=(IF($P$3='بيان ع'!D7,ROW('بيان ع'!7:7)-1,yyyyy))} -> #NAME? | B13: =IFERROR(_xlfn.AGGREGATE(15,6,$A$8:$A$1010,ROW(A6)),"") | C13: =IFERROR(VLOOKUP(B13,m,2,0),"") | D13: =IFERROR(VLOOKUP(B13,m,3,0),"")
A14: {=(IF($P$3='بيان ع'!D8,ROW('بيان ع'!8:8)-1,yyyyy))} -> #NAME? | B14: =IFERROR(_xlfn.AGGREGATE(15,6,$A$8:$A$1010,ROW(A7)),"") | C14: =IFERROR(VLOOKUP(B14,m,2,0),"") | D14: =IFERROR(VLOOKUP(B14,m,3,0),"")
A15: {=(IF($P$3='بيان ع'!D9,ROW('بيان ع'!9:9)-1,yyyyy))} -> #NAME? | B15: =IFERROR(_xlfn.AGGREGATE(15,6,$A$8:$A$1010,ROW(A8)),"") | C15: =IFERROR(VLOOKUP(B15,m,2,0),"") | D15: =IFERROR(VLOOKUP(B15,m,3,0),"")
A16: {=(IF($P$3='بيان ع'!D10,ROW('بيان ع'!10:10)-1,yyyyy))} -> #NAME? | B16: =IFERROR(_xlfn.AGGREGATE(15,6,$A$8:$A$1010,ROW(A9)),"") | C16: =IFERROR(VLOOKUP(B16,m,2,0),"") | D16: =IFERROR(VLOOKUP(B16,m,3,0),"")
A17: {=(IF($P$3='بيان ع'!D11,ROW('بيان ع'!11:11)-1,yyyyy))} -> #NAME? | B17: =IFERROR(_xlfn.AGGREGATE(15,6,$A$8:$A$1010,ROW(A10)),"") | C17: =IFERROR(VLOOKUP(B17,m,2,0),"") | D17: =IFERROR(VLOOKUP(B17,m,3,0),"")
A18: {=(IF($P$3='بيان ع'!D12,ROW('بيان ع'!12:12)-1,yyyyy))} -> #NAME? | B18: =IFERROR(_xlfn.AGGREGATE(15,6,$A$8:$A$1010,ROW(A11)),"") | C18: =IFERROR(VLOOKUP(B18,m,2,0),"") | D18: =IFERROR(VLOOKUP(B18,m,3,0),"")
A19: {=(IF($P$3='بيان ع'!D13,ROW('بيان ع'!13:13)-1,yyyyy))} -> #NAME? | B19: =IFERROR(_xlfn.AGGREGATE(15,6,$A$8:$A$1010,ROW(A12)),"") | C19: =IFERROR(VLOOKUP(B19,m,2,0),"") | D19: =IFERROR(VLOOKUP(B19,m,3,0),"")
A20: {=(IF($P$3='بيان ع'!D14,ROW('بيان ع'!14:14)-1,yyyyy))} -> #NAME? | B20: =IFERROR(_xlfn.AGGREGATE(15,6,$A$8:$A$1010,ROW(A13)),"") | C20: =IFERROR(VLOOKUP(B20,m,2,0),"") | D20: =IFERROR(VLOOKUP(B20,m,3,0),"")
A21: {=(IF($P$3='بيان ع'!D15,ROW('بيان ع'!15:15)-1,yyyyy))} -> #NAME? | B21: =IFERROR(_xlfn.AGGREGATE(15,6,$A$8:$A$1010,ROW(A14)),"") | C21: =IFERROR(VLOOKUP(B21,m,2,0),"") | D21: =IFERROR(VLOOKUP(B21,m,3,0),"")
A22: {=(IF($P$3='بيان ع'!D16,ROW('بيان ع'!16:16)-1,yyyyy))} -> #NAME? | B22: =IFERROR(_xlfn.AGGREGATE(15,6,$A$8:$A$1010,ROW(A15)),"") | C22: =IFERROR(VLOOKUP(B22,m,2,0),"") | D22: =IFERROR(VLOOKUP(B22,m,3,0),"")
A23: {=(IF($P$3='بيان ع'!D17,ROW('بيان ع'!17:17)-1,yyyyy))} -> #NAME? | B23: =IFERROR(_xlfn.AGGREGATE(15,6,$A$8:$A$1010,ROW(A16)),"") | C23: =IFERROR(VLOOKUP(B23,m,2,0),"") | D23: =IFERROR(VLOOKUP(B23,m,3,0),"")
A24: {=(IF($P$3='بيان ع'!D18,ROW('بيان ع'!18:18)-1,yyyyy))} -> #NAME? | B24: =IFERROR(_xlfn.AGGREGATE(15,6,$A$8:$A$1010,ROW(A17)),"") | C24: =IFERROR(VLOOKUP(B24,m,2,0),"") | D24: =IFERROR(VLOOKUP(B24,m,3,0),"")
A25: {=(IF($P$3='بيان ع'!D19,ROW('بيان ع'!19:19)-1,yyyyy))} -> #NAME? | B25: =IFERROR(_xlfn.AGGREGATE(15,6,$A$8:$A$1010,ROW(A18)),"") | C25: =IFERROR(VLOOKUP(B25,m,2,0),"") | D25: =IFERROR(VLOOKUP(B25,m,3,0),"")
A26: {=(IF($P$3='بيان ع'!D20,ROW('بيان ع'!20:20)-1,yyyyy))} -> #NAME? | B26: =IFERROR(_xlfn.AGGREGATE(15,6,$A$8:$A$1010,ROW(A19)),"") | C26: =IFERROR(VLOOKUP(B26,m,2,0),"") | D26: =IFERROR(VLOOKUP(B26,m,3,0),"")
A27: {=(IF($P$3='بيان ع'!D21,ROW('بيان ع'!21:21)-1,yyyyy))} -> #NAME? | B27: =IFERROR(_xlfn.AGGREGATE(15,6,$A$8:$A$1010,ROW(A20)),"") | C27: =IFERROR(VLOOKUP(B27,m,2,0),"") | D27: =IFERROR(VLOOKUP(B27,m,3,0),"")
A28: {=(IF($P$3='بيان ع'!D22,ROW('بيان ع'!22:22)-1,yyyyy))} -> #NAME? | B28: =IFERROR(_xlfn.AGGREGATE(15,6,$A$8:$A$1010,ROW(A21)),"") | C28: =IFERROR(VLOOKUP(B28,m,2,0),"") | D28: =IFERROR(VLOOKUP(B28,m,3,0),"")
A29: {=(IF($P$3='بيان ع'!D23,ROW('بيان ع'!23:23)-1,yyyyy))} -> #NAME? | B29: =IFERROR(_xlfn.AGGREGATE(15,6,$A$8:$A$1010,ROW(A22)),"") | C29: =IFERROR(VLOOKUP(B29,m,2,0),"") | D29: =IFERROR(VLOOKUP(B29,m,3,0),"")
A30: {=(IF($P$3='بيان ع'!D24,ROW('بيان ع'!24:24)-1,yyyyy))} -> #NAME? | B30: =IFERROR(_xlfn.AGGREGATE(15,6,$A$8:$A$1010,ROW(A23)),"") | C30: =IFERROR(VLOOKUP(B30,m,2,0),"") | D30: =IFERROR(VLOOKUP(B30,m,3,0),"")
A31: {=(IF($P$3='بيان ع'!D25,ROW('بيان ع'!25:25)-1,yyyyy))} -> #NAME? | B31: =IFERROR(_xlfn.AGGREGATE(15,6,$A$8:$A$1010,ROW(A24)),"") | C31: =IFERROR(VLOOKUP(B31,m,2,0),"") | D31: =IFERROR(VLOOKUP(B31,m,3,0),"")
A32: {=(IF($P$3='بيان ع'!D26,ROW('بيان ع'!26:26)-1,yyyyy))} -> #NAME? | B32: =IFERROR(_xlfn.AGGREGATE(15,6,$A$8:$A$1010,ROW(A25)),"") | C32: =IFERROR(VLOOKUP(B32,m,2,0),"") | D32: =IFERROR(VLOOKUP(B32,m,3,0),"")
A33: {=(IF($P$3='بيان ع'!D27,ROW('بيان ع'!27:27)-1,yyyyy))} -> #NAME? | B33: =IFERROR(_xlfn.AGGREGATE(15,6,$A$8:$A$1010,ROW(A26)),"") | C33: =IFERROR(VLOOKUP(B33,m,2,0),"") | D33: =IFERROR(VLOOKUP(B33,m,3,0),"")
A34: {=(IF($P$3='بيان ع'!D28,ROW('بيان ع'!28:28)-1,yyyyy))} -> #NAME? | B34: =IFERROR(_xlfn.AGGREGATE(15,6,$A$8:$A$1010,ROW(A27)),"") | C34: =IFERROR(VLOOKUP(B34,m,2,0),"") | D34: =IFERROR(VLOOKUP(B34,m,3,0),"")
A35: {=(IF($P$3='بيان ع'!D29,ROW('بيان ع'!29:29)-1,yyyyy))} -> #NAME? | B35: =IFERROR(_xlfn.AGGREGATE(15,6,$A$8:$A$1010,ROW(A28)),"") | C35: =IFERROR(VLOOKUP(B35,m,2,0),"") | D35: =IFERROR(VLOOKUP(B35,m,3,0),"")
A36: {=(IF($P$3='بيان ع'!D30,ROW('بيان ع'!30:30)-1,yyyyy))} -> #NAME? | B36: =IFERROR(_xlfn.AGGREGATE(15,6,$A$8:$A$1010,ROW(A29)),"") | C36: =IFERROR(VLOOKUP(B36,m,2,0),"") | D36: =IFERROR(VLOOKUP(B36,m,3,0),"")
A37: {=(IF($P$3='بيان ع'!D31,ROW('بيان ع'!31:31)-1,yyyyy))} -> #NAME? | B37: =IFERROR(_xlfn.AGGREGATE(15,6,$A$8:$A$1010,ROW(A30)),"") | C37: =IFERROR(VLOOKUP(B37,m,2,0),"") | D37: =IFERROR(VLOOKUP(B37,m,3,0),"")
A38: {=(IF($P$3='بيان ع'!D32,ROW('بيان ع'!32:32)-1,yyyyy))} -> #NAME? | B38: =IFERROR(_xlfn.AGGREGATE(15,6,$A$8:$A$1010,ROW(A31)),"") | C38: =IFERROR(VLOOKUP(B38,m,2,0),"") | D38: =IFERROR(VLOOKUP(B38,m,3,0),"")
A39: {=(IF($P$3='بيان ع'!D33,ROW('بيان ع'!33:33)-1,yyyyy))} -> #NAME? | B39: =IFERROR(_xlfn.AGGREGATE(15,6,$A$8:$A$1010,ROW(A32)),"") | C39: =IFERROR(VLOOKUP(B39,m,2,0),"") | D39: =IFERROR(VLOOKUP(B39,m,3,0),"")
A40: {=(IF($P$3='بيان ع'!D34,ROW('بيان ع'!34:34)-1,yyyyy))} -> #NAME? | B40: =IFERROR(_xlfn.AGGREGATE(15,6,$A$8:$A$1010,ROW(A33)),"") | C40: =IFERROR(VLOOKUP(B40,m,2,0),"") | D40: =IFERROR(VLOOKUP(B40,m,3,0),"")
A41: {=(IF($P$3='بيان ع'!D35,ROW('بيان ع'!35:35)-1,yyyyy))} -> #NAME? | B41: =IFERROR(_xlfn.AGGREGATE(15,6,$A$8:$A$1010,ROW(A34)),"") | C41: =IFERROR(VLOOKUP(B41,m,2,0),"") | D41: =IFERROR(VLOOKUP(B41,m,3,0),"")
A42: {=(IF($P$3='بيان ع'!D36,ROW('بيان ع'!36:36)-1,yyyyy))} -> #NAME? | B42: =IFERROR(_xlfn.AGGREGATE(15,6,$A$8:$A$1010,ROW(A35)),"") | C42: =IFERROR(VLOOKUP(B42,m,2,0),"") | D42: =IFERROR(VLOOKUP(B42,m,3,0),"")
A43: {=(IF($P$3='بيان ع'!D37,ROW('بيان ع'!37:37)-1,yyyyy))} -> #NAME? | B43: =IFERROR(_xlfn.AGGREGATE(15,6,$A$8:$A$1010,ROW(A36)),"") | C43: =IFERROR(VLOOKUP(B43,m,2,0),"") | D43: =IFERROR(VLOOKUP(B43,m,3,0),"")
A44: {=(IF($P$3='بيان ع'!D38,ROW('بيان ع'!38:38)-1,yyyyy))} -> #NAME? | B44: =IFERROR(_xlfn.AGGREGATE(15,6,$A$8:$A$1010,ROW(A37)),"") | C44: =IFERROR(VLOOKUP(B44,m,2,0),"") | D44: =IFERROR(VLOOKUP(B44,m,3,0),"")
A45: {=(IF($P$3='بيان ع'!D39,ROW('بيان ع'!39:39)-1,yyyyy))} -> #NAME? | B45: =IFERROR(_xlfn.AGGREGATE(15,6,$A$8:$A$1010,ROW(A38)),"") | C45: =IFERROR(VLOOKUP(B45,m,2,0),"") | D45: =IFERROR(VLOOKUP(B45,m,3,0),"")
A46: {=(IF($P$3='بيان ع'!D40,ROW('بيان ع'!40:40)-1,yyyyy))} -> #NAME? | B46: =IFERROR(_xlfn.AGGREGATE(15,6,$A$8:$A$1010,ROW(A39)),"") | C46: =IFERROR(VLOOKUP(B46,m,2,0),"") | D46: =IFERROR(VLOOKUP(B46,m,3,0),"")
A47: {=(IF($P$3='بيان ع'!D41,ROW('بيان ع'!41:41)-1,yyyyy))} -> #NAME? | B47: =IFERROR(_xlfn.AGGREGATE(15,6,$A$8:$A$1010,ROW(A40)),"") | C47: =IFERROR(VLOOKUP(B47,m,2,0),"") | D47: =IFERROR(VLOOKUP(B47,m,3,0),"")
A48: {=(IF($P$3='بيان ع'!D42,ROW('بيان ع'!42:42)-1,yyyyy))} -> #NAME? | B48: =IFERROR(_xlfn.AGGREGATE(15,6,$A$8:$A$1010,ROW(A41)),"") | C48: =IFERROR(VLOOKUP(B48,m,2,0),"") | D48: =IFERROR(VLOOKUP(B48,m,3,0),"")
A49: {=(IF($P$3='بيان ع'!D43,ROW('بيان ع'!43:43)-1,yyyyy))} -> #NAME? | B49: =IFERROR(_xlfn.AGGREGATE(15,6,$A$8:$A$1010,ROW(A42)),"") | C49: =IFERROR(VLOOKUP(B49,m,2,0),"") | D49: =IFERROR(VLOOKUP(B49,m,3,0),"")
A50: {=(IF($P$3='بيان ع'!D44,ROW('بيان ع'!44:44)-1,yyyyy))} -> #NAME? | B50: =IFERROR(_xlfn.AGGREGATE(15,6,$A$8:$A$1010,ROW(A43)),"") | C50: =IFERROR(VLOOKUP(B50,m,2,0),"") | D50: =IFERROR(VLOOKUP(B50,m,3,0),"")
A51: {=(IF($P$3='بيان ع'!D45,ROW('بيان ع'!45:45)-1,yyyyy))} -> #NAME? | B51: =IFERROR(_xlfn.AGGREGATE(15,6,$A$8:$A$1010,ROW(A44)),"") | C51: =IFERROR(VLOOKUP(B51,m,2,0),"") | D51: =IFERROR(VLOOKUP(B51,m,3,0),"")
A52: {=(IF($P$3='بيان ع'!D46,ROW('بيان ع'!46:46)-1,yyyyy))} -> #NAME? | B52: =IFERROR(_xlfn.AGGREGATE(15,6,$A$8:$A$1010,ROW(A45)),"") | C52: =IFERROR(VLOOKUP(B52,m,2,0),"") | D52: =IFERROR(VLOOKUP(B52,m,3,0),"")
A53: {=(IF($P$3='بيان ع'!D47,ROW('بيان ع'!47:47)-1,yyyyy))} -> #NAME? | B53: =IFERROR(_xlfn.AGGREGATE(15,6,$A$8:$A$1010,ROW(A46)),"") | C53: =IFERROR(VLOOKUP(B53,m,2,0),"") | D53: =IFERROR(VLOOKUP(B53,m,3,0),"")
A54: {=(IF($P$3='بيان ع'!D48,ROW('بيان ع'!48:48)-1,yyyyy))} -> #NAME? | B54: =IFERROR(_xlfn.AGGREGATE(15,6,$A$8:$A$1010,ROW(A47)),"") | C54: =IFERROR(VLOOKUP(B54,m,2,0),"") | D54: =IFERROR(VLOOKUP(B54,m,3,0),"")
A55: {=(IF($P$3='بيان ع'!D49,ROW('بيان ع'!49:49)-1,yyyyy))} -> #NAME? | B55: =IFERROR(_xlfn.AGGREGATE(15,6,$A$8:$A$1010,ROW(A48)),"") | C55: =IFERROR(VLOOKUP(B55,m,2,0),"") | D55: =IFERROR(VLOOKUP(B55,m,3,0),"")
A56: {=(IF($P$3='بيان ع'!D50,ROW('بيان ع'!50:50)-1,yyyyy))} -> #NAME? | B56: =IFERROR(_xlfn.AGGREGATE(15,6,$A$8:$A$1010,ROW(A49)),"") | C56: =IFERROR(VLOOKUP(B56,m,2,0),"") | D56: =IFERROR(VLOOKUP(B56,m,3,0),"")
A57: {=(IF($P$3='بيان ع'!D51,ROW('بيان ع'!51:51)-1,yyyyy))} -> #NAME? | B57: =IFERROR(_xlfn.AGGREGATE(15,6,$A$8:$A$1010,ROW(A50)),"") | C57: =IFERROR(VLOOKUP(B57,m,2,0),"") | D57: =IFERROR(VLOOKUP(B57,m,3,0),"")
A58: {=(IF($P$3='بيان ع'!D52,ROW('بيان ع'!52:52)-1,yyyyy))} -> #NAME? | B58: =IFERROR(_xlfn.AGGREGATE(15,6,$A$8:$A$1010,ROW(A51)),"") | C58: =IFERROR(VLOOKUP(B58,m,2,0),"") | D58: =IFERROR(VLOOKUP(B58,m,3,0),"")
A59: {=(IF($P$3='بيان ع'!D53,ROW('بيان ع'!53:53)-1,yyyyy))} -> #NAME? | B59: =IFERROR(_xlfn.AGGREGATE(15,6,$A$8:$A$1010,ROW(A52)),"") | C59: =IFERROR(VLOOKUP(B59,m,2,0),"") | D59: =IFERROR(VLOOKUP(B59,m,3,0),"")
A60: {=(IF($P$3='بيان ع'!D54,ROW('بيان ع'!54:54)-1,yyyyy))} -> #NAME? | B60: =IFERROR(_xlfn.AGGREGATE(15,6,$A$8:$A$1010,ROW(A53)),"") | C60: =IFERROR(VLOOKUP(B60,m,2,0),"") | D60: =IFERROR(VLOOKUP(B60,m,3,0),"")
A61: {=(IF($P$3='بيان ع'!D55,ROW('بيان ع'!55:55)-1,yyyyy))} -> #NAME? | B61: =IFERROR(_xlfn.AGGREGATE(15,6,$A$8:$A$1010,ROW(A54)),"") | C61: =IFERROR(VLOOKUP(B61,m,2,0),"") | D61: =IFERROR(VLOOKUP(B61,m,3,0),"")
A62: {=(IF($P$3='بيان ع'!D56,ROW('بيان ع'!56:56)-1,yyyyy))} -> #NAME? | B62: =IFERROR(_xlfn.AGGREGATE(15,6,$A$8:$A$1010,ROW(A55)),"") | C62: =IFERROR(VLOOKUP(B62,m,2,0),"") | D62: =IFERROR(VLOOKUP(B62,m,3,0),"")
A63: {=(IF($P$3='بيان ع'!D57,ROW('بيان ع'!57:57)-1,yyyyy))} -> #NAME? | B63: =IFERROR(_xlfn.AGGREGATE(15,6,$A$8:$A$1010,ROW(A56)),"") | C63: =IFERROR(VLOOKUP(B63,m,2,0),"") | D63: =IFERROR(VLOOKUP(B63,m,3,0),"")
A64: {=(IF($P$3='بيان ع'!D58,ROW('بيان ع'!58:58)-1,yyyyy))} -> #NAME? | B64: =IFERROR(_xlfn.AGGREGATE(15,6,$A$8:$A$1010,ROW(A57)),"") | C64: =IFERROR(VLOOKUP(B64,m,2,0),"") | D64: =IFERROR(VLOOKUP(B64,m,3,0),"")
A65: {=(IF($P$3='بيان ع'!D59,ROW('بيان ع'!59:59)-1,yyyyy))} -> #NAME? | B65: =IFERROR(_xlfn.AGGREGATE(15,6,$A$8:$A$1010,ROW(A58)),"") | C65: =IFERROR(VLOOKUP(B65,m,2,0),"") | D65: =IFERROR(VLOOKUP(B65,m,3,0),"")
A66: {=(IF($P$3='بيان ع'!D60,ROW('بيان ع'!60:60)-1,yyyyy))} -> #NAME? | B66: =IFERROR(_xlfn.AGGREGATE(15,6,$A$8:$A$1010,ROW(A59)),"") | C66: =IFERROR(VLOOKUP(B66,m,2,0),"") | D66: =IFERROR(VLOOKUP(B66,m,3,0),"")
A67: {=(IF($P$3='بيان ع'!D61,ROW('بيان ع'!61:61)-1,yyyyy))} -> #NAME? | B67: =IFERROR(_xlfn.AGGREGATE(15,6,$A$8:$A$1010,ROW(A60)),"") | C67: =IFERROR(VLOOKUP(B67,m,2,0),"") | D67: =IFERROR(VLOOKUP(B67,m,3,0),"")
A68: {=(IF($P$3='بيان ع'!D62,ROW('بيان ع'!62:62)-1,yyyyy))} -> #NAME? | B68: =IFERROR(_xlfn.AGGREGATE(15,6,$A$8:$A$1010,ROW(A61)),"") | C68: =IFERROR(VLOOKUP(B68,m,2,0),"") | D68: =IFERROR(VLOOKUP(B68,m,3,0),"")
A69: {=(IF($P$3='بيان ع'!D63,ROW('بيان ع'!63:63)-1,yyyyy))} -> #NAME? | B69: =IFERROR(_xlfn.AGGREGATE(15,6,$A$8:$A$1010,ROW(A62)),"") | C69: =IFERROR(VLOOKUP(B69,m,2,0),"") | D69: =IFERROR(VLOOKUP(B69,m,3,0),"")
A70: {=(IF($P$3='بيان ع'!D64,ROW('بيان ع'!64:64)-1,yyyyy))} -> #NAME? | B70: =IFERROR(_xlfn.AGGREGATE(15,6,$A$8:$A$1010,ROW(A63)),"") | C70: =IFERROR(VLOOKUP(B70,m,2,0),"") | D70: =IFERROR(VLOOKUP(B70,m,3,0),"")
A71: {=(IF($P$3='بيان ع'!D65,ROW('بيان ع'!65:65)-1,yyyyy))} -> #NAME? | B71: =IFERROR(_xlfn.AGGREGATE(15,6,$A$8:$A$1010,ROW(A64)),"") | C71: =IFERROR(VLOOKUP(B71,m,2,0),"") | D71: =IFERROR(VLOOKUP(B71,m,3,0),"")
A72: {=(IF($P$3='بيان ع'!D66,ROW('بيان ع'!66:66)-1,yyyyy))} -> #NAME? | B72: =IFERROR(_xlfn.AGGREGATE(15,6,$A$8:$A$1010,ROW(A65)),"") | C72: =IFERROR(VLOOKUP(B72,m,2,0),"") | D72: =IFERROR(VLOOKUP(B72,m,3,0),"")
A73: {=(IF($P$3='بيان ع'!D67,ROW('بيان ع'!67:67)-1,yyyyy))} -> #NAME? | B73: =IFERROR(_xlfn.AGGREGATE(15,6,$A$8:$A$1010,ROW(A66)),"") | C73: =IFERROR(VLOOKUP(B73,m,2,0),"") | D73: =IFERROR(VLOOKUP(B73,m,3,0),"")
A74: {=(IF($P$3='بيان ع'!D68,ROW('بيان ع'!68:68)-1,yyyyy))} -> #NAME? | B74: =IFERROR(_xlfn.AGGREGATE(15,6,$A$8:$A$1010,ROW(A67)),"") | C74: =IFERROR(VLOOKUP(B74,m,2,0),"") | D74: =IFERROR(VLOOKUP(B74,m,3,0),"")
A75: {=(IF($P$3='بيان ع'!D69,ROW('بيان ع'!69:69)-1,yyyyy))} -> #NAME? | B75: =IFERROR(_xlfn.AGGREGATE(15,6,$A$8:$A$1010,ROW(A68)),"") | C75: =IFERROR(VLOOKUP(B75,m,2,0),"") | D75: =IFERROR(VLOOKUP(B75,m,3,0),"")
A76: {=(IF($P$3='بيان ع'!D70,ROW('بيان ع'!70:70)-1,yyyyy))} -> #NAME? | B76: =IFERROR(_xlfn.AGGREGATE(15,6,$A$8:$A$1010,ROW(A69)),"") | C76: =IFERROR(VLOOKUP(B76,m,2,0),"") | D76: =IFERROR(VLOOKUP(B76,m,3,0),"")
A77: {=(IF($P$3='بيان ع'!D71,ROW('بيان ع'!71:71)-1,yyyyy))} -> #NAME? | B77: =IFERROR(_xlfn.AGGREGATE(15,6,$A$8:$A$1010,ROW(A70)),"") | C77: =IFERROR(VLOOKUP(B77,m,2,0),"") | D77: =IFERROR(VLOOKUP(B77,m,3,0),"")
A78: {=(IF($P$3='بيان ع'!D72,ROW('بيان ع'!72:72)-1,yyyyy))} -> #NAME? | B78: =IFERROR(_xlfn.AGGREGATE(15,6,$A$8:$A$1010,ROW(A71)),"") | C78: معلم المادة | F78: رئيس الكنترول | K78: شيخ المعهد
A79: {=(IF($P$3='بيان ع'!D73,ROW('بيان ع'!73:73)-1,yyyyy))} -> #NAME? | B79: =IFERROR(_xlfn.AGGREGATE(15,6,$A$8:$A$1010,ROW(A72)),"") | C79: ....................................... | F79: ='بيان ع'!K5 -> 0 | K79: ='بيان ع'!K6 -> 0
A80: {=(IF($P$3='بيان ع'!D74,ROW('بيان ع'!74:74)-1,yyyyy))} -> #NAME? | B80: =IFERROR(_xlfn.AGGREGATE(15,6,$A$8:$A$1010,ROW(A73)),"")
A81: {=(IF($P$3='بيان ع'!D75,ROW('بيان ع'!75:75)-1,yyyyy))} -> #NAME? | B81: =IFERROR(_xlfn.AGGREGATE(15,6,$A$8:$A$1010,ROW(A74)),"")
A82: {=(IF($P$3='بيان ع'!D76,ROW('بيان ع'!76:76)-1,yyyyy))} -> #NAME? | B82: =IFERROR(_xlfn.AGGREGATE(15,6,$A$8:$A$1010,ROW(A75)),"")
A83: {=(IF($P$3='بيان ع'!D77,ROW('بيان ع'!77:77)-1,yyyyy))} -> #NAME? | B83: =IFERROR(_xlfn.AGGREGATE(15,6,$A$8:$A$1010,ROW(A76)),"")
A84: {=(IF($P$3='بيان ع'!D78,ROW('بيان ع'!78:78)-1,yyyyy))} -> #NAME? | B84: =IFERROR(_xlfn.AGGREGATE(15,6,$A$8:$A$1010,ROW(A77)),"")
A85: {=(IF($P$3='بيان ع'!D79,ROW('بيان ع'!79:79)-1,yyyyy))} -> #NAME? | B85: =IFERROR(_xlfn.AGGREGATE(15,6,$A$8:$A$1010,ROW(A78)),"")
A86: {=(IF($P$3='بيان ع'!D80,ROW('بيان ع'!80:80)-1,yyyyy))} -> #NAME? | B86: =IFERROR(_xlfn.AGGREGATE(15,6,$A$8:$A$1010,ROW(A79)),"")
A87: {=(IF($P$3='بيان ع'!D81,ROW('بيان ع'!81:81)-1,yyyyy))} -> #NAME? | B87: =IFERROR(_xlfn.AGGREGATE(15,6,$A$8:$A$1010,ROW(A80)),"")
A88: {=(IF($P$3='بيان ع'!D82,ROW('بيان ع'!82:82)-1,yyyyy))} -> #NAME? | B88: =IFERROR(_xlfn.AGGREGATE(15,6,$A$8:$A$1010,ROW(A81)),"")
A89: {=(IF($P$3='بيان ع'!D83,ROW('بيان ع'!83:83)-1,yyyyy))} -> #NAME? | B89: =IFERROR(_xlfn.AGGREGATE(15,6,$A$8:$A$1010,ROW(A82)),"")
A90: {=(IF($P$3='بيان ع'!D84,ROW('بيان ع'!84:84)-1,yyyyy))} -> #NAME? | B90: =IFERROR(_xlfn.AGGREGATE(15,6,$A$8:$A$1010,ROW(A83)),"")
A91: {=(IF($P$3='بيان ع'!D85,ROW('بيان ع'!85:85)-1,yyyyy))} -> #NAME? | B91: =IFERROR(_xlfn.AGGREGATE(15,6,$A$8:$A$1010,ROW(A84)),"")
A92: {=(IF($P$3='بيان ع'!D86,ROW('بيان ع'!86:86)-1,yyyyy))} -> #NAME? | B92: =IFERROR(_xlfn.AGGREGATE(15,6,$A$8:$A$1010,ROW(A85)),"")
A93: {=(IF($P$3='بيان ع'!D87,ROW('بيان ع'!87:87)-1,yyyyy))} -> #NAME? | B93: =IFERROR(_xlfn.AGGREGATE(15,6,$A$8:$A$1010,ROW(A86)),"")
A94: {=(IF($P$3='بيان ع'!D88,ROW('بيان ع'!88:88)-1,yyyyy))} -> #NAME? | B94: =IFERROR(_xlfn.AGGREGATE(15,6,$A$8:$A$1010,ROW(A87)),"")
A95: {=(IF($P$3='بيان ع'!D89,ROW('بيان ع'!89:89)-1,yyyyy))} -> #NAME? | B95: =IFERROR(_xlfn.AGGREGATE(15,6,$A$8:$A$1010,ROW(A88)),"")
A96: {=(IF($P$3='بيان ع'!D90,ROW('بيان ع'!90:90)-1,yyyyy))} -> #NAME? | B96: =IFERROR(_xlfn.AGGREGATE(15,6,$A$8:$A$1010,ROW(A89)),"")
A97: {=(IF($P$3='بيان ع'!D91,ROW('بيان ع'!91:91)-1,yyyyy))} -> #NAME? | B97: =IFERROR(_xlfn.AGGREGATE(15,6,$A$8:$A$1010,ROW(A90)),"")
A98: {=(IF($P$3='بيان ع'!D92,ROW('بيان ع'!92:92)-1,yyyyy))} -> #NAME? | B98: =IFERROR(_xlfn.AGGREGATE(15,6,$A$8:$A$1010,ROW(A91)),"")
A99: {=(IF($P$3='بيان ع'!D93,ROW('بيان ع'!93:93)-1,yyyyy))} -> #NAME? | B99: =IFERROR(_xlfn.AGGREGATE(15,6,$A$8:$A$1010,ROW(A92)),"")
A100: {=(IF($P$3='بيان ع'!D94,ROW('بيان ع'!94:94)-1,yyyyy))} -> #NAME? | B100: =IFERROR(_xlfn.AGGREGATE(15,6,$A$8:$A$1010,ROW(A93)),"")
...

Sheet ق 5
C1: الأزهر الشريف | K1: عام: | O1: غ | Q1: غ | R1: 1 | S1: =SUM(Q1:R1)+SUM(O1:P1) -> 1 | T1: =S1/2 -> 0.5 | U1: مستجد | V1: معيد | AG1: فصل
C2: منطقة: | D2: ='بيان ع'!K2 -> 0 | I2: =P3 -> 1/1 | K2: ='بيان ع'!K7 -> 2026م/ 2027م | U2: =COUNTIF($E$8:$E$41,W2) -> 0 | V2: =COUNTIF($E$8:$E$41,W3) -> 0 | W2: مستجد
C3: معهد: | D3: ='بيان ع'!K4 -> 0 | O3: اختر الفصل: | P3: 1/1 | U3: =COUNTIF(#REF!,W2) -> #REF! | V3: =COUNTIF(#REF!,W3) -> #REF! | W3: معيد
C4: جلوس | D4: الاســــم | E4: الاختبارات الشهرية | K4: مجموع الشهرين | L4: الفصل الدراسي
E5: الشهر الأول | H5: الشهر الثاني
E6: شفوي | F6: تحريري | G6: مجموع | H6: شفوي | I6: تحريري | J6: مجموع | K6: 30 | L6: شفوي | M6: تحريري
A7: م | B7: م | E7: 5 | F7: 10 | G7: 15 | H7: 5 | I7: 10 | J7: 15 | L7: 20 | M7: 50
A8: {=(IF($P$3='بيان ع'!D2,ROW('بيان ع'!2:2)-1,yyyyy))} -> 1 | B8: =IFERROR(_xlfn.AGGREGATE(15,6,$A$8:$A$1010,ROW(A1)),"") -> 1 | C8: =IFERROR(VLOOKUP(B8,m,2,0),"") -> 0 | D8: =IFERROR(VLOOKUP(B8,m,3,0),"") -> 0
A9: {=(IF($P$3='بيان ع'!D3,ROW('بيان ع'!3:3)-1,yyyyy))} -> #NAME? | B9: =IFERROR(_xlfn.AGGREGATE(15,6,$A$8:$A$1010,ROW(A2)),"") | C9: =IFERROR(VLOOKUP(B9,m,2,0),"") | D9: =IFERROR(VLOOKUP(B9,m,3,0),"")
A10: {=(IF($P$3='بيان ع'!D4,ROW('بيان ع'!4:4)-1,yyyyy))} -> #NAME? | B10: =IFERROR(_xlfn.AGGREGATE(15,6,$A$8:$A$1010,ROW(A3)),"") | C10: =IFERROR(VLOOKUP(B10,m,2,0),"") | D10: =IFERROR(VLOOKUP(B10,m,3,0),"")
A11: {=(IF($P$3='بيان ع'!D5,ROW('بيان ع'!5:5)-1,yyyyy))} -> #NAME? | B11: =IFERROR(_xlfn.AGGREGATE(15,6,$A$8:$A$1010,ROW(A4)),"") | C11: =IFERROR(VLOOKUP(B11,m,2,0),"") | D11: =IFERROR(VLOOKUP(B11,m,3,0),"")
A12: {=(IF($P$3='بيان ع'!D6,ROW('بيان ع'!6:6)-1,yyyyy))} -> #NAME? | B12: =IFERROR(_xlfn.AGGREGATE(15,6,$A$8:$A$1010,ROW(A5)),"") | C12: =IFERROR(VLOOKUP(B12,m,2,0),"") | D12: =IFERROR(VLOOKUP(B12,m,3,0),"")
A13: {=(IF($P$3='بيان ع'!D7,ROW('بيان ع'!7:7)-1,yyyyy))} -> #NAME? | B13: =IFERROR(_xlfn.AGGREGATE(15,6,$A$8:$A$1010,ROW(A6)),"") | C13: =IFERROR(VLOOKUP(B13,m,2,0),"") | D13: =IFERROR(VLOOKUP(B13,m,3,0),"")
A14: {=(IF($P$3='بيان ع'!D8,ROW('بيان ع'!8:8)-1,yyyyy))} -> #NAME? | B14: =IFERROR(_xlfn.AGGREGATE(15,6,$A$8:$A$1010,ROW(A7)),"") | C14: =IFERROR(VLOOKUP(B14,m,2,0),"") | D14: =IFERROR(VLOOKUP(B14,m,3,0),"")
A15: {=(IF($P$3='بيان ع'!D9,ROW('بيان ع'!9:9)-1,yyyyy))} -> #NAME? | B15: =IFERROR(_xlfn.AGGREGATE(15,6,$A$8:$A$1010,ROW(A8)),"") | C15: =IFERROR(VLOOKUP(B15,m,2,0),"") | D15: =IFERROR(VLOOKUP(B15,m,3,0),"")
A16: {=(IF($P$3='بيان ع'!D10,ROW('بيان ع'!10:10)-1,yyyyy))} -> #NAME? | B16: =IFERROR(_xlfn.AGGREGATE(15,6,$A$8:$A$1010,ROW(A9)),"") | C16: =IFERROR(VLOOKUP(B16,m,2,0),"") | D16: =IFERROR(VLOOKUP(B16,m,3,0),"")
A17: {=(IF($P$3='بيان ع'!D11,ROW('بيان ع'!11:11)-1,yyyyy))} -> #NAME? | B17: =IFERROR(_xlfn.AGGREGATE(15,6,$A$8:$A$1010,ROW(A10)),"") | C17: =IFERROR(VLOOKUP(B17,m,2,0),"") | D17: =IFERROR(VLOOKUP(B17,m,3,0),"")
A18: {=(IF($P$3='بيان ع'!D12,ROW('بيان ع'!12:12)-1,yyyyy))} -> #NAME? | B18: =IFERROR(_xlfn.AGGREGATE(15,6,$A$8:$A$1010,ROW(A11)),"") | C18: =IFERROR(VLOOKUP(B18,m,2,0),"") | D18: =IFERROR(VLOOKUP(B18,m,3,0),"")
A19: {=(IF($P$3='بيان ع'!D13,ROW('بيان ع'!13:13)-1,yyyyy))} -> #NAME? | B19: =IFERROR(_xlfn.AGGREGATE(15,6,$A$8:$A$1010,ROW(A12)),"") | C19: =IFERROR(VLOOKUP(B19,m,2,0),"") | D19: =IFERROR(VLOOKUP(B19,m,3,0),"")
A20: {=(IF($P$3='بيان ع'!D14,ROW('بيان ع'!14:14)-1,yyyyy))} -> #NAME? | B20: =IFERROR(_xlfn.AGGREGATE(15,6,$A$8:$A$1010,ROW(A13)),"") | C20: =IFERROR(VLOOKUP(B20,m,2,0),"") | D20: =IFERROR(VLOOKUP(B20,m,3,0),"")
A21: {=(IF($P$3='بيان ع'!D15,ROW('بيان ع'!15:15)-1,yyyyy))} -> #NAME? | B21: =IFERROR(_xlfn.AGGREGATE(15,6,$A$8:$A$1010,ROW(A14)),"") | C21: =IFERROR(VLOOKUP(B21,m,2,0),"") | D21: =IFERROR(VLOOKUP(B21,m,3,0),"")
A22: {=(IF($P$3='بيان ع'!D16,ROW('بيان ع'!16:16)-1,yyyyy))} -> #NAME? | B22: =IFERROR(_xlfn.AGGREGATE(15,6,$A$8:$A$1010,ROW(A15)),"") | C22: =IFERROR(VLOOKUP(B22,m,2,0),"") | D22: =IFERROR(VLOOKUP(B22,m,3,0),"")
A23: {=(IF($P$3='بيان ع'!D17,ROW('بيان ع'!17:17)-1,yyyyy))} -> #NAME? | B23: =IFERROR(_xlfn.AGGREGATE(15,6,$A$8:$A$1010,ROW(A16)),"") | C23: =IFERROR(VLOOKUP(B23,m,2,0),"") | D23: =IFERROR(VLOOKUP(B23,m,3,0),"")
A24: {=(IF($P$3='بيان ع'!D18,ROW('بيان ع'!18:18)-1,yyyyy))} -> #NAME? | B24: =IFERROR(_xlfn.AGGREGATE(15,6,$A$8:$A$1010,ROW(A17)),"") | C24: =IFERROR(VLOOKUP(B24,m,2,0),"") | D24: =IFERROR(VLOOKUP(B24,m,3,0),"")
A25: {=(IF($P$3='بيان ع'!D19,ROW('بيان ع'!19:19)-1,yyyyy))} -> #NAME? | B25: =IFERROR(_xlfn.AGGREGATE(15,6,$A$8:$A$1010,ROW(A18)),"") | C25: =IFERROR(VLOOKUP(B25,m,2,0),"") | D25: =IFERROR(VLOOKUP(B25,m,3,0),"")
A26: {=(IF($P$3='بيان ع'!D20,ROW('بيان ع'!20:20)-1,yyyyy))} -> #NAME? | B26: =IFERROR(_xlfn.AGGREGATE(15,6,$A$8:$A$1010,ROW(A19)),"") | C26: =IFERROR(VLOOKUP(B26,m,2,0),"") | D26: =IFERROR(VLOOKUP(B26,m,3,0),"")
A27: {=(IF($P$3='بيان ع'!D21,ROW('بيان ع'!21:21)-1,yyyyy))} -> #NAME? | B27: =IFERROR(_xlfn.AGGREGATE(15,6,$A$8:$A$1010,ROW(A20)),"") | C27: =IFERROR(VLOOKUP(B27,m,2,0),"") | D27: =IFERROR(VLOOKUP(B27,m,3,0),"")
A28: {=(IF($P$3='بيان ع'!D22,ROW('بيان ع'!22:22)-1,yyyyy))} -> #NAME? | B28: =IFERROR(_xlfn.AGGREGATE(15,6,$A$8:$A$1010,ROW(A21)),"") | C28: =IFERROR(VLOOKUP(B28,m,2,0),"") | D28: =IFERROR(VLOOKUP(B28,m,3,0),"")
A29: {=(IF($P$3='بيان ع'!D23,ROW('بيان ع'!23:23)-1,yyyyy))} -> #NAME? | B29: =IFERROR(_xlfn.AGGREGATE(15,6,$A$8:$A$1010,ROW(A22)),"") | C29: =IFERROR(VLOOKUP(B29,m,2,0),"") | D29: =IFERROR(VLOOKUP(B29,m,3,0),"")
A30: {=(IF($P$3='بيان ع'!D24,ROW('بيان ع'!24:24)-1,yyyyy))} -> #NAME? | B30: =IFERROR(_xlfn.AGGREGATE(15,6,$A$8:$A$1010,ROW(A23)),"") | C30: =IFERROR(VLOOKUP(B30,m,2,0),"") | D30: =IFERROR(VLOOKUP(B30,m,3,0),"")
A31: {=(IF($P$3='بيان ع'!D25,ROW('بيان ع'!25:25)-1,yyyyy))} -> #NAME? | B31: =IFERROR(_xlfn.AGGREGATE(15,6,$A$8:$A$1010,ROW(A24)),"") | C31: =IFERROR(VLOOKUP(B31,m,2,0),"") | D31: =IFERROR(VLOOKUP(B31,m,3,0),"")
A32: {=(IF($P$3='بيان ع'!D26,ROW('بيان ع'!26:26)-1,yyyyy))} -> #NAME? | B32: =IFERROR(_xlfn.AGGREGATE(15,6,$A$8:$A$1010,ROW(A25)),"") | C32: =IFERROR(VLOOKUP(B32,m,2,0),"") | D32: =IFERROR(VLOOKUP(B32,m,3,0),"")
A33: {=(IF($P$3='بيان ع'!D27,ROW('بيان ع'!27:27)-1,yyyyy))} -> #NAME? | B33: =IFERROR(_xlfn.AGGREGATE(15,6,$A$8:$A$1010,ROW(A26)),"") | C33: =IFERROR(VLOOKUP(B33,m,2,0),"") | D33: =IFERROR(VLOOKUP(B33,m,3,0),"")
A34: {=(IF($P$3='بيان ع'!D28,ROW('بيان ع'!28:28)-1,yyyyy))} -> #NAME? | B34: =IFERROR(_xlfn.AGGREGATE(15,6,$A$8:$A$1010,ROW(A27)),"") | C34: =IFERROR(VLOOKUP(B34,m,2,0),"") | D34: =IFERROR(VLOOKUP(B34,m,3,0),"")
A35: {=(IF($P$3='بيان ع'!D29,ROW('بيان ع'!29:29)-1,yyyyy))} -> #NAME? | B35: =IFERROR(_xlfn.AGGREGATE(15,6,$A$8:$A$1010,ROW(A28)),"") | C35: =IFERROR(VLOOKUP(B35,m,2,0),"") | D35: =IFERROR(VLOOKUP(B35,m,3,0),"")
A36: {=(IF($P$3='بيان ع'!D30,ROW('بيان ع'!30:30)-1,yyyyy))} -> #NAME? | B36: =IFERROR(_xlfn.AGGREGATE(15,6,$A$8:$A$1010,ROW(A29)),"") | C36: =IFERROR(VLOOKUP(B36,m,2,0),"") | D36: =IFERROR(VLOOKUP(B36,m,3,0),"")
A37: {=(IF($P$3='بيان ع'!D31,ROW('بيان ع'!31:31)-1,yyyyy))} -> #NAME? | B37: =IFERROR(_xlfn.AGGREGATE(15,6,$A$8:$A$1010,ROW(A30)),"") | C37: =IFERROR(VLOOKUP(B37,m,2,0),"") | D37: =IFERROR(VLOOKUP(B37,m,3,0),"")
A38: {=(IF($P$3='بيان ع'!D32,ROW('بيان ع'!32:32)-1,yyyyy))} -> #NAME? | B38: =IFERROR(_xlfn.AGGREGATE(15,6,$A$8:$A$1010,ROW(A31)),"") | C38: =IFERROR(VLOOKUP(B38,m,2,0),"") | D38: =IFERROR(VLOOKUP(B38,m,3,0),"")
A39: {=(IF($P$3='بيان ع'!D33,ROW('بيان ع'!33:33)-1,yyyyy))} -> #NAME? | B39: =IFERROR(_xlfn.AGGREGATE(15,6,$A$8:$A$1010,ROW(A32)),"") | C39: =IFERROR(VLOOKUP(B39,m,2,0),"") | D39: =IFERROR(VLOOKUP(B39,m,3,0),"")
A40: {=(IF($P$3='بيان ع'!D34,ROW('بيان ع'!34:34)-1,yyyyy))} -> #NAME? | B40: =IFERROR(_xlfn.AGGREGATE(15,6,$A$8:$A$1010,ROW(A33)),"") | C40: =IFERROR(VLOOKUP(B40,m,2,0),"") | D40: =IFERROR(VLOOKUP(B40,m,3,0),"")
A41: {=(IF($P$3='بيان ع'!D35,ROW('بيان ع'!35:35)-1,yyyyy))} -> #NAME? | B41: =IFERROR(_xlfn.AGGREGATE(15,6,$A$8:$A$1010,ROW(A34)),"") | C41: =IFERROR(VLOOKUP(B41,m,2,0),"") | D41: =IFERROR(VLOOKUP(B41,m,3,0),"")
A42: {=(IF($P$3='بيان ع'!D36,ROW('بيان ع'!36:36)-1,yyyyy))} -> #NAME? | B42: =IFERROR(_xlfn.AGGREGATE(15,6,$A$8:$A$1010,ROW(A35)),"") | C42: =IFERROR(VLOOKUP(B42,m,2,0),"") | D42: =IFERROR(VLOOKUP(B42,m,3,0),"")
A43: {=(IF($P$3='بيان ع'!D37,ROW('بيان ع'!37:37)-1,yyyyy))} -> #NAME? | B43: =IFERROR(_xlfn.AGGREGATE(15,6,$A$8:$A$1010,ROW(A36)),"") | C43: =IFERROR(VLOOKUP(B43,m,2,0),"") | D43: =IFERROR(VLOOKUP(B43,m,3,0),"")
A44: {=(IF($P$3='بيان ع'!D38,ROW('بيان ع'!38:38)-1,yyyyy))} -> #NAME? | B44: =IFERROR(_xlfn.AGGREGATE(15,6,$A$8:$A$1010,ROW(A37)),"") | C44: =IFERROR(VLOOKUP(B44,m,2,0),"") | D44: =IFERROR(VLOOKUP(B44,m,3,0),"")
A45: {=(IF($P$3='بيان ع'!D39,ROW('بيان ع'!39:39)-1,yyyyy))} -> #NAME? | B45: =IFERROR(_xlfn.AGGREGATE(15,6,$A$8:$A$1010,ROW(A38)),"") | C45: =IFERROR(VLOOKUP(B45,m,2,0),"") | D45: =IFERROR(VLOOKUP(B45,m,3,0),"")
A46: {=(IF($P$3='بيان ع'!D40,ROW('بيان ع'!40:40)-1,yyyyy))} -> #NAME? | B46: =IFERROR(_xlfn.AGGREGATE(15,6,$A$8:$A$1010,ROW(A39)),"") | C46: =IFERROR(VLOOKUP(B46,m,2,0),"") | D46: =IFERROR(VLOOKUP(B46,m,3,0),"")
A47: {=(IF($P$3='بيان ع'!D41,ROW('بيان ع'!41:41)-1,yyyyy))} -> #NAME? | B47: =IFERROR(_xlfn.AGGREGATE(15,6,$A$8:$A$1010,ROW(A40)),"") | C47: =IFERROR(VLOOKUP(B47,m,2,0),"") | D47: =IFERROR(VLOOKUP(B47,m,3,0),"")
A48: {=(IF($P$3='بيان ع'!D42,ROW('بيان ع'!42:42)-1,yyyyy))} -> #NAME? | B48: =IFERROR(_xlfn.AGGREGATE(15,6,$A$8:$A$1010,ROW(A41)),"") | C48: =IFERROR(VLOOKUP(B48,m,2,0),"") | D48: =IFERROR(VLOOKUP(B48,m,3,0),"")
A49: {=(IF($P$3='بيان ع'!D43,ROW('بيان ع'!43:43)-1,yyyyy))} -> #NAME? | B49: =IFERROR(_xlfn.AGGREGATE(15,6,$A$8:$A$1010,ROW(A42)),"") | C49: =IFERROR(VLOOKUP(B49,m,2,0),"") | D49: =IFERROR(VLOOKUP(B49,m,3,0),"")
A50: {=(IF($P$3='بيان ع'!D44,ROW('بيان ع'!44:44)-1,yyyyy))} -> #NAME? | B50: =IFERROR(_xlfn.AGGREGATE(15,6,$A$8:$A$1010,ROW(A43)),"") | C50: =IFERROR(VLOOKUP(B50,m,2,0),"") | D50: =IFERROR(VLOOKUP(B50,m,3,0),"")
A51: {=(IF($P$3='بيان ع'!D45,ROW('بيان ع'!45:45)-1,yyyyy))} -> #NAME? | B51: =IFERROR(_xlfn.AGGREGATE(15,6,$A$8:$A$1010,ROW(A44)),"") | C51: =IFERROR(VLOOKUP(B51,m,2,0),"") | D51: =IFERROR(VLOOKUP(B51,m,3,0),"")
A52: {=(IF($P$3='بيان ع'!D46,ROW('بيان ع'!46:46)-1,yyyyy))} -> #NAME? | B52: =IFERROR(_xlfn.AGGREGATE(15,6,$A$8:$A$1010,ROW(A45)),"") | C52: =IFERROR(VLOOKUP(B52,m,2,0),"") | D52: =IFERROR(VLOOKUP(B52,m,3,0),"")
A53: {=(IF($P$3='بيان ع'!D47,ROW('بيان ع'!47:47)-1,yyyyy))} -> #NAME? | B53: =IFERROR(_xlfn.AGGREGATE(15,6,$A$8:$A$1010,ROW(A46)),"") | C53: =IFERROR(VLOOKUP(B53,m,2,0),"") | D53: =IFERROR(VLOOKUP(B53,m,3,0),"")
A54: {=(IF($P$3='بيان ع'!D48,ROW('بيان ع'!48:48)-1,yyyyy))} -> #NAME? | B54: =IFERROR(_xlfn.AGGREGATE(15,6,$A$8:$A$1010,ROW(A47)),"") | C54: =IFERROR(VLOOKUP(B54,m,2,0),"") | D54: =IFERROR(VLOOKUP(B54,m,3,0),"")
A55: {=(IF($P$3='بيان ع'!D49,ROW('بيان ع'!49:49)-1,yyyyy))} -> #NAME? | B55: =IFERROR(_xlfn.AGGREGATE(15,6,$A$8:$A$1010,ROW(A48)),"") | C55: =IFERROR(VLOOKUP(B55,m,2,0),"") | D55: =IFERROR(VLOOKUP(B55,m,3,0),"")
A56: {=(IF($P$3='بيان ع'!D50,ROW('بيان ع'!50:50)-1,yyyyy))} -> #NAME? | B56: =IFERROR(_xlfn.AGGREGATE(15,6,$A$8:$A$1010,ROW(A49)),"") | C56: =IFERROR(VLOOKUP(B56,m,2,0),"") | D56: =IFERROR(VLOOKUP(B56,m,3,0),"")
A57: {=(IF($P$3='بيان ع'!D51,ROW('بيان ع'!51:51)-1,yyyyy))} -> #NAME? | B57: =IFERROR(_xlfn.AGGREGATE(15,6,$A$8:$A$1010,ROW(A50)),"") | C57: =IFERROR(VLOOKUP(B57,m,2,0),"") | D57: =IFERROR(VLOOKUP(B57,m,3,0),"")
A58: {=(IF($P$3='بيان ع'!D52,ROW('بيان ع'!52:52)-1,yyyyy))} -> #NAME? | B58: =IFERROR(_xlfn.AGGREGATE(15,6,$A$8:$A$1010,ROW(A51)),"") | C58: =IFERROR(VLOOKUP(B58,m,2,0),"") | D58: =IFERROR(VLOOKUP(B58,m,3,0),"")
A59: {=(IF($P$3='بيان ع'!D53,ROW('بيان ع'!53:53)-1,yyyyy))} -> #NAME? | B59: =IFERROR(_xlfn.AGGREGATE(15,6,$A$8:$A$1010,ROW(A52)),"") | C59: =IFERROR(VLOOKUP(B59,m,2,0),"") | D59: =IFERROR(VLOOKUP(B59,m,3,0),"")
A60: {=(IF($P$3='بيان ع'!D54,ROW('بيان ع'!54:54)-1,yyyyy))} -> #NAME? | B60: =IFERROR(_xlfn.AGGREGATE(15,6,$A$8:$A$1010,ROW(A53)),"") | C60: =IFERROR(VLOOKUP(B60,m,2,0),"") | D60: =IFERROR(VLOOKUP(B60,m,3,0),"")
A61: {=(IF($P$3='بيان ع'!D55,ROW('بيان ع'!55:55)-1,yyyyy))} -> #NAME? | B61: =IFERROR(_xlfn.AGGREGATE(15,6,$A$8:$A$1010,ROW(A54)),"") | C61: =IFERROR(VLOOKUP(B61,m,2,0),"") | D61: =IFERROR(VLOOKUP(B61,m,3,0),"")
A62: {=(IF($P$3='بيان ع'!D56,ROW('بيان ع'!56:56)-1,yyyyy))} -> #NAME? | B62: =IFERROR(_xlfn.AGGREGATE(15,6,$A$8:$A$1010,ROW(A55)),"") | C62: =IFERROR(VLOOKUP(B62,m,2,0),"") | D62: =IFERROR(VLOOKUP(B62,m,3,0),"")
A63: {=(IF($P$3='بيان ع'!D57,ROW('بيان ع'!57:57)-1,yyyyy))} -> #NAME? | B63: =IFERROR(_xlfn.AGGREGATE(15,6,$A$8:$A$1010,ROW(A56)),"") | C63: =IFERROR(VLOOKUP(B63,m,2,0),"") | D63: =IFERROR(VLOOKUP(B63,m,3,0),"")
A64: {=(IF($P$3='بيان ع'!D58,ROW('بيان ع'!58:58)-1,yyyyy))} -> #NAME? | B64: =IFERROR(_xlfn.AGGREGATE(15,6,$A$8:$A$1010,ROW(A57)),"") | C64: =IFERROR(VLOOKUP(B64,m,2,0),"") | D64: =IFERROR(VLOOKUP(B64,m,3,0),"")
A65: {=(IF($P$3='بيان ع'!D59,ROW('بيان ع'!59:59)-1,yyyyy))} -> #NAME? | B65: =IFERROR(_xlfn.AGGREGATE(15,6,$A$8:$A$1010,ROW(A58)),"") | C65: =IFERROR(VLOOKUP(B65,m,2,0),"") | D65: =IFERROR(VLOOKUP(B65,m,3,0),"")
A66: {=(IF($P$3='بيان ع'!D60,ROW('بيان ع'!60:60)-1,yyyyy))} -> #NAME? | B66: =IFERROR(_xlfn.AGGREGATE(15,6,$A$8:$A$1010,ROW(A59)),"") | C66: =IFERROR(VLOOKUP(B66,m,2,0),"") | D66: =IFERROR(VLOOKUP(B66,m,3,0),"")
A67: {=(IF($P$3='بيان ع'!D61,ROW('بيان ع'!61:61)-1,yyyyy))} -> #NAME? | B67: =IFERROR(_xlfn.AGGREGATE(15,6,$A$8:$A$1010,ROW(A60)),"") | C67: =IFERROR(VLOOKUP(B67,m,2,0),"") | D67: =IFERROR(VLOOKUP(B67,m,3,0),"")
A68: {=(IF($P$3='بيان ع'!D62,ROW('بيان ع'!62:62)-1,yyyyy))} -> #NAME? | B68: =IFERROR(_xlfn.AGGREGATE(15,6,$A$8:$A$1010,ROW(A61)),"") | C68: =IFERROR(VLOOKUP(B68,m,2,0),"") | D68: =IFERROR(VLOOKUP(B68,m,3,0),"")
A69: {=(IF($P$3='بيان ع'!D63,ROW('بيان ع'!63:63)-1,yyyyy))} -> #NAME? | B69: =IFERROR(_xlfn.AGGREGATE(15,6,$A$8:$A$1010,ROW(A62)),"") | C69: =IFERROR(VLOOKUP(B69,m,2,0),"") | D69: =IFERROR(VLOOKUP(B69,m,3,0),"")
A70: {=(IF($P$3='بيان ع'!D64,ROW('بيان ع'!64:64)-1,yyyyy))} -> #NAME? | B70: =IFERROR(_xlfn.AGGREGATE(15,6,$A$8:$A$1010,ROW(A63)),"") | C70: =IFERROR(VLOOKUP(B70,m,2,0),"") | D70: =IFERROR(VLOOKUP(B70,m,3,0),"")
A71: {=(IF($P$3='بيان ع'!D65,ROW('بيان ع'!65:65)-1,yyyyy))} -> #NAME? | B71: =IFERROR(_xlfn.AGGREGATE(15,6,$A$8:$A$1010,ROW(A64)),"") | C71: =IFERROR(VLOOKUP(B71,m,2,0),"") | D71: =IFERROR(VLOOKUP(B71,m,3,0),"")
A72: {=(IF($P$3='بيان ع'!D66,ROW('بيان ع'!66:66)-1,yyyyy))} -> #NAME? | B72: =IFERROR(_xlfn.AGGREGATE(15,6,$A$8:$A$1010,ROW(A65)),"") | C72: =IFERROR(VLOOKUP(B72,m,2,0),"") | D72: =IFERROR(VLOOKUP(B72,m,3,0),"")
A73: {=(IF($P$3='بيان ع'!D67,ROW('بيان ع'!67:67)-1,yyyyy))} -> #NAME? | B73: =IFERROR(_xlfn.AGGREGATE(15,6,$A$8:$A$1010,ROW(A66)),"") | C73: =IFERROR(VLOOKUP(B73,m,2,0),"") | D73: =IFERROR(VLOOKUP(B73,m,3,0),"")
A74: {=(IF($P$3='بيان ع'!D68,ROW('بيان ع'!68:68)-1,yyyyy))} -> #NAME? | B74: =IFERROR(_xlfn.AGGREGATE(15,6,$A$8:$A$1010,ROW(A67)),"") | C74: =IFERROR(VLOOKUP(B74,m,2,0),"") | D74: =IFERROR(VLOOKUP(B74,m,3,0),"")
A75: {=(IF($P$3='بيان ع'!D69,ROW('بيان ع'!69:69)-1,yyyyy))} -> #NAME? | B75: =IFERROR(_xlfn.AGGREGATE(15,6,$A$8:$A$1010,ROW(A68)),"") | C75: =IFERROR(VLOOKUP(B75,m,2,0),"") | D75: =IFERROR(VLOOKUP(B75,m,3,0),"")
A76: {=(IF($P$3='بيان ع'!D70,ROW('بيان ع'!70:70)-1,yyyyy))} -> #NAME? | B76: =IFERROR(_xlfn.AGGREGATE(15,6,$A$8:$A$1010,ROW(A69)),"") | C76: =IFERROR(VLOOKUP(B76,m,2,0),"") | D76: =IFERROR(VLOOKUP(B76,m,3,0),"")
A77: {=(IF($P$3='بيان ع'!D71,ROW('بيان ع'!71:71)-1,yyyyy))} -> #NAME? | B77: =IFERROR(_xlfn.AGGREGATE(15,6,$A$8:$A$1010,ROW(A70)),"") | C77: =IFERROR(VLOOKUP(B77,m,2,0),"") | D77: =IFERROR(VLOOKUP(B77,m,3,0),"")
A78: {=(IF($P$3='بيان ع'!D72,ROW('بيان ع'!72:72)-1,yyyyy))} -> #NAME? | B78: =IFERROR(_xlfn.AGGREGATE(15,6,$A$8:$A$1010,ROW(A71)),"") | C78: معلم المادة | F78: رئيس الكنترول | K78: شيخ المعهد
A79: {=(IF($P$3='بيان ع'!D73,ROW('بيان ع'!73:73)-1,yyyyy))} -> #NAME? | B79: =IFERROR(_xlfn.AGGREGATE(15,6,$A$8:$A$1010,ROW(A72)),"") | C79: ....................................... | F79: ='بيان ع'!K5 -> 0 | K79: ='بيان ع'!K6 -> 0
A80: {=(IF($P$3='بيان ع'!D74,ROW('بيان ع'!74:74)-1,yyyyy))} -> #NAME? | B80: =IFERROR(_xlfn.AGGREGATE(15,6,$A$8:$A$1010,ROW(A73)),"")
A81: {=(IF($P$3='بيان ع'!D75,ROW('بيان ع'!75:75)-1,yyyyy))} -> #NAME? | B81: =IFERROR(_xlfn.AGGREGATE(15,6,$A$8:$A$1010,ROW(A74)),"")
A82: {=(IF($P$3='بيان ع'!D76,ROW('بيان ع'!76:76)-1,yyyyy))} -> #NAME? | B82: =IFERROR(_xlfn.AGGREGATE(15,6,$A$8:$A$1010,ROW(A75)),"")
A83: {=(IF($P$3='بيان ع'!D77,ROW('بيان ع'!77:77)-1,yyyyy))} -> #NAME? | B83: =IFERROR(_xlfn.AGGREGATE(15,6,$A$8:$A$1010,ROW(A76)),"")
A84: {=(IF($P$3='بيان ع'!D78,ROW('بيان ع'!78:78)-1,yyyyy))} -> #NAME? | B84: =IFERROR(_xlfn.AGGREGATE(15,6,$A$8:$A$1010,ROW(A77)),"")
A85: {=(IF($P$3='بيان ع'!D79,ROW('بيان ع'!79:79)-1,yyyyy))} -> #NAME? | B85: =IFERROR(_xlfn.AGGREGATE(15,6,$A$8:$A$1010,ROW(A78)),"")
A86: {=(IF($P$3='بيان ع'!D80,ROW('بيان ع'!80:80)-1,yyyyy))} -> #NAME? | B86: =IFERROR(_xlfn.AGGREGATE(15,6,$A$8:$A$1010,ROW(A79)),"")
A87: {=(IF($P$3='بيان ع'!D81,ROW('بيان ع'!81:81)-1,yyyyy))} -> #NAME? | B87: =IFERROR(_xlfn.AGGREGATE(15,6,$A$8:$A$1010,ROW(A80)),"")
A88: {=(IF($P$3='بيان ع'!D82,ROW('بيان ع'!82:82)-1,yyyyy))} -> #NAME? | B88: =IFERROR(_xlfn.AGGREGATE(15,6,$A$8:$A$1010,ROW(A81)),"")
A89: {=(IF($P$3='بيان ع'!D83,ROW('بيان ع'!83:83)-1,yyyyy))} -> #NAME? | B89: =IFERROR(_xlfn.AGGREGATE(15,6,$A$8:$A$1010,ROW(A82)),"")
A90: {=(IF($P$3='بيان ع'!D84,ROW('بيان ع'!84:84)-1,yyyyy))} -> #NAME? | B90: =IFERROR(_xlfn.AGGREGATE(15,6,$A$8:$A$1010,ROW(A83)),"")
A91: {=(IF($P$3='بيان ع'!D85,ROW('بيان ع'!85:85)-1,yyyyy))} -> #NAME? | B91: =IFERROR(_xlfn.AGGREGATE(15,6,$A$8:$A$1010,ROW(A84)),"")
A92: {=(IF($P$3='بيان ع'!D86,ROW('بيان ع'!86:86)-1,yyyyy))} -> #NAME? | B92: =IFERROR(_xlfn.AGGREGATE(15,6,$A$8:$A$1010,ROW(A85)),"")
A93: {=(IF($P$3='بيان ع'!D87,ROW('بيان ع'!87:87)-1,yyyyy))} -> #NAME? | B93: =IFERROR(_xlfn.AGGREGATE(15,6,$A$8:$A$1010,ROW(A86)),"")
A94: {=(IF($P$3='بيان ع'!D88,ROW('بيان ع'!88:88)-1,yyyyy))} -> #NAME? | B94: =IFERROR(_xlfn.AGGREGATE(15,6,$A$8:$A$1010,ROW(A87)),"")
A95: {=(IF($P$3='بيان ع'!D89,ROW('بيان ع'!89:89)-1,yyyyy))} -> #NAME? | B95: =IFERROR(_xlfn.AGGREGATE(15,6,$A$8:$A$1010,ROW(A88)),"")
A96: {=(IF($P$3='بيان ع'!D90,ROW('بيان ع'!90:90)-1,yyyyy))} -> #NAME? | B96: =IFERROR(_xlfn.AGGREGATE(15,6,$A$8:$A$1010,ROW(A89)),"")
A97: {=(IF($P$3='بيان ع'!D91,ROW('بيان ع'!91:91)-1,yyyyy))} -> #NAME? | B97: =IFERROR(_xlfn.AGGREGATE(15,6,$A$8:$A$1010,ROW(A90)),"")
A98: {=(IF($P$3='بيان ع'!D92,ROW('بيان ع'!92:92)-1,yyyyy))} -> #NAME? | B98: =IFERROR(_xlfn.AGGREGATE(15,6,$A$8:$A$1010,ROW(A91)),"")
A99: {=(IF($P$3='بيان ع'!D93,ROW('بيان ع'!93:93)-1,yyyyy))} -> #NAME? | B99: =IFERROR(_xlfn.AGGREGATE(15,6,$A$8:$A$1010,ROW(A92)),"")
A100: {=(IF($P$3='بيان ع'!D94,ROW('بيان ع'!94:94)-1,yyyyy))} -> #NAME? | B100: =IFERROR(_xlfn.AGGREGATE(15,6,$A$8:$A$1010,ROW(A93)),"")
...

Sheet ق 6
C1: الأزهر الشريف | K1: عام: | O1: غ | Q1: غ | R1: 1 | S1: =SUM(Q1:R1)+SUM(O1:P1) -> 1 | T1: =S1/2 -> 0.5 | U1: مستجد | V1: معيد | AG1: فصل
C2: منطقة: | D2: ='بيان ع'!K2 -> 0 | I2: =P3 -> 1/1 | K2: ='بيان ع'!K7 -> 2026م/ 2027م | U2: =COUNTIF($E$8:$E$41,W2) -> 0 | V2: =COUNTIF($E$8:$E$41,W3) -> 0 | W2: مستجد
C3: معهد: | D3: ='بيان ع'!K4 -> 0 | O3: اختر الفصل: | P3: 1/1 | U3: =COUNTIF(#REF!,W2) -> #REF! | V3: =COUNTIF(#REF!,W3) -> #REF! | W3: معيد
C4: جلوس | D4: الاســــم | E4: الاختبارات الشهرية | K4: مجموع الشهرين | L4: الفصل الدراسي
E5: الشهر الأول | H5: الشهر الثاني
E6: شفوي | F6: تحريري | G6: مجموع | H6: شفوي | I6: تحريري | J6: مجموع | K6: 30 | L6: شفوي | M6: تحريري
A7: م | B7: م | E7: 5 | F7: 10 | G7: 15 | H7: 5 | I7: 10 | J7: 15 | L7: 20 | M7: 50
A8: {=(IF($P$3='بيان ع'!D2,ROW('بيان ع'!2:2)-1,yyyyy))} -> 1 | B8: =IFERROR(_xlfn.AGGREGATE(15,6,$A$8:$A$1010,ROW(A1)),"") -> 1 | C8: =IFERROR(VLOOKUP(B8,m,2,0),"") -> 0 | D8: =IFERROR(VLOOKUP(B8,m,3,0),"") -> 0
A9: {=(IF($P$3='بيان ع'!D3,ROW('بيان ع'!3:3)-1,yyyyy))} -> #NAME? | B9: =IFERROR(_xlfn.AGGREGATE(15,6,$A$8:$A$1010,ROW(A2)),"") | C9: =IFERROR(VLOOKUP(B9,m,2,0),"") | D9: =IFERROR(VLOOKUP(B9,m,3,0),"")
A10: {=(IF($P$3='بيان ع'!D4,ROW('بيان ع'!4:4)-1,yyyyy))} -> #NAME? | B10: =IFERROR(_xlfn.AGGREGATE(15,6,$A$8:$A$1010,ROW(A3)),"") | C10: =IFERROR(VLOOKUP(B10,m,2,0),"") | D10: =IFERROR(VLOOKUP(B10,m,3,0),"")
A11: {=(IF($P$3='بيان ع'!D5,ROW('بيان ع'!5:5)-1,yyyyy))} -> #NAME? | B11: =IFERROR(_xlfn.AGGREGATE(15,6,$A$8:$A$1010,ROW(A4)),"") | C11: =IFERROR(VLOOKUP(B11,m,2,0),"") | D11: =IFERROR(VLOOKUP(B11,m,3,0),"")
A12: {=(IF($P$3='بيان ع'!D6,ROW('بيان ع'!6:6)-1,yyyyy))} -> #NAME? | B12: =IFERROR(_xlfn.AGGREGATE(15,6,$A$8:$A$1010,ROW(A5)),"") | C12: =IFERROR(VLOOKUP(B12,m,2,0),"") | D12: =IFERROR(VLOOKUP(B12,m,3,0),"")
A13: {=(IF($P$3='بيان ع'!D7,ROW('بيان ع'!7:7)-1,yyyyy))} -> #NAME? | B13: =IFERROR(_xlfn.AGGREGATE(15,6,$A$8:$A$1010,ROW(A6)),"") | C13: =IFERROR(VLOOKUP(B13,m,2,0),"") | D13: =IFERROR(VLOOKUP(B13,m,3,0),"")
A14: {=(IF($P$3='بيان ع'!D8,ROW('بيان ع'!8:8)-1,yyyyy))} -> #NAME? | B14: =IFERROR(_xlfn.AGGREGATE(15,6,$A$8:$A$1010,ROW(A7)),"") | C14: =IFERROR(VLOOKUP(B14,m,2,0),"") | D14: =IFERROR(VLOOKUP(B14,m,3,0),"")
A15: {=(IF($P$3='بيان ع'!D9,ROW('بيان ع'!9:9)-1,yyyyy))} -> #NAME? | B15: =IFERROR(_xlfn.AGGREGATE(15,6,$A$8:$A$1010,ROW(A8)),"") | C15: =IFERROR(VLOOKUP(B15,m,2,0),"") | D15: =IFERROR(VLOOKUP(B15,m,3,0),"")
A16: {=(IF($P$3='بيان ع'!D10,ROW('بيان ع'!10:10)-1,yyyyy))} -> #NAME? | B16: =IFERROR(_xlfn.AGGREGATE(15,6,$A$8:$A$1010,ROW(A9)),"") | C16: =IFERROR(VLOOKUP(B16,m,2,0),"") | D16: =IFERROR(VLOOKUP(B16,m,3,0),"")
A17: {=(IF($P$3='بيان ع'!D11,ROW('بيان ع'!11:11)-1,yyyyy))} -> #NAME? | B17: =IFERROR(_xlfn.AGGREGATE(15,6,$A$8:$A$1010,ROW(A10)),"") | C17: =IFERROR(VLOOKUP(B17,m,2,0),"") | D17: =IFERROR(VLOOKUP(B17,m,3,0),"")
A18: {=(IF($P$3='بيان ع'!D12,ROW('بيان ع'!12:12)-1,yyyyy))} -> #NAME? | B18: =IFERROR(_xlfn.AGGREGATE(15,6,$A$8:$A$1010,ROW(A11)),"") | C18: =IFERROR(VLOOKUP(B18,m,2,0),"") | D18: =IFERROR(VLOOKUP(B18,m,3,0),"")
A19: {=(IF($P$3='بيان ع'!D13,ROW('بيان ع'!13:13)-1,yyyyy))} -> #NAME? | B19: =IFERROR(_xlfn.AGGREGATE(15,6,$A$8:$A$1010,ROW(A12)),"") | C19: =IFERROR(VLOOKUP(B19,m,2,0),"") | D19: =IFERROR(VLOOKUP(B19,m,3,0),"")
A20: {=(IF($P$3='بيان ع'!D14,ROW('بيان ع'!14:14)-1,yyyyy))} -> #NAME? | B20: =IFERROR(_xlfn.AGGREGATE(15,6,$A$8:$A$1010,ROW(A13)),"") | C20: =IFERROR(VLOOKUP(B20,m,2,0),"") | D20: =IFERROR(VLOOKUP(B20,m,3,0),"")
A21: {=(IF($P$3='بيان ع'!D15,ROW('بيان ع'!15:15)-1,yyyyy))} -> #NAME? | B21: =IFERROR(_xlfn.AGGREGATE(15,6,$A$8:$A$1010,ROW(A14)),"") | C21: =IFERROR(VLOOKUP(B21,m,2,0),"") | D21: =IFERROR(VLOOKUP(B21,m,3,0),"")
A22: {=(IF($P$3='بيان ع'!D16,ROW('بيان ع'!16:16)-1,yyyyy))} -> #NAME? | B22: =IFERROR(_xlfn.AGGREGATE(15,6,$A$8:$A$1010,ROW(A15)),"") | C22: =IFERROR(VLOOKUP(B22,m,2,0),"") | D22: =IFERROR(VLOOKUP(B22,m,3,0),"")
A23: {=(IF($P$3='بيان ع'!D17,ROW('بيان ع'!17:17)-1,yyyyy))} -> #NAME? | B23: =IFERROR(_xlfn.AGGREGATE(15,6,$A$8:$A$1010,ROW(A16)),"") | C23: =IFERROR(VLOOKUP(B23,m,2,0),"") | D23: =IFERROR(VLOOKUP(B23,m,3,0),"")
A24: {=(IF($P$3='بيان ع'!D18,ROW('بيان ع'!18:18)-1,yyyyy))} -> #NAME? | B24: =IFERROR(_xlfn.AGGREGATE(15,6,$A$8:$A$1010,ROW(A17)),"") | C24: =IFERROR(VLOOKUP(B24,m,2,0),"") | D24: =IFERROR(VLOOKUP(B24,m,3,0),"")
A25: {=(IF($P$3='بيان ع'!D19,ROW('بيان ع'!19:19)-1,yyyyy))} -> #NAME? | B25: =IFERROR(_xlfn.AGGREGATE(15,6,$A$8:$A$1010,ROW(A18)),"") | C25: =IFERROR(VLOOKUP(B25,m,2,0),"") | D25: =IFERROR(VLOOKUP(B25,m,3,0),"")
A26: {=(IF($P$3='بيان ع'!D20,ROW('بيان ع'!20:20)-1,yyyyy))} -> #NAME? | B26: =IFERROR(_xlfn.AGGREGATE(15,6,$A$8:$A$1010,ROW(A19)),"") | C26: =IFERROR(VLOOKUP(B26,m,2,0),"") | D26: =IFERROR(VLOOKUP(B26,m,3,0),"")
A27: {=(IF($P$3='بيان ع'!D21,ROW('بيان ع'!21:21)-1,yyyyy))} -> #NAME? | B27: =IFERROR(_xlfn.AGGREGATE(15,6,$A$8:$A$1010,ROW(A20)),"") | C27: =IFERROR(VLOOKUP(B27,m,2,0),"") | D27: =IFERROR(VLOOKUP(B27,m,3,0),"")
A28: {=(IF($P$3='بيان ع'!D22,ROW('بيان ع'!22:22)-1,yyyyy))} -> #NAME? | B28: =IFERROR(_xlfn.AGGREGATE(15,6,$A$8:$A$1010,ROW(A21)),"") | C28: =IFERROR(VLOOKUP(B28,m,2,0),"") | D28: =IFERROR(VLOOKUP(B28,m,3,0),"")
A29: {=(IF($P$3='بيان ع'!D23,ROW('بيان ع'!23:23)-1,yyyyy))} -> #NAME? | B29: =IFERROR(_xlfn.AGGREGATE(15,6,$A$8:$A$1010,ROW(A22)),"") | C29: =IFERROR(VLOOKUP(B29,m,2,0),"") | D29: =IFERROR(VLOOKUP(B29,m,3,0),"")
A30: {=(IF($P$3='بيان ع'!D24,ROW('بيان ع'!24:24)-1,yyyyy))} -> #NAME? | B30: =IFERROR(_xlfn.AGGREGATE(15,6,$A$8:$A$1010,ROW(A23)),"") | C30: =IFERROR(VLOOKUP(B30,m,2,0),"") | D30: =IFERROR(VLOOKUP(B30,m,3,0),"")
A31: {=(IF($P$3='بيان ع'!D25,ROW('بيان ع'!25:25)-1,yyyyy))} -> #NAME? | B31: =IFERROR(_xlfn.AGGREGATE(15,6,$A$8:$A$1010,ROW(A24)),"") | C31: =IFERROR(VLOOKUP(B31,m,2,0),"") | D31: =IFERROR(VLOOKUP(B31,m,3,0),"")
A32: {=(IF($P$3='بيان ع'!D26,ROW('بيان ع'!26:26)-1,yyyyy))} -> #NAME? | B32: =IFERROR(_xlfn.AGGREGATE(15,6,$A$8:$A$1010,ROW(A25)),"") | C32: =IFERROR(VLOOKUP(B32,m,2,0),"") | D32: =IFERROR(VLOOKUP(B32,m,3,0),"")
A33: {=(IF($P$3='بيان ع'!D27,ROW('بيان ع'!27:27)-1,yyyyy))} -> #NAME? | B33: =IFERROR(_xlfn.AGGREGATE(15,6,$A$8:$A$1010,ROW(A26)),"") | C33: =IFERROR(VLOOKUP(B33,m,2,0),"") | D33: =IFERROR(VLOOKUP(B33,m,3,0),"")
A34: {=(IF($P$3='بيان ع'!D28,ROW('بيان ع'!28:28)-1,yyyyy))} -> #NAME? | B34: =IFERROR(_xlfn.AGGREGATE(15,6,$A$8:$A$1010,ROW(A27)),"") | C34: =IFERROR(VLOOKUP(B34,m,2,0),"") | D34: =IFERROR(VLOOKUP(B34,m,3,0),"")
A35: {=(IF($P$3='بيان ع'!D29,ROW('بيان ع'!29:29)-1,yyyyy))} -> #NAME? | B35: =IFERROR(_xlfn.AGGREGATE(15,6,$A$8:$A$1010,ROW(A28)),"") | C35: =IFERROR(VLOOKUP(B35,m,2,0),"") | D35: =IFERROR(VLOOKUP(B35,m,3,0),"")
A36: {=(IF($P$3='بيان ع'!D30,ROW('بيان ع'!30:30)-1,yyyyy))} -> #NAME? | B36: =IFERROR(_xlfn.AGGREGATE(15,6,$A$8:$A$1010,ROW(A29)),"") | C36: =IFERROR(VLOOKUP(B36,m,2,0),"") | D36: =IFERROR(VLOOKUP(B36,m,3,0),"")
A37: {=(IF($P$3='بيان ع'!D31,ROW('بيان ع'!31:31)-1,yyyyy))} -> #NAME? | B37: =IFERROR(_xlfn.AGGREGATE(15,6,$A$8:$A$1010,ROW(A30)),"") | C37: =IFERROR(VLOOKUP(B37,m,2,0),"") | D37: =IFERROR(VLOOKUP(B37,m,3,0),"")
A38: {=(IF($P$3='بيان ع'!D32,ROW('بيان ع'!32:32)-1,yyyyy))} -> #NAME? | B38: =IFERROR(_xlfn.AGGREGATE(15,6,$A$8:$A$1010,ROW(A31)),"") | C38: =IFERROR(VLOOKUP(B38,m,2,0),"") | D38: =IFERROR(VLOOKUP(B38,m,3,0),"")
A39: {=(IF($P$3='بيان ع'!D33,ROW('بيان ع'!33:33)-1,yyyyy))} -> #NAME? | B39: =IFERROR(_xlfn.AGGREGATE(15,6,$A$8:$A$1010,ROW(A32)),"") | C39: =IFERROR(VLOOKUP(B39,m,2,0),"") | D39: =IFERROR(VLOOKUP(B39,m,3,0),"")
A40: {=(IF($P$3='بيان ع'!D34,ROW('بيان ع'!34:34)-1,yyyyy))} -> #NAME? | B40: =IFERROR(_xlfn.AGGREGATE(15,6,$A$8:$A$1010,ROW(A33)),"") | C40: =IFERROR(VLOOKUP(B40,m,2,0),"") | D40: =IFERROR(VLOOKUP(B40,m,3,0),"")
A41: {=(IF($P$3='بيان ع'!D35,ROW('بيان ع'!35:35)-1,yyyyy))} -> #NAME? | B41: =IFERROR(_xlfn.AGGREGATE(15,6,$A$8:$A$1010,ROW(A34)),"") | C41: =IFERROR(VLOOKUP(B41,m,2,0),"") | D41: =IFERROR(VLOOKUP(B41,m,3,0),"")
A42: {=(IF($P$3='بيان ع'!D36,ROW('بيان ع'!36:36)-1,yyyyy))} -> #NAME? | B42: =IFERROR(_xlfn.AGGREGATE(15,6,$A$8:$A$1010,ROW(A35)),"") | C42: =IFERROR(VLOOKUP(B42,m,2,0),"") | D42: =IFERROR(VLOOKUP(B42,m,3,0),"")
A43: {=(IF($P$3='بيان ع'!D37,ROW('بيان ع'!37:37)-1,yyyyy))} -> #NAME? | B43: =IFERROR(_xlfn.AGGREGATE(15,6,$A$8:$A$1010,ROW(A36)),"") | C43: =IFERROR(VLOOKUP(B43,m,2,0),"") | D43: =IFERROR(VLOOKUP(B43,m,3,0),"")
A44: {=(IF($P$3='بيان ع'!D38,ROW('بيان ع'!38:38)-1,yyyyy))} -> #NAME? | B44: =IFERROR(_xlfn.AGGREGATE(15,6,$A$8:$A$1010,ROW(A37)),"") | C44: =IFERROR(VLOOKUP(B44,m,2,0),"") | D44: =IFERROR(VLOOKUP(B44,m,3,0),"")
A45: {=(IF($P$3='بيان ع'!D39,ROW('بيان ع'!39:39)-1,yyyyy))} -> #NAME? | B45: =IFERROR(_xlfn.AGGREGATE(15,6,$A$8:$A$1010,ROW(A38)),"") | C45: =IFERROR(VLOOKUP(B45,m,2,0),"") | D45: =IFERROR(VLOOKUP(B45,m,3,0),"")
A46: {=(IF($P$3='بيان ع'!D40,ROW('بيان ع'!40:40)-1,yyyyy))} -> #NAME? | B46: =IFERROR(_xlfn.AGGREGATE(15,6,$A$8:$A$1010,ROW(A39)),"") | C46: =IFERROR(VLOOKUP(B46,m,2,0),"") | D46: =IFERROR(VLOOKUP(B46,m,3,0),"")
A47: {=(IF($P$3='بيان ع'!D41,ROW('بيان ع'!41:41)-1,yyyyy))} -> #NAME? | B47: =IFERROR(_xlfn.AGGREGATE(15,6,$A$8:$A$1010,ROW(A40)),"") | C47: =IFERROR(VLOOKUP(B47,m,2,0),"") | D47: =IFERROR(VLOOKUP(B47,m,3,0),"")
A48: {=(IF($P$3='بيان ع'!D42,ROW('بيان ع'!42:42)-1,yyyyy))} -> #NAME? | B48: =IFERROR(_xlfn.AGGREGATE(15,6,$A$8:$A$1010,ROW(A41)),"") | C48: =IFERROR(VLOOKUP(B48,m,2,0),"") | D48: =IFERROR(VLOOKUP(B48,m,3,0),"")
A49: {=(IF($P$3='بيان ع'!D43,ROW('بيان ع'!43:43)-1,yyyyy))} -> #NAME? | B49: =IFERROR(_xlfn.AGGREGATE(15,6,$A$8:$A$1010,ROW(A42)),"") | C49: =IFERROR(VLOOKUP(B49,m,2,0),"") | D49: =IFERROR(VLOOKUP(B49,m,3,0),"")
A50: {=(IF($P$3='بيان ع'!D44,ROW('بيان ع'!44:44)-1,yyyyy))} -> #NAME? | B50: =IFERROR(_xlfn.AGGREGATE(15,6,$A$8:$A$1010,ROW(A43)),"") | C50: =IFERROR(VLOOKUP(B50,m,2,0),"") | D50: =IFERROR(VLOOKUP(B50,m,3,0),"")
A51: {=(IF($P$3='بيان ع'!D45,ROW('بيان ع'!45:45)-1,yyyyy))} -> #NAME? | B51: =IFERROR(_xlfn.AGGREGATE(15,6,$A$8:$A$1010,ROW(A44)),"") | C51: =IFERROR(VLOOKUP(B51,m,2,0),"") | D51: =IFERROR(VLOOKUP(B51,m,3,0),"")
A52: {=(IF($P$3='بيان ع'!D46,ROW('بيان ع'!46:46)-1,yyyyy))} -> #NAME? | B52: =IFERROR(_xlfn.AGGREGATE(15,6,$A$8:$A$1010,ROW(A45)),"") | C52: =IFERROR(VLOOKUP(B52,m,2,0),"") | D52: =IFERROR(VLOOKUP(B52,m,3,0),"")
A53: {=(IF($P$3='بيان ع'!D47,ROW('بيان ع'!47:47)-1,yyyyy))} -> #NAME? | B53: =IFERROR(_xlfn.AGGREGATE(15,6,$A$8:$A$1010,ROW(A46)),"") | C53: =IFERROR(VLOOKUP(B53,m,2,0),"") | D53: =IFERROR(VLOOKUP(B53,m,3,0),"")
A54: {=(IF($P$3='بيان ع'!D48,ROW('بيان ع'!48:48)-1,yyyyy))} -> #NAME? | B54: =IFERROR(_xlfn.AGGREGATE(15,6,$A$8:$A$1010,ROW(A47)),"") | C54: =IFERROR(VLOOKUP(B54,m,2,0),"") | D54: =IFERROR(VLOOKUP(B54,m,3,0),"")
A55: {=(IF($P$3='بيان ع'!D49,ROW('بيان ع'!49:49)-1,yyyyy))} -> #NAME? | B55: =IFERROR(_xlfn.AGGREGATE(15,6,$A$8:$A$1010,ROW(A48)),"") | C55: =IFERROR(VLOOKUP(B55,m,2,0),"") | D55: =IFERROR(VLOOKUP(B55,m,3,0),"")
A56: {=(IF($P$3='بيان ع'!D50,ROW('بيان ع'!50:50)-1,yyyyy))} -> #NAME? | B56: =IFERROR(_xlfn.AGGREGATE(15,6,$A$8:$A$1010,ROW(A49)),"") | C56: =IFERROR(VLOOKUP(B56,m,2,0),"") | D56: =IFERROR(VLOOKUP(B56,m,3,0),"")
A57: {=(IF($P$3='بيان ع'!D51,ROW('بيان ع'!51:51)-1,yyyyy))} -> #NAME? | B57: =IFERROR(_xlfn.AGGREGATE(15,6,$A$8:$A$1010,ROW(A50)),"") | C57: =IFERROR(VLOOKUP(B57,m,2,0),"") | D57: =IFERROR(VLOOKUP(B57,m,3,0),"")
A58: {=(IF($P$3='بيان ع'!D52,ROW('بيان ع'!52:52)-1,yyyyy))} -> #NAME? | B58: =IFERROR(_xlfn.AGGREGATE(15,6,$A$8:$A$1010,ROW(A51)),"") | C58: =IFERROR(VLOOKUP(B58,m,2,0),"") | D58: =IFERROR(VLOOKUP(B58,m,3,0),"")
A59: {=(IF($P$3='بيان ع'!D53,ROW('بيان ع'!53:53)-1,yyyyy))} -> #NAME? | B59: =IFERROR(_xlfn.AGGREGATE(15,6,$A$8:$A$1010,ROW(A52)),"") | C59: =IFERROR(VLOOKUP(B59,m,2,0),"") | D59: =IFERROR(VLOOKUP(B59,m,3,0),"")
A60: {=(IF($P$3='بيان ع'!D54,ROW('بيان ع'!54:54)-1,yyyyy))} -> #NAME? | B60: =IFERROR(_xlfn.AGGREGATE(15,6,$A$8:$A$1010,ROW(A53)),"") | C60: =IFERROR(VLOOKUP(B60,m,2,0),"") | D60: =IFERROR(VLOOKUP(B60,m,3,0),"")
A61: {=(IF($P$3='بيان ع'!D55,ROW('بيان ع'!55:55)-1,yyyyy))} -> #NAME? | B61: =IFERROR(_xlfn.AGGREGATE(15,6,$A$8:$A$1010,ROW(A54)),"") | C61: =IFERROR(VLOOKUP(B61,m,2,0),"") | D61: =IFERROR(VLOOKUP(B61,m,3,0),"")
A62: {=(IF($P$3='بيان ع'!D56,ROW('بيان ع'!56:56)-1,yyyyy))} -> #NAME? | B62: =IFERROR(_xlfn.AGGREGATE(15,6,$A$8:$A$1010,ROW(A55)),"") | C62: =IFERROR(VLOOKUP(B62,m,2,0),"") | D62: =IFERROR(VLOOKUP(B62,m,3,0),"")
A63: {=(IF($P$3='بيان ع'!D57,ROW('بيان ع'!57:57)-1,yyyyy))} -> #NAME? | B63: =IFERROR(_xlfn.AGGREGATE(15,6,$A$8:$A$1010,ROW(A56)),"") | C63: =IFERROR(VLOOKUP(B63,m,2,0),"") | D63: =IFERROR(VLOOKUP(B63,m,3,0),"")
A64: {=(IF($P$3='بيان ع'!D58,ROW('بيان ع'!58:58)-1,yyyyy))} -> #NAME? | B64: =IFERROR(_xlfn.AGGREGATE(15,6,$A$8:$A$1010,ROW(A57)),"") | C64: =IFERROR(VLOOKUP(B64,m,2,0),"") | D64: =IFERROR(VLOOKUP(B64,m,3,0),"")
A65: {=(IF($P$3='بيان ع'!D59,ROW('بيان ع'!59:59)-1,yyyyy))} -> #NAME? | B65: =IFERROR(_xlfn.AGGREGATE(15,6,$A$8:$A$1010,ROW(A58)),"") | C65: =IFERROR(VLOOKUP(B65,m,2,0),"") | D65: =IFERROR(VLOOKUP(B65,m,3,0),"")
A66: {=(IF($P$3='بيان ع'!D60,ROW('بيان ع'!60:60)-1,yyyyy))} -> #NAME? | B66: =IFERROR(_xlfn.AGGREGATE(15,6,$A$8:$A$1010,ROW(A59)),"") | C66: =IFERROR(VLOOKUP(B66,m,2,0),"") | D66: =IFERROR(VLOOKUP(B66,m,3,0),"")
A67: {=(IF($P$3='بيان ع'!D61,ROW('بيان ع'!61:61)-1,yyyyy))} -> #NAME? | B67: =IFERROR(_xlfn.AGGREGATE(15,6,$A$8:$A$1010,ROW(A60)),"") | C67: =IFERROR(VLOOKUP(B67,m,2,0),"") | D67: =IFERROR(VLOOKUP(B67,m,3,0),"")
A68: {=(IF($P$3='بيان ع'!D62,ROW('بيان ع'!62:62)-1,yyyyy))} -> #NAME? | B68: =IFERROR(_xlfn.AGGREGATE(15,6,$A$8:$A$1010,ROW(A61)),"") | C68: =IFERROR(VLOOKUP(B68,m,2,0),"") | D68: =IFERROR(VLOOKUP(B68,m,3,0),"")
A69: {=(IF($P$3='بيان ع'!D63,ROW('بيان ع'!63:63)-1,yyyyy))} -> #NAME? | B69: =IFERROR(_xlfn.AGGREGATE(15,6,$A$8:$A$1010,ROW(A62)),"") | C69: =IFERROR(VLOOKUP(B69,m,2,0),"") | D69: =IFERROR(VLOOKUP(B69,m,3,0),"")
A70: {=(IF($P$3='بيان ع'!D64,ROW('بيان ع'!64:64)-1,yyyyy))} -> #NAME? | B70: =IFERROR(_xlfn.AGGREGATE(15,6,$A$8:$A$1010,ROW(A63)),"") | C70: =IFERROR(VLOOKUP(B70,m,2,0),"") | D70: =IFERROR(VLOOKUP(B70,m,3,0),"")
A71: {=(IF($P$3='بيان ع'!D65,ROW('بيان ع'!65:65)-1,yyyyy))} -> #NAME? | B71: =IFERROR(_xlfn.AGGREGATE(15,6,$A$8:$A$1010,ROW(A64)),"") | C71: =IFERROR(VLOOKUP(B71,m,2,0),"") | D71: =IFERROR(VLOOKUP(B71,m,3,0),"")
A72: {=(IF($P$3='بيان ع'!D66,ROW('بيان ع'!66:66)-1,yyyyy))} -> #NAME? | B72: =IFERROR(_xlfn.AGGREGATE(15,6,$A$8:$A$1010,ROW(A65)),"") | C72: =IFERROR(VLOOKUP(B72,m,2,0),"") | D72: =IFERROR(VLOOKUP(B72,m,3,0),"")
A73: {=(IF($P$3='بيان ع'!D67,ROW('بيان ع'!67:67)-1,yyyyy))} -> #NAME? | B73: =IFERROR(_xlfn.AGGREGATE(15,6,$A$8:$A$1010,ROW(A66)),"") | C73: =IFERROR(VLOOKUP(B73,m,2,0),"") | D73: =IFERROR(VLOOKUP(B73,m,3,0),"")
A74: {=(IF($P$3='بيان ع'!D68,ROW('بيان ع'!68:68)-1,yyyyy))} -> #NAME? | B74: =IFERROR(_xlfn.AGGREGATE(15,6,$A$8:$A$1010,ROW(A67)),"") | C74: =IFERROR(VLOOKUP(B74,m,2,0),"") | D74: =IFERROR(VLOOKUP(B74,m,3,0),"")
A75: {=(IF($P$3='بيان ع'!D69,ROW('بيان ع'!69:69)-1,yyyyy))} -> #NAME? | B75: =IFERROR(_xlfn.AGGREGATE(15,6,$A$8:$A$1010,ROW(A68)),"") | C75: =IFERROR(VLOOKUP(B75,m,2,0),"") | D75: =IFERROR(VLOOKUP(B75,m,3,0),"")
A76: {=(IF($P$3='بيان ع'!D70,ROW('بيان ع'!70:70)-1,yyyyy))} -> #NAME? | B76: =IFERROR(_xlfn.AGGREGATE(15,6,$A$8:$A$1010,ROW(A69)),"") | C76: =IFERROR(VLOOKUP(B76,m,2,0),"") | D76: =IFERROR(VLOOKUP(B76,m,3,0),"")
A77: {=(IF($P$3='بيان ع'!D71,ROW('بيان ع'!71:71)-1,yyyyy))} -> #NAME? | B77: =IFERROR(_xlfn.AGGREGATE(15,6,$A$8:$A$1010,ROW(A70)),"") | C77: =IFERROR(VLOOKUP(B77,m,2,0),"") | D77: =IFERROR(VLOOKUP(B77,m,3,0),"")
A78: {=(IF($P$3='بيان ع'!D72,ROW('بيان ع'!72:72)-1,yyyyy))} -> #NAME? | B78: =IFERROR(_xlfn.AGGREGATE(15,6,$A$8:$A$1010,ROW(A71)),"") | C78: معلم المادة | F78: رئيس الكنترول | K78: شيخ المعهد
A79: {=(IF($P$3='بيان ع'!D73,ROW('بيان ع'!73:73)-1,yyyyy))} -> #NAME? | B79: =IFERROR(_xlfn.AGGREGATE(15,6,$A$8:$A$1010,ROW(A72)),"") | C79: ....................................... | F79: ='بيان ع'!K5 -> 0 | K79: ='بيان ع'!K6 -> 0
A80: {=(IF($P$3='بيان ع'!D74,ROW('بيان ع'!74:74)-1,yyyyy))} -> #NAME? | B80: =IFERROR(_xlfn.AGGREGATE(15,6,$A$8:$A$1010,ROW(A73)),"")
A81: {=(IF($P$3='بيان ع'!D75,ROW('بيان ع'!75:75)-1,yyyyy))} -> #NAME? | B81: =IFERROR(_xlfn.AGGREGATE(15,6,$A$8:$A$1010,ROW(A74)),"")
A82: {=(IF($P$3='بيان ع'!D76,ROW('بيان ع'!76:76)-1,yyyyy))} -> #NAME? | B82: =IFERROR(_xlfn.AGGREGATE(15,6,$A$8:$A$1010,ROW(A75)),"")
A83: {=(IF($P$3='بيان ع'!D77,ROW('بيان ع'!77:77)-1,yyyyy))} -> #NAME? | B83: =IFERROR(_xlfn.AGGREGATE(15,6,$A$8:$A$1010,ROW(A76)),"")
A84: {=(IF($P$3='بيان ع'!D78,ROW('بيان ع'!78:78)-1,yyyyy))} -> #NAME? | B84: =IFERROR(_xlfn.AGGREGATE(15,6,$A$8:$A$1010,ROW(A77)),"")
A85: {=(IF($P$3='بيان ع'!D79,ROW('بيان ع'!79:79)-1,yyyyy))} -> #NAME? | B85: =IFERROR(_xlfn.AGGREGATE(15,6,$A$8:$A$1010,ROW(A78)),"")
A86: {=(IF($P$3='بيان ع'!D80,ROW('بيان ع'!80:80)-1,yyyyy))} -> #NAME? | B86: =IFERROR(_xlfn.AGGREGATE(15,6,$A$8:$A$1010,ROW(A79)),"")
A87: {=(IF($P$3='بيان ع'!D81,ROW('بيان ع'!81:81)-1,yyyyy))} -> #NAME? | B87: =IFERROR(_xlfn.AGGREGATE(15,6,$A$8:$A$1010,ROW(A80)),"")
A88: {=(IF($P$3='بيان ع'!D82,ROW('بيان ع'!82:82)-1,yyyyy))} -> #NAME? | B88: =IFERROR(_xlfn.AGGREGATE(15,6,$A$8:$A$1010,ROW(A81)),"")
A89: {=(IF($P$3='بيان ع'!D83,ROW('بيان ع'!83:83)-1,yyyyy))} -> #NAME? | B89: =IFERROR(_xlfn.AGGREGATE(15,6,$A$8:$A$1010,ROW(A82)),"")
A90: {=(IF($P$3='بيان ع'!D84,ROW('بيان ع'!84:84)-1,yyyyy))} -> #NAME? | B90: =IFERROR(_xlfn.AGGREGATE(15,6,$A$8:$A$1010,ROW(A83)),"")
A91: {=(IF($P$3='بيان ع'!D85,ROW('بيان ع'!85:85)-1,yyyyy))} -> #NAME? | B91: =IFERROR(_xlfn.AGGREGATE(15,6,$A$8:$A$1010,ROW(A84)),"")
A92: {=(IF($P$3='بيان ع'!D86,ROW('بيان ع'!86:86)-1,yyyyy))} -> #NAME? | B92: =IFERROR(_xlfn.AGGREGATE(15,6,$A$8:$A$1010,ROW(A85)),"")
A93: {=(IF($P$3='بيان ع'!D87,ROW('بيان ع'!87:87)-1,yyyyy))} -> #NAME? | B93: =IFERROR(_xlfn.AGGREGATE(15,6,$A$8:$A$1010,ROW(A86)),"")
A94: {=(IF($P$3='بيان ع'!D88,ROW('بيان ع'!88:88)-1,yyyyy))} -> #NAME? | B94: =IFERROR(_xlfn.AGGREGATE(15,6,$A$8:$A$1010,ROW(A87)),"")
A95: {=(IF($P$3='بيان ع'!D89,ROW('بيان ع'!89:89)-1,yyyyy))} -> #NAME? | B95: =IFERROR(_xlfn.AGGREGATE(15,6,$A$8:$A$1010,ROW(A88)),"")
A96: {=(IF($P$3='بيان ع'!D90,ROW('بيان ع'!90:90)-1,yyyyy))} -> #NAME? | B96: =IFERROR(_xlfn.AGGREGATE(15,6,$A$8:$A$1010,ROW(A89)),"")
A97: {=(IF($P$3='بيان ع'!D91,ROW('بيان ع'!91:91)-1,yyyyy))} -> #NAME? | B97: =IFERROR(_xlfn.AGGREGATE(15,6,$A$8:$A$1010,ROW(A90)),"")
A98: {=(IF($P$3='بيان ع'!D92,ROW('بيان ع'!92:92)-1,yyyyy))} -> #NAME? | B98: =IFERROR(_xlfn.AGGREGATE(15,6,$A$8:$A$1010,ROW(A91)),"")
A99: {=(IF($P$3='بيان ع'!D93,ROW('بيان ع'!93:93)-1,yyyyy))} -> #NAME? | B99: =IFERROR(_xlfn.AGGREGATE(15,6,$A$8:$A$1010,ROW(A92)),"")
A100: {=(IF($P$3='بيان ع'!D94,ROW('بيان ع'!94:94)-1,yyyyy))} -> #NAME? | B100: =IFERROR(_xlfn.AGGREGATE(15,6,$A$8:$A$1010,ROW(A93)),"")
...

Sheet الأول
C1: الأزهر الشريف | AN1: غ | AO1: 1 | AP1: =SUM(AN1:AO1)+SUM(AL1:AM1) -> 1 | AQ1: =AP1/2 -> 0.5 | AR1: مستجد | AS1: معيد | AV1: الثالث الابتدائي | BD1: فصل
C2: منطقة: | D2: ='بيان ع'!K2 -> 0 | K2: كشف تقييم الصف | P2: الأول الابتدائي | AR2: =COUNTIF(#REF!,AT2) -> #REF! | AS2: =COUNTIF(#REF!,AT3) -> #REF! | AT2: مستجد | AV2: الرابع الابتدائي
C3: إدارة: | D3: ='بيان ع'!K3 -> 0 | M3: مـــــــــادة: | P3: =AM3 -> التربية الإسلامية | Z3: =AM5 -> 1/1 | AC3: =AO5 -> 0 | AL3: اختر المادة | AM3: التربية الإسلامية | AR3: =COUNTIF(#REF!,AT2) -> #REF! | AS3: =COUNTIF(#REF!,AT3) -> #REF! | AT3: معيد | AV3: الخامس الابتدائي | AW3: التربية الإسلامية
C4: معهد: | D4: ='بيان ع'!K4 -> 0 | M4: عام: | N4: ='بيان ع'!K7 -> 2026م/ 2027م | AV4: السادس الابتدائي | AW4: اللغة العربية
C5: جلوس | D5: الاســــم | E5: الشهر الأول | M5: الشهر الثاني | U5: الشهر الثالث | AC5: المتوسط | AJ5: المجموع الكلي | AL5: اختر الفصل | AM5: 1/1 | AW5: الرياضيات
E6: أداء صفي | F6: مهام تحريرية منزلية | G6: أنشطة صفية | H6: تقييم أسبوعي | I6: مهام شفهية | J6: مهام مهارتية | K6: حضور ومواظبة | L6: المجموع | M6: أداء صفي | N6: مهام تحريرية منزلية | O6: أنشطة صفية | P6: تقييم أسبوعي | Q6: مهام شفهية | R6: مهام مهارتية | S6: حضور ومواظبة | T6: المجموع | U6: أداء صفي | V6: مهام تحريرية منزلية | W6: أنشطة صفية | X6: تقييم أسبوعي | Y6: مهام شفهية | Z6: مهام مهارتية | AA6: حضور ومواظبة | AB6: المجموع | AC6: أداء صفي | AD6: مهام تحريرية منزلية | AE6: أنشطة صفية | AF6: تقييم أسبوعي | AG6: مهام شفهية | AH6: مهام مهارتية | AI6: حضور ومواظبة | AW6: الإنجليزي
A7: م | B7: م | E7: 20 | F7: 20 | G7: 20 | H7: 20 | I7: 10 | J7: 5 | K7: 5 | L7: 100 | M7: 20 | N7: 20 | O7: 20 | P7: 20 | Q7: 10 | R7: 5 | S7: 5 | T7: 100 | U7: 20 | V7: 20 | W7: 20 | X7: 20 | Y7: 10 | Z7: 5 | AA7: 5 | AB7: 100 | AC7: 20 | AD7: 20 | AE7: 20 | AF7: 20 | AG7: 10 | AH7: 5 | AI7: 5 | AJ7: 100
A8: =(IF($AM$5='بيان ع'!D2,ROW('بيان ع'!2:2)-1,yyyyy)) -> 1 | B8: =IFERROR(_xlfn.AGGREGATE(15,6,$A$8:$A$1010,ROW(A1)),"") -> 1 | C8: =IFERROR(VLOOKUP(B8,m,2,0),"") -> 0 | D8: =IFERROR(VLOOKUP(B8,m,3,0),"") -> 0
A9: =(IF($AM$5='بيان ع'!D3,ROW('بيان ع'!3:3)-1,yyyyy)) -> #NAME? | B9: =IFERROR(_xlfn.AGGREGATE(15,6,$A$8:$A$1010,ROW(A2)),"") | C9: =IFERROR(VLOOKUP(B9,m,2,0),"") | D9: =IFERROR(VLOOKUP(B9,m,3,0),"")
A10: =(IF($AM$5='بيان ع'!D4,ROW('بيان ع'!4:4)-1,yyyyy)) -> #NAME? | B10: =IFERROR(_xlfn.AGGREGATE(15,6,$A$8:$A$1010,ROW(A3)),"") | C10: =IFERROR(VLOOKUP(B10,m,2,0),"") | D10: =IFERROR(VLOOKUP(B10,m,3,0),"")
A11: =(IF($AM$5='بيان ع'!D5,ROW('بيان ع'!5:5)-1,yyyyy)) -> #NAME? | B11: =IFERROR(_xlfn.AGGREGATE(15,6,$A$8:$A$1010,ROW(A4)),"") | C11: =IFERROR(VLOOKUP(B11,m,2,0),"") | D11: =IFERROR(VLOOKUP(B11,m,3,0),"")
A12: =(IF($AM$5='بيان ع'!D6,ROW('بيان ع'!6:6)-1,yyyyy)) -> #NAME? | B12: =IFERROR(_xlfn.AGGREGATE(15,6,$A$8:$A$1010,ROW(A5)),"") | C12: =IFERROR(VLOOKUP(B12,m,2,0),"") | D12: =IFERROR(VLOOKUP(B12,m,3,0),"")
A13: =(IF($AM$5='بيان ع'!D7,ROW('بيان ع'!7:7)-1,yyyyy)) -> #NAME? | B13: =IFERROR(_xlfn.AGGREGATE(15,6,$A$8:$A$1010,ROW(A6)),"") | C13: =IFERROR(VLOOKUP(B13,m,2,0),"") | D13: =IFERROR(VLOOKUP(B13,m,3,0),"")
A14: =(IF($AM$5='بيان ع'!D8,ROW('بيان ع'!8:8)-1,yyyyy)) -> #NAME? | B14: =IFERROR(_xlfn.AGGREGATE(15,6,$A$8:$A$1010,ROW(A7)),"") | C14: =IFERROR(VLOOKUP(B14,m,2,0),"") | D14: =IFERROR(VLOOKUP(B14,m,3,0),"")
A15: =(IF($AM$5='بيان ع'!D9,ROW('بيان ع'!9:9)-1,yyyyy)) -> #NAME? | B15: =IFERROR(_xlfn.AGGREGATE(15,6,$A$8:$A$1010,ROW(A8)),"") | C15: =IFERROR(VLOOKUP(B15,m,2,0),"") | D15: =IFERROR(VLOOKUP(B15,m,3,0),"")
A16: =(IF($AM$5='بيان ع'!D10,ROW('بيان ع'!10:10)-1,yyyyy)) -> #NAME? | B16: =IFERROR(_xlfn.AGGREGATE(15,6,$A$8:$A$1010,ROW(A9)),"") | C16: =IFERROR(VLOOKUP(B16,m,2,0),"") | D16: =IFERROR(VLOOKUP(B16,m,3,0),"")
A17: =(IF($AM$5='بيان ع'!D11,ROW('بيان ع'!11:11)-1,yyyyy)) -> #NAME? | B17: =IFERROR(_xlfn.AGGREGATE(15,6,$A$8:$A$1010,ROW(A10)),"") | C17: =IFERROR(VLOOKUP(B17,m,2,0),"") | D17: =IFERROR(VLOOKUP(B17,m,3,0),"")
A18: =(IF($AM$5='بيان ع'!D12,ROW('بيان ع'!12:12)-1,yyyyy)) -> #NAME? | B18: =IFERROR(_xlfn.AGGREGATE(15,6,$A$8:$A$1010,ROW(A11)),"") | C18: =IFERROR(VLOOKUP(B18,m,2,0),"") | D18: =IFERROR(VLOOKUP(B18,m,3,0),"")
A19: =(IF($AM$5='بيان ع'!D13,ROW('بيان ع'!13:13)-1,yyyyy)) -> #NAME? | B19: =IFERROR(_xlfn.AGGREGATE(15,6,$A$8:$A$1010,ROW(A12)),"") | C19: =IFERROR(VLOOKUP(B19,m,2,0),"") | D19: =IFERROR(VLOOKUP(B19,m,3,0),"")
A20: =(IF($AM$5='بيان ع'!D14,ROW('بيان ع'!14:14)-1,yyyyy)) -> #NAME? | B20: =IFERROR(_xlfn.AGGREGATE(15,6,$A$8:$A$1010,ROW(A13)),"") | C20: =IFERROR(VLOOKUP(B20,m,2,0),"") | D20: =IFERROR(VLOOKUP(B20,m,3,0),"")
A21: =(IF($AM$5='بيان ع'!D15,ROW('بيان ع'!15:15)-1,yyyyy)) -> #NAME? | B21: =IFERROR(_xlfn.AGGREGATE(15,6,$A$8:$A$1010,ROW(A14)),"") | C21: =IFERROR(VLOOKUP(B21,m,2,0),"") | D21: =IFERROR(VLOOKUP(B21,m,3,0),"")
A22: =(IF($AM$5='بيان ع'!D16,ROW('بيان ع'!16:16)-1,yyyyy)) -> #NAME? | B22: =IFERROR(_xlfn.AGGREGATE(15,6,$A$8:$A$1010,ROW(A15)),"") | C22: =IFERROR(VLOOKUP(B22,m,2,0),"") | D22: =IFERROR(VLOOKUP(B22,m,3,0),"")
A23: =(IF($AM$5='بيان ع'!D17,ROW('بيان ع'!17:17)-1,yyyyy)) -> #NAME? | B23: =IFERROR(_xlfn.AGGREGATE(15,6,$A$8:$A$1010,ROW(A16)),"") | C23: =IFERROR(VLOOKUP(B23,m,2,0),"") | D23: =IFERROR(VLOOKUP(B23,m,3,0),"")
A24: =(IF($AM$5='بيان ع'!D18,ROW('بيان ع'!18:18)-1,yyyyy)) -> #NAME? | B24: =IFERROR(_xlfn.AGGREGATE(15,6,$A$8:$A$1010,ROW(A17)),"") | C24: =IFERROR(VLOOKUP(B24,m,2,0),"") | D24: =IFERROR(VLOOKUP(B24,m,3,0),"")
A25: =(IF($AM$5='بيان ع'!D19,ROW('بيان ع'!19:19)-1,yyyyy)) -> #NAME? | B25: =IFERROR(_xlfn.AGGREGATE(15,6,$A$8:$A$1010,ROW(A18)),"") | C25: =IFERROR(VLOOKUP(B25,m,2,0),"") | D25: =IFERROR(VLOOKUP(B25,m,3,0),"")
A26: =(IF($AM$5='بيان ع'!D20,ROW('بيان ع'!20:20)-1,yyyyy)) -> #NAME? | B26: =IFERROR(_xlfn.AGGREGATE(15,6,$A$8:$A$1010,ROW(A19)),"") | C26: =IFERROR(VLOOKUP(B26,m,2,0),"") | D26: =IFERROR(VLOOKUP(B26,m,3,0),"")
A27: =(IF($AM$5='بيان ع'!D21,ROW('بيان ع'!21:21)-1,yyyyy)) -> #NAME? | B27: =IFERROR(_xlfn.AGGREGATE(15,6,$A$8:$A$1010,ROW(A20)),"") | C27: =IFERROR(VLOOKUP(B27,m,2,0),"") | D27: =IFERROR(VLOOKUP(B27,m,3,0),"")
A28: =(IF($AM$5='بيان ع'!D22,ROW('بيان ع'!22:22)-1,yyyyy)) -> #NAME? | B28: =IFERROR(_xlfn.AGGREGATE(15,6,$A$8:$A$1010,ROW(A21)),"") | C28: =IFERROR(VLOOKUP(B28,m,2,0),"") | D28: =IFERROR(VLOOKUP(B28,m,3,0),"")
A29: =(IF($AM$5='بيان ع'!D23,ROW('بيان ع'!23:23)-1,yyyyy)) -> #NAME? | B29: =IFERROR(_xlfn.AGGREGATE(15,6,$A$8:$A$1010,ROW(A22)),"") | C29: =IFERROR(VLOOKUP(B29,m,2,0),"") | D29: =IFERROR(VLOOKUP(B29,m,3,0),"")
A30: =(IF($AM$5='بيان ع'!D24,ROW('بيان ع'!24:24)-1,yyyyy)) -> #NAME? | B30: =IFERROR(_xlfn.AGGREGATE(15,6,$A$8:$A$1010,ROW(A23)),"") | C30: =IFERROR(VLOOKUP(B30,m,2,0),"") | D30: =IFERROR(VLOOKUP(B30,m,3,0),"")
A31: =(IF($AM$5='بيان ع'!D25,ROW('بيان ع'!25:25)-1,yyyyy)) -> #NAME? | B31: =IFERROR(_xlfn.AGGREGATE(15,6,$A$8:$A$1010,ROW(A24)),"") | C31: =IFERROR(VLOOKUP(B31,m,2,0),"") | D31: =IFERROR(VLOOKUP(B31,m,3,0),"")
A32: =(IF($AM$5='بيان ع'!D26,ROW('بيان ع'!26:26)-1,yyyyy)) -> #NAME? | B32: =IFERROR(_xlfn.AGGREGATE(15,6,$A$8:$A$1010,ROW(A25)),"") | C32: =IFERROR(VLOOKUP(B32,m,2,0),"") | D32: =IFERROR(VLOOKUP(B32,m,3,0),"")
A33: =(IF($AM$5='بيان ع'!D27,ROW('بيان ع'!27:27)-1,yyyyy)) -> #NAME? | B33: =IFERROR(_xlfn.AGGREGATE(15,6,$A$8:$A$1010,ROW(A26)),"") | C33: =IFERROR(VLOOKUP(B33,m,2,0),"") | D33: =IFERROR(VLOOKUP(B33,m,3,0),"")
A34: =(IF($AM$5='بيان ع'!D28,ROW('بيان ع'!28:28)-1,yyyyy)) -> #NAME? | B34: =IFERROR(_xlfn.AGGREGATE(15,6,$A$8:$A$1010,ROW(A27)),"") | C34: =IFERROR(VLOOKUP(B34,m,2,0),"") | D34: =IFERROR(VLOOKUP(B34,m,3,0),"")
A35: =(IF($AM$5='بيان ع'!D29,ROW('بيان ع'!29:29)-1,yyyyy)) -> #NAME? | B35: =IFERROR(_xlfn.AGGREGATE(15,6,$A$8:$A$1010,ROW(A28)),"") | C35: =IFERROR(VLOOKUP(B35,m,2,0),"") | D35: =IFERROR(VLOOKUP(B35,m,3,0),"")
A36: =(IF($AM$5='بيان ع'!D30,ROW('بيان ع'!30:30)-1,yyyyy)) -> #NAME? | B36: =IFERROR(_xlfn.AGGREGATE(15,6,$A$8:$A$1010,ROW(A29)),"") | C36: =IFERROR(VLOOKUP(B36,m,2,0),"") | D36: =IFERROR(VLOOKUP(B36,m,3,0),"")
A37: =(IF($AM$5='بيان ع'!D31,ROW('بيان ع'!31:31)-1,yyyyy)) -> #NAME? | B37: =IFERROR(_xlfn.AGGREGATE(15,6,$A$8:$A$1010,ROW(A30)),"") | C37: =IFERROR(VLOOKUP(B37,m,2,0),"") | D37: =IFERROR(VLOOKUP(B37,m,3,0),"")
A38: =(IF($AM$5='بيان ع'!D32,ROW('بيان ع'!32:32)-1,yyyyy)) -> #NAME? | B38: =IFERROR(_xlfn.AGGREGATE(15,6,$A$8:$A$1010,ROW(A31)),"") | C38: =IFERROR(VLOOKUP(B38,m,2,0),"") | D38: =IFERROR(VLOOKUP(B38,m,3,0),"")
A39: =(IF($AM$5='بيان ع'!D33,ROW('بيان ع'!33:33)-1,yyyyy)) -> #NAME? | B39: =IFERROR(_xlfn.AGGREGATE(15,6,$A$8:$A$1010,ROW(A32)),"") | C39: =IFERROR(VLOOKUP(B39,m,2,0),"") | D39: =IFERROR(VLOOKUP(B39,m,3,0),"")
A40: =(IF($AM$5='بيان ع'!D34,ROW('بيان ع'!34:34)-1,yyyyy)) -> #NAME? | B40: =IFERROR(_xlfn.AGGREGATE(15,6,$A$8:$A$1010,ROW(A33)),"") | C40: =IFERROR(VLOOKUP(B40,m,2,0),"") | D40: =IFERROR(VLOOKUP(B40,m,3,0),"")
A41: =(IF($AM$5='بيان ع'!D35,ROW('بيان ع'!35:35)-1,yyyyy)) -> #NAME? | B41: =IFERROR(_xlfn.AGGREGATE(15,6,$A$8:$A$1010,ROW(A34)),"") | C41: =IFERROR(VLOOKUP(B41,m,2,0),"") | D41: =IFERROR(VLOOKUP(B41,m,3,0),"")
A42: =(IF($AM$5='بيان ع'!D36,ROW('بيان ع'!36:36)-1,yyyyy)) -> #NAME? | B42: =IFERROR(_xlfn.AGGREGATE(15,6,$A$8:$A$1010,ROW(A35)),"") | C42: =IFERROR(VLOOKUP(B42,m,2,0),"") | D42: =IFERROR(VLOOKUP(B42,m,3,0),"")
A43: =(IF($AM$5='بيان ع'!D37,ROW('بيان ع'!37:37)-1,yyyyy)) -> #NAME? | B43: =IFERROR(_xlfn.AGGREGATE(15,6,$A$8:$A$1010,ROW(A36)),"") | C43: =IFERROR(VLOOKUP(B43,m,2,0),"") | D43: =IFERROR(VLOOKUP(B43,m,3,0),"")
A44: =(IF($AM$5='بيان ع'!D38,ROW('بيان ع'!38:38)-1,yyyyy)) -> #NAME? | B44: =IFERROR(_xlfn.AGGREGATE(15,6,$A$8:$A$1010,ROW(A37)),"") | C44: =IFERROR(VLOOKUP(B44,m,2,0),"") | D44: =IFERROR(VLOOKUP(B44,m,3,0),"")
A45: =(IF($AM$5='بيان ع'!D39,ROW('بيان ع'!39:39)-1,yyyyy)) -> #NAME? | B45: =IFERROR(_xlfn.AGGREGATE(15,6,$A$8:$A$1010,ROW(A38)),"") | C45: =IFERROR(VLOOKUP(B45,m,2,0),"") | D45: =IFERROR(VLOOKUP(B45,m,3,0),"")
A46: =(IF($AM$5='بيان ع'!D40,ROW('بيان ع'!40:40)-1,yyyyy)) -> #NAME? | B46: =IFERROR(_xlfn.AGGREGATE(15,6,$A$8:$A$1010,ROW(A39)),"") | C46: =IFERROR(VLOOKUP(B46,m,2,0),"") | D46: =IFERROR(VLOOKUP(B46,m,3,0),"")
A47: =(IF($AM$5='بيان ع'!D41,ROW('بيان ع'!41:41)-1,yyyyy)) -> #NAME? | B47: =IFERROR(_xlfn.AGGREGATE(15,6,$A$8:$A$1010,ROW(A40)),"") | C47: =IFERROR(VLOOKUP(B47,m,2,0),"") | D47: =IFERROR(VLOOKUP(B47,m,3,0),"")
A48: =(IF($AM$5='بيان ع'!D42,ROW('بيان ع'!42:42)-1,yyyyy)) -> #NAME? | B48: =IFERROR(_xlfn.AGGREGATE(15,6,$A$8:$A$1010,ROW(A41)),"") | C48: =IFERROR(VLOOKUP(B48,m,2,0),"") | D48: =IFERROR(VLOOKUP(B48,m,3,0),"")
A49: =(IF($AM$5='بيان ع'!D43,ROW('بيان ع'!43:43)-1,yyyyy)) -> #NAME? | B49: =IFERROR(_xlfn.AGGREGATE(15,6,$A$8:$A$1010,ROW(A42)),"") | C49: =IFERROR(VLOOKUP(B49,m,2,0),"") | D49: =IFERROR(VLOOKUP(B49,m,3,0),"")
A50: =(IF($AM$5='بيان ع'!D44,ROW('بيان ع'!44:44)-1,yyyyy)) -> #NAME? | B50: =IFERROR(_xlfn.AGGREGATE(15,6,$A$8:$A$1010,ROW(A43)),"") | C50: =IFERROR(VLOOKUP(B50,m,2,0),"") | D50: =IFERROR(VLOOKUP(B50,m,3,0),"")
A51: =(IF($AM$5='بيان ع'!D45,ROW('بيان ع'!45:45)-1,yyyyy)) -> #NAME? | B51: =IFERROR(_xlfn.AGGREGATE(15,6,$A$8:$A$1010,ROW(A44)),"") | C51: =IFERROR(VLOOKUP(B51,m,2,0),"") | D51: =IFERROR(VLOOKUP(B51,m,3,0),"")
A52: =(IF($AM$5='بيان ع'!D46,ROW('بيان ع'!46:46)-1,yyyyy)) -> #NAME? | B52: =IFERROR(_xlfn.AGGREGATE(15,6,$A$8:$A$1010,ROW(A45)),"") | C52: =IFERROR(VLOOKUP(B52,m,2,0),"") | D52: =IFERROR(VLOOKUP(B52,m,3,0),"")
A53: =(IF($AM$5='بيان ع'!D47,ROW('بيان ع'!47:47)-1,yyyyy)) -> #NAME? | B53: =IFERROR(_xlfn.AGGREGATE(15,6,$A$8:$A$1010,ROW(A46)),"") | C53: =IFERROR(VLOOKUP(B53,m,2,0),"") | D53: =IFERROR(VLOOKUP(B53,m,3,0),"")
A54: =(IF($AM$5='بيان ع'!D48,ROW('بيان ع'!48:48)-1,yyyyy)) -> #NAME? | B54: =IFERROR(_xlfn.AGGREGATE(15,6,$A$8:$A$1010,ROW(A47)),"") | C54: =IFERROR(VLOOKUP(B54,m,2,0),"") | D54: =IFERROR(VLOOKUP(B54,m,3,0),"")
A55: =(IF($AM$5='بيان ع'!D49,ROW('بيان ع'!49:49)-1,yyyyy)) -> #NAME? | B55: =IFERROR(_xlfn.AGGREGATE(15,6,$A$8:$A$1010,ROW(A48)),"") | C55: =IFERROR(VLOOKUP(B55,m,2,0),"") | D55: =IFERROR(VLOOKUP(B55,m,3,0),"")
A56: =(IF($AM$5='بيان ع'!D50,ROW('بيان ع'!50:50)-1,yyyyy)) -> #NAME? | B56: =IFERROR(_xlfn.AGGREGATE(15,6,$A$8:$A$1010,ROW(A49)),"") | C56: =IFERROR(VLOOKUP(B56,m,2,0),"") | D56: =IFERROR(VLOOKUP(B56,m,3,0),"")
A57: =(IF($AM$5='بيان ع'!D51,ROW('بيان ع'!51:51)-1,yyyyy)) -> #NAME? | B57: =IFERROR(_xlfn.AGGREGATE(15,6,$A$8:$A$1010,ROW(A50)),"") | C57: =IFERROR(VLOOKUP(B57,m,2,0),"") | D57: =IFERROR(VLOOKUP(B57,m,3,0),"")
A58: =(IF($AM$5='بيان ع'!D52,ROW('بيان ع'!52:52)-1,yyyyy)) -> #NAME? | B58: =IFERROR(_xlfn.AGGREGATE(15,6,$A$8:$A$1010,ROW(A51)),"") | C58: =IFERROR(VLOOKUP(B58,m,2,0),"") | D58: =IFERROR(VLOOKUP(B58,m,3,0),"")
A59: =(IF($AM$5='بيان ع'!D53,ROW('بيان ع'!53:53)-1,yyyyy)) -> #NAME? | B59: =IFERROR(_xlfn.AGGREGATE(15,6,$A$8:$A$1010,ROW(A52)),"") | C59: =IFERROR(VLOOKUP(B59,m,2,0),"") | D59: =IFERROR(VLOOKUP(B59,m,3,0),"")
A60: =(IF($AM$5='بيان ع'!D54,ROW('بيان ع'!54:54)-1,yyyyy)) -> #NAME? | B60: =IFERROR(_xlfn.AGGREGATE(15,6,$A$8:$A$1010,ROW(A53)),"") | C60: =IFERROR(VLOOKUP(B60,m,2,0),"") | D60: =IFERROR(VLOOKUP(B60,m,3,0),"")
A61: =(IF($AM$5='بيان ع'!D55,ROW('بيان ع'!55:55)-1,yyyyy)) -> #NAME? | B61: =IFERROR(_xlfn.AGGREGATE(15,6,$A$8:$A$1010,ROW(A54)),"") | C61: =IFERROR(VLOOKUP(B61,m,2,0),"") | D61: =IFERROR(VLOOKUP(B61,m,3,0),"")
A62: =(IF($AM$5='بيان ع'!D56,ROW('بيان ع'!56:56)-1,yyyyy)) -> #NAME? | B62: =IFERROR(_xlfn.AGGREGATE(15,6,$A$8:$A$1010,ROW(A55)),"") | C62: =IFERROR(VLOOKUP(B62,m,2,0),"") | D62: =IFERROR(VLOOKUP(B62,m,3,0),"")
A63: =(IF($AM$5='بيان ع'!D57,ROW('بيان ع'!57:57)-1,yyyyy)) -> #NAME? | B63: =IFERROR(_xlfn.AGGREGATE(15,6,$A$8:$A$1010,ROW(A56)),"") | C63: =IFERROR(VLOOKUP(B63,m,2,0),"") | D63: =IFERROR(VLOOKUP(B63,m,3,0),"")
A64: =(IF($AM$5='بيان ع'!D58,ROW('بيان ع'!58:58)-1,yyyyy)) -> #NAME? | B64: =IFERROR(_xlfn.AGGREGATE(15,6,$A$8:$A$1010,ROW(A57)),"") | C64: =IFERROR(VLOOKUP(B64,m,2,0),"") | D64: =IFERROR(VLOOKUP(B64,m,3,0),"")
A65: =(IF($AM$5='بيان ع'!D59,ROW('بيان ع'!59:59)-1,yyyyy)) -> #NAME? | B65: =IFERROR(_xlfn.AGGREGATE(15,6,$A$8:$A$1010,ROW(A58)),"") | C65: =IFERROR(VLOOKUP(B65,m,2,0),"") | D65: =IFERROR(VLOOKUP(B65,m,3,0),"")
A66: =(IF($AM$5='بيان ع'!D60,ROW('بيان ع'!60:60)-1,yyyyy)) -> #NAME? | B66: =IFERROR(_xlfn.AGGREGATE(15,6,$A$8:$A$1010,ROW(A59)),"") | C66: =IFERROR(VLOOKUP(B66,m,2,0),"") | D66: =IFERROR(VLOOKUP(B66,m,3,0),"")
A67: =(IF($AM$5='بيان ع'!D61,ROW('بيان ع'!61:61)-1,yyyyy)) -> #NAME? | B67: =IFERROR(_xlfn.AGGREGATE(15,6,$A$8:$A$1010,ROW(A60)),"") | C67: =IFERROR(VLOOKUP(B67,m,2,0),"") | D67: =IFERROR(VLOOKUP(B67,m,3,0),"")
A68: =(IF($AM$5='بيان ع'!D62,ROW('بيان ع'!62:62)-1,yyyyy)) -> #NAME? | B68: =IFERROR(_xlfn.AGGREGATE(15,6,$A$8:$A$1010,ROW(A61)),"") | C68: =IFERROR(VLOOKUP(B68,m,2,0),"") | D68: =IFERROR(VLOOKUP(B68,m,3,0),"")
A69: =(IF($AM$5='بيان ع'!D63,ROW('بيان ع'!63:63)-1,yyyyy)) -> #NAME? | B69: =IFERROR(_xlfn.AGGREGATE(15,6,$A$8:$A$1010,ROW(A62)),"") | C69: =IFERROR(VLOOKUP(B69,m,2,0),"") | D69: =IFERROR(VLOOKUP(B69,m,3,0),"")
A70: =(IF($AM$5='بيان ع'!D64,ROW('بيان ع'!64:64)-1,yyyyy)) -> #NAME? | B70: =IFERROR(_xlfn.AGGREGATE(15,6,$A$8:$A$1010,ROW(A63)),"") | C70: =IFERROR(VLOOKUP(B70,m,2,0),"") | D70: =IFERROR(VLOOKUP(B70,m,3,0),"")
A71: =(IF($AM$5='بيان ع'!D65,ROW('بيان ع'!65:65)-1,yyyyy)) -> #NAME? | B71: =IFERROR(_xlfn.AGGREGATE(15,6,$A$8:$A$1010,ROW(A64)),"") | C71: =IFERROR(VLOOKUP(B71,m,2,0),"") | D71: =IFERROR(VLOOKUP(B71,m,3,0),"")
A72: =(IF($AM$5='بيان ع'!D66,ROW('بيان ع'!66:66)-1,yyyyy)) -> #NAME? | B72: =IFERROR(_xlfn.AGGREGATE(15,6,$A$8:$A$1010,ROW(A65)),"") | C72: =IFERROR(VLOOKUP(B72,m,2,0),"") | D72: =IFERROR(VLOOKUP(B72,m,3,0),"")
A73: =(IF($AM$5='بيان ع'!D67,ROW('بيان ع'!67:67)-1,yyyyy)) -> #NAME? | B73: =IFERROR(_xlfn.AGGREGATE(15,6,$A$8:$A$1010,ROW(A66)),"") | C73: =IFERROR(VLOOKUP(B73,m,2,0),"") | D73: =IFERROR(VLOOKUP(B73,m,3,0),"")
A74: =(IF($AM$5='بيان ع'!D68,ROW('بيان ع'!68:68)-1,yyyyy)) -> #NAME? | B74: =IFERROR(_xlfn.AGGREGATE(15,6,$A$8:$A$1010,ROW(A67)),"") | C74: =IFERROR(VLOOKUP(B74,m,2,0),"") | D74: =IFERROR(VLOOKUP(B74,m,3,0),"")
A75: =(IF($AM$5='بيان ع'!D69,ROW('بيان ع'!69:69)-1,yyyyy)) -> #NAME? | B75: =IFERROR(_xlfn.AGGREGATE(15,6,$A$8:$A$1010,ROW(A68)),"") | C75: =IFERROR(VLOOKUP(B75,m,2,0),"") | D75: =IFERROR(VLOOKUP(B75,m,3,0),"")
A76: =(IF($AM$5='بيان ع'!D70,ROW('بيان ع'!70:70)-1,yyyyy)) -> #NAME? | B76: =IFERROR(_xlfn.AGGREGATE(15,6,$A$8:$A$1010,ROW(A69)),"") | C76: =IFERROR(VLOOKUP(B76,m,2,0),"") | D76: =IFERROR(VLOOKUP(B76,m,3,0),"")
A77: =(IF($AM$5='بيان ع'!D71,ROW('بيان ع'!71:71)-1,yyyyy)) -> #NAME? | B77: =IFERROR(_xlfn.AGGREGATE(15,6,$A$8:$A$1010,ROW(A70)),"") | C77: =IFERROR(VLOOKUP(B77,m,2,0),"") | D77: =IFERROR(VLOOKUP(B77,m,3,0),"")
A78: =(IF($AM$5='بيان ع'!D72,ROW('بيان ع'!72:72)-1,yyyyy)) -> #NAME? | B78: =IFERROR(_xlfn.AGGREGATE(15,6,$A$8:$A$1010,ROW(A71)),"") | C78: معلم المادة | F78: رئيس الكنترول
A79: =(IF($AM$5='بيان ع'!D73,ROW('بيان ع'!73:73)-1,yyyyy)) -> #NAME? | B79: =IFERROR(_xlfn.AGGREGATE(15,6,$A$8:$A$1010,ROW(A72)),"") | C79: ........................................................... | F79: ='بيان ع'!K5 -> 0
A80: =(IF($AM$5='بيان ع'!D74,ROW('بيان ع'!74:74)-1,yyyyy)) -> #NAME? | B80: =IFERROR(_xlfn.AGGREGATE(15,6,$A$8:$A$1010,ROW(A73)),"")
A81: =(IF($AM$5='بيان ع'!D75,ROW('بيان ع'!75:75)-1,yyyyy)) -> #NAME? | B81: =IFERROR(_xlfn.AGGREGATE(15,6,$A$8:$A$1010,ROW(A74)),"")
A82: =(IF($AM$5='بيان ع'!D76,ROW('بيان ع'!76:76)-1,yyyyy)) -> #NAME? | B82: =IFERROR(_xlfn.AGGREGATE(15,6,$A$8:$A$1010,ROW(A75)),"")
A83: =(IF($AM$5='بيان ع'!D77,ROW('بيان ع'!77:77)-1,yyyyy)) -> #NAME? | B83: =IFERROR(_xlfn.AGGREGATE(15,6,$A$8:$A$1010,ROW(A76)),"")
A84: =(IF($AM$5='بيان ع'!D78,ROW('بيان ع'!78:78)-1,yyyyy)) -> #NAME? | B84: =IFERROR(_xlfn.AGGREGATE(15,6,$A$8:$A$1010,ROW(A77)),"")
A85: =(IF($AM$5='بيان ع'!D79,ROW('بيان ع'!79:79)-1,yyyyy)) -> #NAME? | B85: =IFERROR(_xlfn.AGGREGATE(15,6,$A$8:$A$1010,ROW(A78)),"")
A86: =(IF($AM$5='بيان ع'!D80,ROW('بيان ع'!80:80)-1,yyyyy)) -> #NAME? | B86: =IFERROR(_xlfn.AGGREGATE(15,6,$A$8:$A$1010,ROW(A79)),"")
A87: =(IF($AM$5='بيان ع'!D81,ROW('بيان ع'!81:81)-1,yyyyy)) -> #NAME? | B87: =IFERROR(_xlfn.AGGREGATE(15,6,$A$8:$A$1010,ROW(A80)),"")
A88: =(IF($AM$5='بيان ع'!D82,ROW('بيان ع'!82:82)-1,yyyyy)) -> #NAME? | B88: =IFERROR(_xlfn.AGGREGATE(15,6,$A$8:$A$1010,ROW(A81)),"")
A89: =(IF($AM$5='بيان ع'!D83,ROW('بيان ع'!83:83)-1,yyyyy)) -> #NAME? | B89: =IFERROR(_xlfn.AGGREGATE(15,6,$A$8:$A$1010,ROW(A82)),"")
A90: =(IF($AM$5='بيان ع'!D84,ROW('بيان ع'!84:84)-1,yyyyy)) -> #NAME? | B90: =IFERROR(_xlfn.AGGREGATE(15,6,$A$8:$A$1010,ROW(A83)),"")
A91: =(IF($AM$5='بيان ع'!D85,ROW('بيان ع'!85:85)-1,yyyyy)) -> #NAME? | B91: =IFERROR(_xlfn.AGGREGATE(15,6,$A$8:$A$1010,ROW(A84)),"")
A92: =(IF($AM$5='بيان ع'!D86,ROW('بيان ع'!86:86)-1,yyyyy)) -> #NAME? | B92: =IFERROR(_xlfn.AGGREGATE(15,6,$A$8:$A$1010,ROW(A85)),"")
A93: =(IF($AM$5='بيان ع'!D87,ROW('بيان ع'!87:87)-1,yyyyy)) -> #NAME? | B93: =IFERROR(_xlfn.AGGREGATE(15,6,$A$8:$A$1010,ROW(A86)),"")
A94: =(IF($AM$5='بيان ع'!D88,ROW('بيان ع'!88:88)-1,yyyyy)) -> #NAME? | B94: =IFERROR(_xlfn.AGGREGATE(15,6,$A$8:$A$1010,ROW(A87)),"")
A95: =(IF($AM$5='بيان ع'!D89,ROW('بيان ع'!89:89)-1,yyyyy)) -> #NAME? | B95: =IFERROR(_xlfn.AGGREGATE(15,6,$A$8:$A$1010,ROW(A88)),"")
A96: =(IF($AM$5='بيان ع'!D90,ROW('بيان ع'!90:90)-1,yyyyy)) -> #NAME? | B96: =IFERROR(_xlfn.AGGREGATE(15,6,$A$8:$A$1010,ROW(A89)),"")
A97: =(IF($AM$5='بيان ع'!D91,ROW('بيان ع'!91:91)-1,yyyyy)) -> #NAME? | B97: =IFERROR(_xlfn.AGGREGATE(15,6,$A$8:$A$1010,ROW(A90)),"")
A98: =(IF($AM$5='بيان ع'!D92,ROW('بيان ع'!92:92)-1,yyyyy)) -> #NAME? | B98: =IFERROR(_xlfn.AGGREGATE(15,6,$A$8:$A$1010,ROW(A91)),"")
A99: =(IF($AM$5='بيان ع'!D93,ROW('بيان ع'!93:93)-1,yyyyy)) -> #NAME? | B99: =IFERROR(_xlfn.AGGREGATE(15,6,$A$8:$A$1010,ROW(A92)),"")
A100: =(IF($AM$5='بيان ع'!D94,ROW('بيان ع'!94:94)-1,yyyyy)) -> #NAME? | B100: =IFERROR(_xlfn.AGGREGATE(15,6,$A$8:$A$1010,ROW(A93)),"")
...

Sheet الثاني
C1: الأزهر الشريف | AN1: غ | AO1: 1 | AP1: =SUM(AN1:AO1)+SUM(AL1:AM1) -> 1 | AQ1: =AP1/2 -> 0.5 | AR1: مستجد | AS1: معيد | AV1: الثالث الابتدائي | BD1: فصل
C2: منطقة: | D2: ='بيان ع'!K2 -> 0 | K2: كشف تقييم الصف | P2: الثاني الابتدائي | AR2: =COUNTIF(#REF!,AT2) -> #REF! | AS2: =COUNTIF(#REF!,AT3) -> #REF! | AT2: مستجد | AV2: الرابع الابتدائي
C3: إدارة: | D3: ='بيان ع'!K3 -> 0 | M3: مـــــــــادة: | P3: =AM3 -> التربية الإسلامية | Z3: =AM5 -> 1/1 | AC3: =AO5 -> 0 | AL3: اختر المادة | AM3: التربية الإسلامية | AR3: =COUNTIF(#REF!,AT2) -> #REF! | AS3: =COUNTIF(#REF!,AT3) -> #REF! | AT3: معيد | AV3: الخامس الابتدائي | AW3: التربية الإسلامية
C4: معهد: | D4: ='بيان ع'!K4 -> 0 | M4: عام: | N4: ='بيان ع'!K7 -> 2026م/ 2027م | AV4: السادس الابتدائي | AW4: اللغة العربية
C5: جلوس | D5: الاســــم | E5: الشهر الأول | M5: الشهر الثاني | U5: الشهر الثالث | AC5: المتوسط | AJ5: المجموع الكلي | AL5: اختر الفصل | AM5: 1/1 | AW5: الرياضيات
E6: أداء صفي | F6: مهام تحريرية منزلية | G6: أنشطة صفية | H6: تقييم أسبوعي | I6: مهام شفهية | J6: مهام مهارتية | K6: حضور ومواظبة | L6: المجموع | M6: أداء صفي | N6: مهام تحريرية منزلية | O6: أنشطة صفية | P6: تقييم أسبوعي | Q6: مهام شفهية | R6: مهام مهارتية | S6: حضور ومواظبة | T6: المجموع | U6: أداء صفي | V6: مهام تحريرية منزلية | W6: أنشطة صفية | X6: تقييم أسبوعي | Y6: مهام شفهية | Z6: مهام مهارتية | AA6: حضور ومواظبة | AB6: المجموع | AC6: أداء صفي | AD6: مهام تحريرية منزلية | AE6: أنشطة صفية | AF6: تقييم أسبوعي | AG6: مهام شفهية | AH6: مهام مهارتية | AI6: حضور ومواظبة | AW6: الإنجليزي
A7: م | B7: م | E7: 20 | F7: 20 | G7: 20 | H7: 20 | I7: 10 | J7: 5 | K7: 5 | L7: 100 | M7: 20 | N7: 20 | O7: 20 | P7: 20 | Q7: 10 | R7: 5 | S7: 5 | T7: 100 | U7: 20 | V7: 20 | W7: 20 | X7: 20 | Y7: 10 | Z7: 5 | AA7: 5 | AB7: 100 | AC7: 20 | AD7: 20 | AE7: 20 | AF7: 20 | AG7: 10 | AH7: 5 | AI7: 5 | AJ7: 100
A8: =(IF($AM$5='بيان ع'!D2,ROW('بيان ع'!2:2)-1,yyyyy)) -> 1 | B8: =IFERROR(_xlfn.AGGREGATE(15,6,$A$8:$A$1010,ROW(A1)),"") -> 1 | C8: =IFERROR(VLOOKUP(B8,m,2,0),"") -> 0 | D8: =IFERROR(VLOOKUP(B8,m,3,0),"") -> 0
A9: =(IF($AM$5='بيان ع'!D3,ROW('بيان ع'!3:3)-1,yyyyy)) -> #NAME? | B9: =IFERROR(_xlfn.AGGREGATE(15,6,$A$8:$A$1010,ROW(A2)),"") | C9: =IFERROR(VLOOKUP(B9,m,2,0),"") | D9: =IFERROR(VLOOKUP(B9,m,3,0),"")
A10: =(IF($AM$5='بيان ع'!D4,ROW('بيان ع'!4:4)-1,yyyyy)) -> #NAME? | B10: =IFERROR(_xlfn.AGGREGATE(15,6,$A$8:$A$1010,ROW(A3)),"") | C10: =IFERROR(VLOOKUP(B10,m,2,0),"") | D10: =IFERROR(VLOOKUP(B10,m,3,0),"")
A11: =(IF($AM$5='بيان ع'!D5,ROW('بيان ع'!5:5)-1,yyyyy)) -> #NAME? | B11: =IFERROR(_xlfn.AGGREGATE(15,6,$A$8:$A$1010,ROW(A4)),"") | C11: =IFERROR(VLOOKUP(B11,m,2,0),"") | D11: =IFERROR(VLOOKUP(B11,m,3,0),"")
A12: =(IF($AM$5='بيان ع'!D6,ROW('بيان ع'!6:6)-1,yyyyy)) -> #NAME? | B12: =IFERROR(_xlfn.AGGREGATE(15,6,$A$8:$A$1010,ROW(A5)),"") | C12: =IFERROR(VLOOKUP(B12,m,2,0),"") | D12: =IFERROR(VLOOKUP(B12,m,3,0),"")
A13: =(IF($AM$5='بيان ع'!D7,ROW('بيان ع'!7:7)-1,yyyyy)) -> #NAME? | B13: =IFERROR(_xlfn.AGGREGATE(15,6,$A$8:$A$1010,ROW(A6)),"") | C13: =IFERROR(VLOOKUP(B13,m,2,0),"") | D13: =IFERROR(VLOOKUP(B13,m,3,0),"")
A14: =(IF($AM$5='بيان ع'!D8,ROW('بيان ع'!8:8)-1,yyyyy)) -> #NAME? | B14: =IFERROR(_xlfn.AGGREGATE(15,6,$A$8:$A$1010,ROW(A7)),"") | C14: =IFERROR(VLOOKUP(B14,m,2,0),"") | D14: =IFERROR(VLOOKUP(B14,m,3,0),"")
A15: =(IF($AM$5='بيان ع'!D9,ROW('بيان ع'!9:9)-1,yyyyy)) -> #NAME? | B15: =IFERROR(_xlfn.AGGREGATE(15,6,$A$8:$A$1010,ROW(A8)),"") | C15: =IFERROR(VLOOKUP(B15,m,2,0),"") | D15: =IFERROR(VLOOKUP(B15,m,3,0),"")
A16: =(IF($AM$5='بيان ع'!D10,ROW('بيان ع'!10:10)-1,yyyyy)) -> #NAME? | B16: =IFERROR(_xlfn.AGGREGATE(15,6,$A$8:$A$1010,ROW(A9)),"") | C16: =IFERROR(VLOOKUP(B16,m,2,0),"") | D16: =IFERROR(VLOOKUP(B16,m,3,0),"")
A17: =(IF($AM$5='بيان ع'!D11,ROW('بيان ع'!11:11)-1,yyyyy)) -> #NAME? | B17: =IFERROR(_xlfn.AGGREGATE(15,6,$A$8:$A$1010,ROW(A10)),"") | C17: =IFERROR(VLOOKUP(B17,m,2,0),"") | D17: =IFERROR(VLOOKUP(B17,m,3,0),"")
A18: =(IF($AM$5='بيان ع'!D12,ROW('بيان ع'!12:12)-1,yyyyy)) -> #NAME? | B18: =IFERROR(_xlfn.AGGREGATE(15,6,$A$8:$A$1010,ROW(A11)),"") | C18: =IFERROR(VLOOKUP(B18,m,2,0),"") | D18: =IFERROR(VLOOKUP(B18,m,3,0),"")
A19: =(IF($AM$5='بيان ع'!D13,ROW('بيان ع'!13:13)-1,yyyyy)) -> #NAME? | B19: =IFERROR(_xlfn.AGGREGATE(15,6,$A$8:$A$1010,ROW(A12)),"") | C19: =IFERROR(VLOOKUP(B19,m,2,0),"") | D19: =IFERROR(VLOOKUP(B19,m,3,0),"")
A20: =(IF($AM$5='بيان ع'!D14,ROW('بيان ع'!14:14)-1,yyyyy)) -> #NAME? | B20: =IFERROR(_xlfn.AGGREGATE(15,6,$A$8:$A$1010,ROW(A13)),"") | C20: =IFERROR(VLOOKUP(B20,m,2,0),"") | D20: =IFERROR(VLOOKUP(B20,m,3,0),"")
A21: =(IF($AM$5='بيان ع'!D15,ROW('بيان ع'!15:15)-1,yyyyy)) -> #NAME? | B21: =IFERROR(_xlfn.AGGREGATE(15,6,$A$8:$A$1010,ROW(A14)),"") | C21: =IFERROR(VLOOKUP(B21,m,2,0),"") | D21: =IFERROR(VLOOKUP(B21,m,3,0),"")
A22: =(IF($AM$5='بيان ع'!D16,ROW('بيان ع'!16:16)-1,yyyyy)) -> #NAME? | B22: =IFERROR(_xlfn.AGGREGATE(15,6,$A$8:$A$1010,ROW(A15)),"") | C22: =IFERROR(VLOOKUP(B22,m,2,0),"") | D22: =IFERROR(VLOOKUP(B22,m,3,0),"")
A23: =(IF($AM$5='بيان ع'!D17,ROW('بيان ع'!17:17)-1,yyyyy)) -> #NAME? | B23: =IFERROR(_xlfn.AGGREGATE(15,6,$A$8:$A$1010,ROW(A16)),"") | C23: =IFERROR(VLOOKUP(B23,m,2,0),"") | D23: =IFERROR(VLOOKUP(B23,m,3,0),"")
A24: =(IF($AM$5='بيان ع'!D18,ROW('بيان ع'!18:18)-1,yyyyy)) -> #NAME? | B24: =IFERROR(_xlfn.AGGREGATE(15,6,$A$8:$A$1010,ROW(A17)),"") | C24: =IFERROR(VLOOKUP(B24,m,2,0),"") | D24: =IFERROR(VLOOKUP(B24,m,3,0),"")
A25: =(IF($AM$5='بيان ع'!D19,ROW('بيان ع'!19:19)-1,yyyyy)) -> #NAME? | B25: =IFERROR(_xlfn.AGGREGATE(15,6,$A$8:$A$1010,ROW(A18)),"") | C25: =IFERROR(VLOOKUP(B25,m,2,0),"") | D25: =IFERROR(VLOOKUP(B25,m,3,0),"")
A26: =(IF($AM$5='بيان ع'!D20,ROW('بيان ع'!20:20)-1,yyyyy)) -> #NAME? | B26: =IFERROR(_xlfn.AGGREGATE(15,6,$A$8:$A$1010,ROW(A19)),"") | C26: =IFERROR(VLOOKUP(B26,m,2,0),"") | D26: =IFERROR(VLOOKUP(B26,m,3,0),"")
A27: =(IF($AM$5='بيان ع'!D21,ROW('بيان ع'!21:21)-1,yyyyy)) -> #NAME? | B27: =IFERROR(_xlfn.AGGREGATE(15,6,$A$8:$A$1010,ROW(A20)),"") | C27: =IFERROR(VLOOKUP(B27,m,2,0),"") | D27: =IFERROR(VLOOKUP(B27,m,3,0),"")
A28: =(IF($AM$5='بيان ع'!D22,ROW('بيان ع'!22:22)-1,yyyyy)) -> #NAME? | B28: =IFERROR(_xlfn.AGGREGATE(15,6,$A$8:$A$1010,ROW(A21)),"") | C28: =IFERROR(VLOOKUP(B28,m,2,0),"") | D28: =IFERROR(VLOOKUP(B28,m,3,0),"")
A29: =(IF($AM$5='بيان ع'!D23,ROW('بيان ع'!23:23)-1,yyyyy)) -> #NAME? | B29: =IFERROR(_xlfn.AGGREGATE(15,6,$A$8:$A$1010,ROW(A22)),"") | C29: =IFERROR(VLOOKUP(B29,m,2,0),"") | D29: =IFERROR(VLOOKUP(B29,m,3,0),"")
A30: =(IF($AM$5='بيان ع'!D24,ROW('بيان ع'!24:24)-1,yyyyy)) -> #NAME? | B30: =IFERROR(_xlfn.AGGREGATE(15,6,$A$8:$A$1010,ROW(A23)),"") | C30: =IFERROR(VLOOKUP(B30,m,2,0),"") | D30: =IFERROR(VLOOKUP(B30,m,3,0),"")
A31: =(IF($AM$5='بيان ع'!D25,ROW('بيان ع'!25:25)-1,yyyyy)) -> #NAME? | B31: =IFERROR(_xlfn.AGGREGATE(15,6,$A$8:$A$1010,ROW(A24)),"") | C31: =IFERROR(VLOOKUP(B31,m,2,0),"") | D31: =IFERROR(VLOOKUP(B31,m,3,0),"")
A32: =(IF($AM$5='بيان ع'!D26,ROW('بيان ع'!26:26)-1,yyyyy)) -> #NAME? | B32: =IFERROR(_xlfn.AGGREGATE(15,6,$A$8:$A$1010,ROW(A25)),"") | C32: =IFERROR(VLOOKUP(B32,m,2,0),"") | D32: =IFERROR(VLOOKUP(B32,m,3,0),"")
A33: =(IF($AM$5='بيان ع'!D27,ROW('بيان ع'!27:27)-1,yyyyy)) -> #NAME? | B33: =IFERROR(_xlfn.AGGREGATE(15,6,$A$8:$A$1010,ROW(A26)),"") | C33: =IFERROR(VLOOKUP(B33,m,2,0),"") | D33: =IFERROR(VLOOKUP(B33,m,3,0),"")
A34: =(IF($AM$5='بيان ع'!D28,ROW('بيان ع'!28:28)-1,yyyyy)) -> #NAME? | B34: =IFERROR(_xlfn.AGGREGATE(15,6,$A$8:$A$1010,ROW(A27)),"") | C34: =IFERROR(VLOOKUP(B34,m,2,0),"") | D34: =IFERROR(VLOOKUP(B34,m,3,0),"")
A35: =(IF($AM$5='بيان ع'!D29,ROW('بيان ع'!29:29)-1,yyyyy)) -> #NAME? | B35: =IFERROR(_xlfn.AGGREGATE(15,6,$A$8:$A$1010,ROW(A28)),"") | C35: =IFERROR(VLOOKUP(B35,m,2,0),"") | D35: =IFERROR(VLOOKUP(B35,m,3,0),"")
A36: =(IF($AM$5='بيان ع'!D30,ROW('بيان ع'!30:30)-1,yyyyy)) -> #NAME? | B36: =IFERROR(_xlfn.AGGREGATE(15,6,$A$8:$A$1010,ROW(A29)),"") | C36: =IFERROR(VLOOKUP(B36,m,2,0),"") | D36: =IFERROR(VLOOKUP(B36,m,3,0),"")
A37: =(IF($AM$5='بيان ع'!D31,ROW('بيان ع'!31:31)-1,yyyyy)) -> #NAME? | B37: =IFERROR(_xlfn.AGGREGATE(15,6,$A$8:$A$1010,ROW(A30)),"") | C37: =IFERROR(VLOOKUP(B37,m,2,0),"") | D37: =IFERROR(VLOOKUP(B37,m,3,0),"")
A38: =(IF($AM$5='بيان ع'!D32,ROW('بيان ع'!32:32)-1,yyyyy)) -> #NAME? | B38: =IFERROR(_xlfn.AGGREGATE(15,6,$A$8:$A$1010,ROW(A31)),"") | C38: =IFERROR(VLOOKUP(B38,m,2,0),"") | D38: =IFERROR(VLOOKUP(B38,m,3,0),"")
A39: =(IF($AM$5='بيان ع'!D33,ROW('بيان ع'!33:33)-1,yyyyy)) -> #NAME? | B39: =IFERROR(_xlfn.AGGREGATE(15,6,$A$8:$A$1010,ROW(A32)),"") | C39: =IFERROR(VLOOKUP(B39,m,2,0),"") | D39: =IFERROR(VLOOKUP(B39,m,3,0),"")
A40: =(IF($AM$5='بيان ع'!D34,ROW('بيان ع'!34:34)-1,yyyyy)) -> #NAME? | B40: =IFERROR(_xlfn.AGGREGATE(15,6,$A$8:$A$1010,ROW(A33)),"") | C40: =IFERROR(VLOOKUP(B40,m,2,0),"") | D40: =IFERROR(VLOOKUP(B40,m,3,0),"")
A41: =(IF($AM$5='بيان ع'!D35,ROW('بيان ع'!35:35)-1,yyyyy)) -> #NAME? | B41: =IFERROR(_xlfn.AGGREGATE(15,6,$A$8:$A$1010,ROW(A34)),"") | C41: =IFERROR(VLOOKUP(B41,m,2,0),"") | D41: =IFERROR(VLOOKUP(B41,m,3,0),"")
A42: =(IF($AM$5='بيان ع'!D36,ROW('بيان ع'!36:36)-1,yyyyy)) -> #NAME? | B42: =IFERROR(_xlfn.AGGREGATE(15,6,$A$8:$A$1010,ROW(A35)),"") | C42: =IFERROR(VLOOKUP(B42,m,2,0),"") | D42: =IFERROR(VLOOKUP(B42,m,3,0),"")
A43: =(IF($AM$5='بيان ع'!D37,ROW('بيان ع'!37:37)-1,yyyyy)) -> #NAME? | B43: =IFERROR(_xlfn.AGGREGATE(15,6,$A$8:$A$1010,ROW(A36)),"") | C43: =IFERROR(VLOOKUP(B43,m,2,0),"") | D43: =IFERROR(VLOOKUP(B43,m,3,0),"")
A44: =(IF($AM$5='بيان ع'!D38,ROW('بيان ع'!38:38)-1,yyyyy)) -> #NAME? | B44: =IFERROR(_xlfn.AGGREGATE(15,6,$A$8:$A$1010,ROW(A37)),"") | C44: =IFERROR(VLOOKUP(B44,m,2,0),"") | D44: =IFERROR(VLOOKUP(B44,m,3,0),"")
A45: =(IF($AM$5='بيان ع'!D39,ROW('بيان ع'!39:39)-1,yyyyy)) -> #NAME? | B45: =IFERROR(_xlfn.AGGREGATE(15,6,$A$8:$A$1010,ROW(A38)),"") | C45: =IFERROR(VLOOKUP(B45,m,2,0),"") | D45: =IFERROR(VLOOKUP(B45,m,3,0),"")
A46: =(IF($AM$5='بيان ع'!D40,ROW('بيان ع'!40:40)-1,yyyyy)) -> #NAME? | B46: =IFERROR(_xlfn.AGGREGATE(15,6,$A$8:$A$1010,ROW(A39)),"") | C46: =IFERROR(VLOOKUP(B46,m,2,0),"") | D46: =IFERROR(VLOOKUP(B46,m,3,0),"")
A47: =(IF($AM$5='بيان ع'!D41,ROW('بيان ع'!41:41)-1,yyyyy)) -> #NAME? | B47: =IFERROR(_xlfn.AGGREGATE(15,6,$A$8:$A$1010,ROW(A40)),"") | C47: =IFERROR(VLOOKUP(B47,m,2,0),"") | D47: =IFERROR(VLOOKUP(B47,m,3,0),"")
A48: =(IF($AM$5='بيان ع'!D42,ROW('بيان ع'!42:42)-1,yyyyy)) -> #NAME? | B48: =IFERROR(_xlfn.AGGREGATE(15,6,$A$8:$A$1010,ROW(A41)),"") | C48: =IFERROR(VLOOKUP(B48,m,2,0),"") | D48: =IFERROR(VLOOKUP(B48,m,3,0),"")
A49: =(IF($AM$5='بيان ع'!D43,ROW('بيان ع'!43:43)-1,yyyyy)) -> #NAME? | B49: =IFERROR(_xlfn.AGGREGATE(15,6,$A$8:$A$1010,ROW(A42)),"") | C49: =IFERROR(VLOOKUP(B49,m,2,0),"") | D49: =IFERROR(VLOOKUP(B49,m,3,0),"")
A50: =(IF($AM$5='بيان ع'!D44,ROW('بيان ع'!44:44)-1,yyyyy)) -> #NAME? | B50: =IFERROR(_xlfn.AGGREGATE(15,6,$A$8:$A$1010,ROW(A43)),"") | C50: =IFERROR(VLOOKUP(B50,m,2,0),"") | D50: =IFERROR(VLOOKUP(B50,m,3,0),"")
A51: =(IF($AM$5='بيان ع'!D45,ROW('بيان ع'!45:45)-1,yyyyy)) -> #NAME? | B51: =IFERROR(_xlfn.AGGREGATE(15,6,$A$8:$A$1010,ROW(A44)),"") | C51: =IFERROR(VLOOKUP(B51,m,2,0),"") | D51: =IFERROR(VLOOKUP(B51,m,3,0),"")
A52: =(IF($AM$5='بيان ع'!D46,ROW('بيان ع'!46:46)-1,yyyyy)) -> #NAME? | B52: =IFERROR(_xlfn.AGGREGATE(15,6,$A$8:$A$1010,ROW(A45)),"") | C52: =IFERROR(VLOOKUP(B52,m,2,0),"") | D52: =IFERROR(VLOOKUP(B52,m,3,0),"")
A53: =(IF($AM$5='بيان ع'!D47,ROW('بيان ع'!47:47)-1,yyyyy)) -> #NAME? | B53: =IFERROR(_xlfn.AGGREGATE(15,6,$A$8:$A$1010,ROW(A46)),"") | C53: =IFERROR(VLOOKUP(B53,m,2,0),"") | D53: =IFERROR(VLOOKUP(B53,m,3,0),"")
A54: =(IF($AM$5='بيان ع'!D48,ROW('بيان ع'!48:48)-1,yyyyy)) -> #NAME? | B54: =IFERROR(_xlfn.AGGREGATE(15,6,$A$8:$A$1010,ROW(A47)),"") | C54: =IFERROR(VLOOKUP(B54,m,2,0),"") | D54: =IFERROR(VLOOKUP(B54,m,3,0),"")
A55: =(IF($AM$5='بيان ع'!D49,ROW('بيان ع'!49:49)-1,yyyyy)) -> #NAME? | B55: =IFERROR(_xlfn.AGGREGATE(15,6,$A$8:$A$1010,ROW(A48)),"") | C55: =IFERROR(VLOOKUP(B55,m,2,0),"") | D55: =IFERROR(VLOOKUP(B55,m,3,0),"")
A56: =(IF($AM$5='بيان ع'!D50,ROW('بيان ع'!50:50)-1,yyyyy)) -> #NAME? | B56: =IFERROR(_xlfn.AGGREGATE(15,6,$A$8:$A$1010,ROW(A49)),"") | C56: =IFERROR(VLOOKUP(B56,m,2,0),"") | D56: =IFERROR(VLOOKUP(B56,m,3,0),"")
A57: =(IF($AM$5='بيان ع'!D51,ROW('بيان ع'!51:51)-1,yyyyy)) -> #NAME? | B57: =IFERROR(_xlfn.AGGREGATE(15,6,$A$8:$A$1010,ROW(A50)),"") | C57: =IFERROR(VLOOKUP(B57,m,2,0),"") | D57: =IFERROR(VLOOKUP(B57,m,3,0),"")
A58: =(IF($AM$5='بيان ع'!D52,ROW('بيان ع'!52:52)-1,yyyyy)) -> #NAME? | B58: =IFERROR(_xlfn.AGGREGATE(15,6,$A$8:$A$1010,ROW(A51)),"") | C58: =IFERROR(VLOOKUP(B58,m,2,0),"") | D58: =IFERROR(VLOOKUP(B58,m,3,0),"")
A59: =(IF($AM$5='بيان ع'!D53,ROW('بيان ع'!53:53)-1,yyyyy)) -> #NAME? | B59: =IFERROR(_xlfn.AGGREGATE(15,6,$A$8:$A$1010,ROW(A52)),"") | C59: =IFERROR(VLOOKUP(B59,m,2,0),"") | D59: =IFERROR(VLOOKUP(B59,m,3,0),"")
A60: =(IF($AM$5='بيان ع'!D54,ROW('بيان ع'!54:54)-1,yyyyy)) -> #NAME? | B60: =IFERROR(_xlfn.AGGREGATE(15,6,$A$8:$A$1010,ROW(A53)),"") | C60: =IFERROR(VLOOKUP(B60,m,2,0),"") | D60: =IFERROR(VLOOKUP(B60,m,3,0),"")
